BEGIN:VCALENDAR
VERSION:2.0
PRODID:-//https://techplay.jp//JP
CALSCALE:GREGORIAN
METHOD:PUBLISH
X-WR-CALDESC:Treasure Data Open Office Day - Product Manager / Product Mark
 eting Manager / UX Designer
X-WR-CALNAME:Treasure Data Open Office Day - Product Manager / Product Mark
 eting Manager / UX Designer
X-WR-TIMEZONE:Asia/Tokyo
BEGIN:VTIMEZONE
TZID:Asia/Tokyo
BEGIN:STANDARD
DTSTART:19700101T000000
TZOFFSETFROM:+0900
TZOFFSETTO:+0900
TZNAME:JST
END:STANDARD
END:VTIMEZONE
BEGIN:VEVENT
UID:983348@techplay.jp
SUMMARY:Treasure Data Open Office Day - Product Manager / Product Marketing
  Manager / UX Designer
DTSTART;TZID=Asia/Tokyo:20250729T190000
DTEND;TZID=Asia/Tokyo:20250729T210000
DTSTAMP:20260425T014529Z
CREATED:20250704T014306Z
DESCRIPTION:イベント詳細はこちら\nhttps://techplay.jp/event/98334
 8?utm_medium=referral&utm_source=ics&utm_campaign=ics\n\n🚀 Exciting ne
 ws for Product Professionals in Tokyo !\n​この度、トレジャー
 データでは「Treasure Data Open Office Day」を開催すること
 になりました！本イベントは、弊社のグローバルリー
 ダー陣と直接交流し、プロダクトイノベーションの未
 来について深く掘り下げるまたとない機会です。\n\n​
 We're thrilled to announce our Treasure Data Open Office Day! This is you
 r unique chance to connect directly with our global leadership and dive d
 eep into the future of product innovation.\n​​Time Table 時間割\n\
 n​19:00 Event Start\n​19:00-19:10 Company Introduction\n​19:10-19:4
 0 Product Talk (Product x AI\, Product Career)\n​19:40-19:50 Treasure D
 ata Recruitment Info\n​19:50-20:30 Networking (with Refreshments 🍕
 🍺)\n\n​​What's this about?　イベント概要\n\n​グローバ
 ルリーダーによるインサイト共有\n\n​CPO (Chief Product Of
 ficer) の​Rafa Flores\n​米国より来日する VP of Product の 
 ​Kristen Zhou\, 上記2名が、グローバルな視点からのイン
 サイトを共有します。\n\n\n​ネットワーキングの機会\
 n\n​日本で活躍する優秀なバイリンガルのプロダクト
 プロフェッショナルと交流し、知識を深めることがで
 きます。\n​人脈を広げ、同業者から学びましょう！\n
 \n\n​キャリアアップ\n\n​グローバルテック企業での
 働き方に興味はありませんか？トレジャーデータでの
 キャリアパス、特にプロダクトマネージャー、プロダ
 クトマーケティングマネージャー、UXデザイナーの職
 種について詳しくご紹介します。\n\n\n\n\n\n​Global Insigh
 ts Sharing from\n\n​Rafa Flores\, our Chief Product Officer (CPO)\n​K
 risten Zhou\, VP of Product\, flying in from the U.S.\n\n\n​Networking 
 Opportunities\n\n​Network and exchange knowledge with talented bilingua
 l product professionals right here in Japan.\n​Expand your connections 
 and learn from peers!\n\n\n​Career Growth\n\n​Curious about working a
 t a global tech company? We'll be discussing career paths within Treasure
  Data\, specifically for Product Managers\, Product Marketing Managers\, 
 and UX Designers.\n\n\n\n\n​Date/Venue 日時・場所\n\n​Date: July
  29th 19:00-21:00 (18:30 Doors Open)\n​Place: Azabudai Hills 27F Treasu
 re Data Office\n​Language: English (Primarily) and Japanese\n\n\n\n​
 日時: 7月29日 19:00-21:00（18:30開場）\n​場所: 麻布台ヒ
 ルズ 27F トレジャーデータ オフィス\n​使用言語: 英語
 （メイン）および日本語\n\n​​Who Should Attend?　こんな
 人におすすめ！\n\n​Product Manager\n​Product Marketing Manager
 \n​UX Designer\n
LOCATION:麻布台ヒルズオフィス 東京都港区麻布台1-3-1 麻
 布台ヒルズ森JPタワー27階
URL:https://techplay.jp/event/983348?utm_medium=referral&utm_source=ics&utm
 _campaign=ics
END:VEVENT
END:VCALENDAR
