BEGIN:VCALENDAR
VERSION:2.0
PRODID:-//https://techplay.jp//JP
CALSCALE:GREGORIAN
METHOD:PUBLISH
X-WR-CALDESC:キャンペーンの効果は景品で変わる！ 応募数
 アップにつながる選び方と"知らなきゃ怖い"ポイント
X-WR-CALNAME:キャンペーンの効果は景品で変わる！ 応募数
 アップにつながる選び方と"知らなきゃ怖い"ポイント
X-WR-TIMEZONE:Asia/Tokyo
BEGIN:VTIMEZONE
TZID:Asia/Tokyo
BEGIN:STANDARD
DTSTART:19700101T000000
TZOFFSETFROM:+0900
TZOFFSETTO:+0900
TZNAME:JST
END:STANDARD
END:VTIMEZONE
BEGIN:VEVENT
UID:983349@techplay.jp
SUMMARY:キャンペーンの効果は景品で変わる！ 応募数アッ
 プにつながる選び方と"知らなきゃ怖い"ポイント
DTSTART;TZID=Asia/Tokyo:20250729T110000
DTEND;TZID=Asia/Tokyo:20250729T114000
DTSTAMP:20260420T024406Z
CREATED:20250704T023428Z
DESCRIPTION:イベント詳細はこちら\nhttps://techplay.jp/event/98334
 9?utm_medium=referral&utm_source=ics&utm_campaign=ics\n\n🎁プレゼン
 トキャンペーンの景品選びに悩んでいませんか？\n“
 いかに魅力的な景品を選定できるか“がキャンペーン
 の応募数に影響します。キャンペーンにおいて景品の
 役割はターゲットの「興味喚起」を生み出し、キャン
 ペーンに応募をするという「行動変容」を起こさない
 といけません。「なんとなく」ではなく、最低限ポイ
 ントを理解して景品選定をすることは、キャンペーン
 効果を最大化する重要な工程です。本セミナーでは、
 実際の他社事例・景品に対する消費者意識データを交
 えて、適切な景品選びのポイントを解説いたします！\
 n■こんな方におすすめ！\n\n\nキャンペーンの応募数を
 増やしたい\n\n\n「なんとなく」で景品を選んでいる\n\n
 \n他社キャンペーンの景品事例を参考にしたい\n\n\n■
 講演内容\n\n\nキャンペーン景品の重要性とは\n\n\n事例
 をもとに、人気景品ジャンルを紹介\n\n\n景品表示法、
 知らない間に違反してませんか？\n\n\n景品選びの重要
 な4つのポイント\n\n\n■開催日時 ※3日程同内容です\n\n
 \n2025年7月29日(火) 11：00～11：40\n\n\n2025年7月30日(水) 14
 ：00～14：40\n\n\n2025年7月31日(木) 15：00～15：40\n\n\n■参
 加特典\n\n\n見逃し配信：お申込者全員にお送りいたし
 ます。上記日程でご都合が合わない方も是非お申し込
 みください。\n\n\nセミナー投影資料：終了後のアンケ
 ート回答者限定で配布しております。景品人気ランキ
 ングや事例を含む景品選定にお役立ていただける資料
 です。\n\n\n■視聴に関して\n\n無料・オンライン開催　
 /　お申込みいただきました方へ視聴用URLを送付いたし
 ます。\n\n　※同業他社さまのご参加はお断りさせてい
 ただく場合がございます。
LOCATION:
URL:https://techplay.jp/event/983349?utm_medium=referral&utm_source=ics&utm
 _campaign=ics
END:VEVENT
END:VCALENDAR
