BEGIN:VCALENDAR
VERSION:2.0
PRODID:-//https://techplay.jp//JP
CALSCALE:GREGORIAN
METHOD:PUBLISH
X-WR-CALDESC:手が届くところまで来た！ロボット開発とAIの
 今とこれから
X-WR-CALNAME:手が届くところまで来た！ロボット開発とAIの
 今とこれから
X-WR-TIMEZONE:Asia/Tokyo
BEGIN:VTIMEZONE
TZID:Asia/Tokyo
BEGIN:STANDARD
DTSTART:19700101T000000
TZOFFSETFROM:+0900
TZOFFSETTO:+0900
TZNAME:JST
END:STANDARD
END:VTIMEZONE
BEGIN:VEVENT
UID:983488@techplay.jp
SUMMARY:手が届くところまで来た！ロボット開発とAIの今
 とこれから
DTSTART;TZID=Asia/Tokyo:20250806T193000
DTEND;TZID=Asia/Tokyo:20250806T210000
DTSTAMP:20260423T220406Z
CREATED:20250708T013100Z
DESCRIPTION:イベント詳細はこちら\nhttps://techplay.jp/event/98348
 8?utm_medium=referral&utm_source=ics&utm_campaign=ics\n\n手が届くと
 ころまで来た！ロボット開発とAIの今とこれから\n概要
 \n4月に開催された「生成AIなんでも展示会 Vol.3」は約88
 0名もの方にお申し込みいただき、当日の会場も大盛況
 。LT会にもたくさんの方々が熱心に耳を傾けていまし
 た。出展者の方をお招きして技術の深掘りや裏話を聞
 くスピンオフイベントも、毎度ご好評をいただいてい
 ます。\n今回は「ロボットの強化学習」というテーマ
 で展示会に出展され、驚異的なスピードでAI関連の情
 報発信もされている@npaka123こと布留川英一さんをお招
 きして、「ロボットとAIの今とこれから」というテー
 マでお話をいただきます。\nロボット開発というと「
 高度な専門知識が必要では？」「お金がかかる、一体
 何百万円もするのでは？」と心配になりますが、Hugging
  FaceからリリースされたLeRobotというオープンソースラ
 イブラリと、4万円程度で購入できるSO-100、SO-101という
 ロボットアームが発売されたことで、一気に私たちに
 も手が届くものになりました。\nそんなロボットとAIが
 今までどんな道を辿り、今どんなことができて、これ
 からどうなると予想されているのか。まだロボット開
 発に触れたことがない方にも分かりやすく、布留川さ
 んからお話をいただきます。専門的な知識がなくても
 お楽しみいただけますので、ぜひお気軽にご参加くだ
 さい。\n後半はsaldraさん（@sald_ra）、ようさん（@ayousanz
 ）にご参加いただき、開発や展示の裏話やロボットとA
 Iのこれからについてディスカッションしていただきま
 す。\n皆様がロボットを身近に感じ、触れてみるきっ
 かけにしていただけたら嬉しいです。\n4回目の開催と
 なる生成AIなんでも展示会 Vol.4もお申し込み受付中で
 す。ぜひよろしくお願いいたします。\n布留川さんのno
 teより\nSO-101 入門 (1) - キットの入手LeRobot による ホッ
 ケーロボのデータセットの作成Reachy Mini の概要\nタイ
 ムスケジュール\n\n\n\n時間\n内容\n\n\n\n\n19:30〜19:35\nオ
 ープニング\n\n\n19:35〜20:30\n手が届くところまで来た！
 ロボット開発とAIの今とこれから布留川英一さん\n\n\n20
 :30〜20:55\nディスカッション・質疑応答布留川さんsaldra
 さん　ようさん\n\n\n20:55〜21:00\nクロージング・お知ら
 せ\n\n\n\n※ 当日予告なく時間配分・内容が変更になる
 可能性がございます。\n登壇者\n\n布留川英一さん\nX: @n
 paka123note: https://note.com/npaka\nAIとロボットの最新情報を
 追うのが趣味。10年早いくらいの新技術が好き。学生
 時代から技術記事を雑誌投稿しながら同人アプリを作
 っていた。その流れで、最新技術がでたらすぐに本を
 書いて、それを活用するプロジェクトに呼ばれては仕
 事として請け負うを繰り返している。\n\n\n\nsaldraさん\n
 x: @sald_ra著書：「AI Tuberを作ってみたら生成AIプログラ
 ミングがよくわかった件」（日経BP）「AITuberを作って
 みたらプロンプトエンジニアリングがよくわかった件
 」（日経BP）\n1998年東京生まれ。エンジニアであり、AI
 キャラクターを配信する「AITuber」の開発に従事。現在
 は生成AIに関するイベントを主催し、「ローカルLLMに
 向き合う会」などのLLMコミュニティの運営や登壇を継
 続的に行っている。\n\n\n\nようさん\nX: @ayousanz\nゲーム
 会社でUnityエンジニアとしてゲーム開発に従事。 個人
 活動として、 AIキャラクターの開発や日本語TTSモデル
 学習にも注力しています。\nゲーム開発で培った技術
 とAIの知見を組み合わせ、新しいエンターテイメント
 体験を探求しています。\n\n参加費\n無料\n注意事項\n\n
 リクルーティング、勧誘など、採用目的でのイベント
 参加はお断りしております。\nキャンセル待ち・補欠
 ・落選の方はご参加いただくことが出来ませんのでご
 了承ください。\n欠席される場合は、お手数ですが速
 やかにキャンセル処理をお願い致します。\n無断キャ
 ンセルや欠席が続く場合、次回以降の参加をお断りさ
 せていただく場合がございます。\n
LOCATION:
URL:https://techplay.jp/event/983488?utm_medium=referral&utm_source=ics&utm
 _campaign=ics
END:VEVENT
END:VCALENDAR
