BEGIN:VCALENDAR
VERSION:2.0
PRODID:-//https://techplay.jp//JP
CALSCALE:GREGORIAN
METHOD:PUBLISH
X-WR-CALDESC:生成AIで業務が変わる！ビジネス拡大に導く最
 新AI活用＆DX入門
X-WR-CALNAME:生成AIで業務が変わる！ビジネス拡大に導く最
 新AI活用＆DX入門
X-WR-TIMEZONE:Asia/Tokyo
BEGIN:VTIMEZONE
TZID:Asia/Tokyo
BEGIN:STANDARD
DTSTART:19700101T000000
TZOFFSETFROM:+0900
TZOFFSETTO:+0900
TZNAME:JST
END:STANDARD
END:VTIMEZONE
BEGIN:VEVENT
UID:983502@techplay.jp
SUMMARY:生成AIで業務が変わる！ビジネス拡大に導く最新AI
 活用＆DX入門
DTSTART;TZID=Asia/Tokyo:20250731T150000
DTEND;TZID=Asia/Tokyo:20250731T160000
DTSTAMP:20260420T123626Z
CREATED:20250708T052638Z
DESCRIPTION:イベント詳細はこちら\nhttps://techplay.jp/event/98350
 2?utm_medium=referral&utm_source=ics&utm_campaign=ics\n\n生成AIで業
 務が変わる！ビジネス拡大に導く最新AI活用＆DX入門\n
 ＼大好評につき第3回開催！／16万人超のフォロワーを
 持つ**AIインフルエンサー「チャエン氏」**が登壇！今
 注目の「生成AI」をビジネスでどう使うか？わかりや
 すく・実践的に解説します。2025年5月Google主催の「Googl
 e I/O」で発表された最新AIツールや機能の解説に加え、
 セミナー後半ではDXツールによるビジネス拡大にむけ
 た活用方法についてもご説明をさせていただきます。
  さらに、セミナー後のアンケート回答者特典として**
 「実践で使えるプロンプト100選」と「生成AI導入の教
 科書」**をプレゼント。生成AIの使い方に不安がある方
 でも、このプロンプト集をコピー＆ペーストするだけ
 で、明日から業務に活用できます。\n◆こんな方にお
 すすめ！\n・日々の業務をもっと効率化したいと感じ
 ている経営者・事業責任者の方・AIやDXツールに関心は
 あるが、なかなか一歩を踏み出せていない方・人手不
 足や業務の属人化など、現場の課題を感じている方・
 生成AIや最新DXツールが「実際にどう使えるのか？」を
 具体的に知りたい方\n◆セミナーで学べること\n・今話
 題の「生成AI」って、何ができるの？どう変わる？・
 中小企業が実際にAIを導入してうまくいっているリア
 ルな事例・2025年5月の「Google I/O」で発表された最新AI
 ツールや機能を、ビジネス目線で解説・AIと合わせて
 活用したい！最新DXツールのご紹介 ぜひ本ウェビナー
 に参加して、ビジネス拡大のためのAI/DXツールの活用
 方法のヒントをお持ち帰りください。 ■参加特典セ
 ミナー終了後にアンケートにご回答いただいた方には*
 *「実践で使えるプロンプト100選」と「生成AI導入の教
 科書」**を無料プレゼントいたします！\n登壇者\n\n茶
 圓 将裕\n株式会社デジライズ 代表取締役\n\n学生時代
 に英語圏での1年間の留学後、上海にて日系人事コンサ
 ル会社にて法人営業に従事。延べ100社以上の人事評価
 制度構築に携わる。日本に帰国後はSNSマーケティング
 事業の会社を起業。2022年には世界初の食べて稼げるeat
  to earn NFTゲーム「Eatnsmile」をスペインにて共同創業。\
 n帰国後はAIチャットボット「AideX」、AI語学学習ツール
 「AI会話」などAI関連サービスを複数開発。現在はX等
 でAI情報発信を行い(フォロワー16万人以上)、AI専門家
 として多くのメディアにも出演。\nGMO AI & Web3株式会社
 顧問、一般社団法人生成AI活用普及協会評議員を務め
 ながら、2023年に法人向けAI研修、及び企業向けChatGPTを
 開発する「株式会社デジライズ」を立ち上げ代表取締
 役に就任。NewsPicksプロピッカーも兼任。\n\n\n佐野 麻優
 佳\n株式会社クリーク・アンド・リバー社\n2014年にク
 リーク·アンド·リバー社に入社し、クリエイティブ分
 野における人材派遣・紹介事業の営業を担当。\n2017年
 にはデジタルマーケティング分野の営業部門に異動し
 、人材派遣営業を行いながら、プロジェクトマネージ
 ャーと連携して同分野における業務支援の提案活動も
 手掛ける。\n2024年からは同事業部のインサイドセール
 ス部門の立ち上げに参画し、Enterprise企業向けのBDRを担
 当。\n\n参加対象者\n・日々の業務をもっと効率化した
 いと感じている経営者・事業責任者の方・AIやDXツール
 に関心はあるが、なかなか一歩を踏み出せていない方
 ・人手不足や業務の属人化など、現場の課題を感じて
 いる方・生成AIや最新DXツールが「実際にどう使えるの
 か？」を具体的に知りたい方\n参加費\n無料\n参加特典\
 n終了後にアンケートにご回答いただいた方には**「実
 践で使えるプロンプト100選」と「生成AI導入の教科書
 」**を無料プレゼントいたします！
LOCATION:
URL:https://techplay.jp/event/983502?utm_medium=referral&utm_source=ics&utm
 _campaign=ics
END:VEVENT
END:VCALENDAR
