BEGIN:VCALENDAR
VERSION:2.0
PRODID:-//https://techplay.jp//JP
CALSCALE:GREGORIAN
METHOD:PUBLISH
X-WR-CALDESC:【定員5人】AIに慣れる！ >> AIを活用したキー
 ワード幅だし(方法) × Google広告 × GA4で効果測定｜これ
 から始める「AI起点の広告戦略設計」検索×高精度ター
 ゲティング×意思決定を支える設計図
X-WR-CALNAME:【定員5人】AIに慣れる！ >> AIを活用したキー
 ワード幅だし(方法) × Google広告 × GA4で効果測定｜これ
 から始める「AI起点の広告戦略設計」検索×高精度ター
 ゲティング×意思決定を支える設計図
X-WR-TIMEZONE:Asia/Tokyo
BEGIN:VTIMEZONE
TZID:Asia/Tokyo
BEGIN:STANDARD
DTSTART:19700101T000000
TZOFFSETFROM:+0900
TZOFFSETTO:+0900
TZNAME:JST
END:STANDARD
END:VTIMEZONE
BEGIN:VEVENT
UID:983672@techplay.jp
SUMMARY:【定員5人】AIに慣れる！ >> AIを活用したキーワー
 ド幅だし(方法) × Google広告 × GA4で効果測定｜これから
 始める「AI起点の広告戦略設計」検索×高精度ターゲテ
 ィング×意思決定を支える設計図
DTSTART;TZID=Asia/Tokyo:20250724T140000
DTEND;TZID=Asia/Tokyo:20250724T150000
DTSTAMP:20260424T131709Z
CREATED:20250710T095324Z
DESCRIPTION:イベント詳細はこちら\nhttps://techplay.jp/event/98367
 2?utm_medium=referral&utm_source=ics&utm_campaign=ics\n\nAIに慣れる
 ！ >> AIを活用したキーワード幅だし(方法) × Google広告 
 × GA4で効果測定\nこれから始める「AI起点の広告戦略設
 計」\n検索×高精度ターゲティング×意思決定を支える
 設計図\n“検索”を成果につなげる──AI時代の設計力
 が差を生む構想・設計・評価──戦略としての広告運
 用を実現するには？\n\n\n7月24日(木) 14:00～15:00\n\nもっ
 と早く受講されたい方へ: 次の日程でも開催します\n\n7
 月17日(木) 14:00～15:00 お申し込みなど詳しくは こちら\n
 \n\n\n\n\n初心者にも分かりやすく－人気の「これから始
 める」シリーズの講師が解説\n\n受講者の声一例(アン
 ケート結果を引用)\n\n＝＝＝＝＝＝＝＝＝＝＝” AIを
 使いながら作業できればと思い参加させて頂きました
 。早速プロンプトを利用させて頂き、次回に活かして
 いきたいと思います。特に拡張機能を使ったことがな
 かったので良い学びになりました。講師のお話はとて
 も分かりやすいため、また参加させて頂きます ”＝＝
 ＝＝＝＝＝＝＝＝＝\n\n「これから始める」シリーズ\n\
 nこれから始める組み合わせ戦略\nこれから始める研修
 体験\nこれから始める課題解決\nこれから始める『新・
 最強』の組み合わせ戦略\nこれから始める「分析体制
 構築」\n\n\n講師が取材され記事になりました\n\n第2弾 I
 Tカテゴリ RANKING１位(昨年10/11 17:30現在) Bing、なぜか今
 、シェア伸長の理由…検索エンジン市場でヤフーを上
 回り2位 << 検索エンジンのシェア争いがAIをめぐる競争
 に\n第1弾 X社が分析：フォロワー数に関係なくバズり
 可能、入口は1300リツイート\n\n\n\n\n\n弊社のホールディ
 ング会社 グロースエクスパートナーズ株式会社が東京
 証券取引所グロース市場に昨年9/26上場しました\n\n詳
 しくは こちら\n\n皆さまから弊社をご信頼頂ける一要
 因になるかもしれないと思い お伝えさせて頂きます\n\
 n\n弊社グループについて(事業計画及び成長可能性)\n\n7
 /15発表: グロースエクスパートナーズとフォルシア、 
 革新的な検索体験の創出を目指して業務提携を開始 - 
 検索×AIの共創による、エンタープライズDXの高度化を
 推進\n7/11発表: 株式会社GxP、Microsoft Surface Copilot+ PC 開
 発パートナーとして連携を開始 エンタープライズ向け
 オンデバイスAIソリューションを展開(株式会社GxPが、N
 PU上でCopilotが稼働する企業独自のオフラインAIアプリ
 を開発)\n6/10発表: フランス発エンジニア養成機関42 Toky
 oの支援を開始\n5/16発表: インドKerala州に子会社設立「G
 xP Technologies India Pvt. Ltd.」\n\n\n弊社プロダクト一例\n\n4/
 9発表: AI駆動型リサーチサービス「GxRaptor」発表のお知
 らせ\n4/22発表: 「Retool」製品紹介サイトリニューアル >
 > 業務アプリケーションを、速く・柔軟に、現場でつ
 くる。\n\nFacebookページ >> Retoolオフィシャルパートナー
  株式会社GxP\n\n\nエクスペリエンス改善を加速する「ク
 アルトリクス」\n商品情報を一元管理「Contentserv」\nア
 プリケーション資産を一括解析する「X-Analysis」\n\n\n\n\
 n\n▼検索広告は“設定するもの”から“設計するもの
 ”へ──\n広告施策が複雑化する中、AIの登場により設
 計精度と意思決定の在り方が変わり始めています。こ
 のセミナーでは、高精度ターゲティングを実現する“
 設計図”の描き方と、それを検索広告で どう展開する
 かを、組織導入などに使える形で整理して お伝えしま
 す。\n▼こんな方に おすすめです\n\n広告の設計やター
 ゲティングが属人的で再現性がない\nAIや自動化ツール
 導入後の“使いこなし”に課題を感じている\n社内の
 意思決定を支える広告設計フレームがほしい\n単なる
 運用ではなく、戦略・改善の“仕組み化”を考えてい
 る\n検索広告を使った本質的なターゲティング設計に
 取り組みたい\n\n▼セミナーの概要\n\n「検索」は どう
 進化しているか？──AI普及と行動多様化の影響\n高精
 度ターゲティングを生む「構造」のつくり方\n広告を
 “育てる”とは？──一度出して終わりでない戦略設
 計\n意思決定を支える「評価指標」と「判断軸」のつ
 くり方\n社内で展開しやすい“再現性のある設計フレ
 ーム”とは\n\n▼このセミナーで得られるもの\n\nAIと検
 索広告をどう設計視点で組み合わせるかの実例\n検索
 ニーズの多様化を捉え、成果につなげるターゲティン
 グ視点\n説得力ある広告設計を支える「構造と共通言
 語」\n実務者だけでなく社内関係者の巻き込みまで考
 えた仕組み化の視座\n\n▼開催概要\n\n開催日時\n\n2025年
 7月24日(木) 14:00～15:00\nもっと早く受講されたい方へ: 
 次の日程でも開催します\n\n7月17日(木) 14:00～15:00 お申
 し込みなど詳しくは こちら\n\n\n\n\n\n・参加費無料\n・
 開催方法ウェビナー(オンラインセミナー)　※Zoomを利
 用します\n・参加方法お申し込み後にメールで ご案内
 致します\n▼タイムスケジュール\n\n\n\n時間\n内容\n\n\n\
 n\n13:50〜\n受付開始(視聴用URL開場)\n\n\n14:00〜14:45\nセミ
 ナー本編\n\n\n14:45〜15:00\n質疑応答(質問がなくなり次第
 終了)、また説明が分かりやすかったか？など直感的な
 印象などをアンケートさせて頂きます。\n\n\n\n※ 当日
 予告なく時間配分・内容が変更になる可能性がござい
 ます\n▼講師紹介\n\n澤井 貞夫\n(株)GxPマーケター兼コ
 ンテンツ ディレクター\n\n人気の「これから始める」
 シリーズの講師\n\nこれから始める組み合わせ戦略\nこ
 れから始める研修体験\nこれから始める課題解決\nこれ
 から始める『新・最強』の組み合わせ戦略\nこれから
 始める「分析体制構築」\n\n\n\n・通販 EC の経験を経て
 、スマホ[アプリ]/モバイルや PC 向けコンテンツのディ
 レクションおよびマーケティングの経験 多数。\n・企
 画立案から要件定義、そして進捗管理からプロジェク
 トの収益化までをトータルで対応。\n\n\n講師が取材さ
 れ記事になりました\n\n第2弾 ITカテゴリ RANKING１位(昨
 年10/11 17:30現在) Bing、なぜか今、シェア伸長の理由…
 検索エンジン市場でヤフーを上回り2位 << 検索エンジ
 ンのシェア争いがAIをめぐる競争に\n第1弾 X社が分析：
 フォロワー数に関係なくバズり可能、入口は1300リツイ
 ート\n\n\n\n▼参加費\n無料―――――うまくいかない時
 こそ、変わるチャンス。「いま」が、AIと始める一番
 のタイミングです。\n▼課題や立場に応じて選べる「
 これから始める」シリーズも併催中\n\n自社に合った施
 策が知りたいという方へ\n\n7/14(月)～25(金)で ご希望日
 時をご指定→GA4 × AI × SEO/LLMO × サーチコンソール × Go
 ogle広告など「31の切り口」から“今の自社に最適な組
 み合わせ”を選び抜く｜これから始める課題解決(各回
  無料1社限定)\n7/28(月)～8/8(金) お申し込みなど詳しく
 は こちら\n\n\n組織的に分析を強化されたい方へ\n\n7/18(
 金) 14:00~15:00【定員5人】GA4 × サーチコンソール × AI分
 析 × LLMO(AI検索最適化)準備 × 投資対効果も解説！可視
 化と自走を両立 ― これから始める「分析体制構築」
 不透明な未来に強固な仕組みを\n\n\nまず基本からとい
 う方へ\n\n7/16(水) 14:00～15:00【定員5人】むずかしい GA4\,
  何をやればいい？SEO\, どんな使い方？ChatGPT\, 「最強
 」の組み合わせでWebのアクセス・反響・売上を増やす
 ！ これから始める GA4 × ChatGPT (AI) × SEO 「新」組み合
 わせ戦略\n\n\n
LOCATION:
URL:https://techplay.jp/event/983672?utm_medium=referral&utm_source=ics&utm
 _campaign=ics
END:VEVENT
END:VCALENDAR
