BEGIN:VCALENDAR
VERSION:2.0
PRODID:-//https://techplay.jp//JP
CALSCALE:GREGORIAN
METHOD:PUBLISH
X-WR-CALDESC:#Canva村 酒場 はじまる！
X-WR-CALNAME:#Canva村 酒場 はじまる！
X-WR-TIMEZONE:Asia/Tokyo
BEGIN:VTIMEZONE
TZID:Asia/Tokyo
BEGIN:STANDARD
DTSTART:19700101T000000
TZOFFSETFROM:+0900
TZOFFSETTO:+0900
TZNAME:JST
END:STANDARD
END:VTIMEZONE
BEGIN:VEVENT
UID:983774@techplay.jp
SUMMARY:#Canva村 酒場 はじまる！
DTSTART;TZID=Asia/Tokyo:20250716T190000
DTEND;TZID=Asia/Tokyo:20250716T210000
DTSTAMP:20260425T201427Z
CREATED:20250711T153825Z
DESCRIPTION:イベント詳細はこちら\nhttps://techplay.jp/event/98377
 4?utm_medium=referral&utm_source=ics&utm_campaign=ics\n\n#Canva村 酒場
 　はじまる！\nひらけ、つながれ、デザインの村。\nCan
 va Villageは、Canvaを活用するあらゆる人が参加するオー
 プンなコミュニティ。Canvaを使うさまざまな人たちが
 つながる“村”で、デザイン・教育・ビジネスの垣根
 を越えて出会い、語り合い、お互いのクリエイティビ
 ティを広げていきませんか？Canva村酒場はかたいAgenda
 はなしで、Canvaが好きな人たちが集まってワイワイす
 るカジュアルなイベントです。\n初回となる今回は、
 初期のCanvaの日本市場を広げた旅する元Canvaの中の人 
 めぐみさんにスペシャルゲストとして来ていただきま
 す！普段スペインでお仕事をされているめぐみさんに
 生で会えるレアチャンスです！！めぐみさんからAIス
 プレッドシートやCanva × 動画生成AI Veo3について解説し
 ていただきます。\nCanvaを卒業されてからも、インパク
 トのある発信を続けているめぐみさんから、最新機能
 のみならず、知られざるCanvaの歴史や、グローバルに
 働くキャリアについて聞いちゃいましょう！\nスペシ
 ャルゲスト\n\nめぐみ\n旅する元Canvaの中の人　@meg6317\n
 旅する元Canvaの中の人 | 元米国Disney勤務 | 現在ロンド
 ンの広告代理店にフリーランス所属 | バルセロナ在住 
 | Canvaに関する情報発信 | 企業様向けにCanva活用講座と
 広告運用のマーケ支援をしてます。\n\nホスト\n\nKT\nCanv
 a Japan株式会社　Japan Community Lead & Evangelist　@DATA_Saber\n
 デザインの力を世界へ届けるため、Canva JapanのCommunity L
 eadとしてコミュニティ育成に参画。教育者やCanva公式
 クリエイターのコミュニティを支援し、Canva世界初と
 なるビジネスユーザー向けコミュニティの立ち上げに
 も携わる。\nこれまでにはデータビジュアライゼーシ
 ョンにおけるデザインの重要性をビジネスユーザーに
 伝え、その価値と組織文化をコミュニティが自発的に
 次世代へ継承する90日のプログラムDATA Saber認定制度を
 立ち上げ、現在3\,000人超の卒業生を輩出し、世界でも
 稀有な例を生み出している。\nプロダクトが掲げるビ
 ジョンを伝導するには、文化の源泉であるコミュニテ
 ィ作りが必須であるという理念のもと、TableauやSnowflake
 といったデータ業界でコミュニティを通して製品の世
 界観の継承と文化醸成を牽引してきた経歴を持つ。\n
 著書に「データドリブンの極意」\n\n参加対象\n\nVoyagers
  - Canva VillageのDiscordに所属している方々\nVoyagersにはCanv
 aに興味がある方ならどなたでも参加できます。まだ参
 加されていない方はこちらからご参加ください。\n以
 下は一例となります。\n\nデザイナー\n\nUI UXデザイナー
 \nWebデザイナー\nCanva公式クリエイター\nその他デザイ
 ンやクリエイティブに関わる方\n\n\n教育関係者\n\n教職
 員\n教育委員会\n大学関係\nその他教育に携わる方\n\n\n
 企業ユーザー\n\nマーケター\nソーシャルメディア担当
 者\n製品企画\n営業\n人事\n総務\n何らかのデバイスで資
 料を作るすべてのビジネスパーソン\n\n\n非営利団体\n
 学生\n\n芸術・デザイン専攻\n文系専攻\n理系専攻\n\n\n\n
 \n\n参加費\n無料※ただし、Canva VillageのDiscordに参加し
 ていることが条件となります。Discordへの参加はこちら
 \n開催場所\nCanva Village Discordの #Canva村酒場 チャンネル
 でご確認ください。\n注意事項\n\nイベントにご参加い
 ただく方はオフライン、オンライン問わず、Canva Village
 コミュニティの一員としてマナーを守って参加いただ
 くようにお願いいたします。\n多様な役割やバックグ
 ラウンドの方の考えや意見を尊重してください。\n他
 者に対して差別的、暴力的、攻撃的、または不適切な
 言動は当コミュニティにおいて一切許可されません。
 そのような行為が見られた場合には警告または退席い
 ただきます。\nリクルーティング、勧誘など、採用目
 的でのイベント参加はお断りしております。\nキャン
 セル待ち・補欠・落選の方はご参加いただくことが出
 来ませんのでご了承ください。\n欠席される場合は、
 お手数ですが速やかにキャンセル処理をお願い致しま
 す。\n無断キャンセルや欠席が続く場合、次回以降の
 参加をお断りさせていただく場合がございます。\n
LOCATION:Canva Japan 東京オフィス 住所はイベントページを
 参照してください
URL:https://techplay.jp/event/983774?utm_medium=referral&utm_source=ics&utm
 _campaign=ics
END:VEVENT
END:VCALENDAR
