BEGIN:VCALENDAR
VERSION:2.0
PRODID:-//https://techplay.jp//JP
CALSCALE:GREGORIAN
METHOD:PUBLISH
X-WR-CALDESC:PoCで止めない、現場で使える生成AIの作り方〜
 Difyを活用した生成AI業務適用のリアルと成功パターン
 〜
X-WR-CALNAME:PoCで止めない、現場で使える生成AIの作り方〜
 Difyを活用した生成AI業務適用のリアルと成功パターン
 〜
X-WR-TIMEZONE:Asia/Tokyo
BEGIN:VTIMEZONE
TZID:Asia/Tokyo
BEGIN:STANDARD
DTSTART:19700101T000000
TZOFFSETFROM:+0900
TZOFFSETTO:+0900
TZNAME:JST
END:STANDARD
END:VTIMEZONE
BEGIN:VEVENT
UID:983844@techplay.jp
SUMMARY:PoCで止めない、現場で使える生成AIの作り方〜Dify
 を活用した生成AI業務適用のリアルと成功パターン〜
DTSTART;TZID=Asia/Tokyo:20250729T150000
DTEND;TZID=Asia/Tokyo:20250729T160000
DTSTAMP:20260423T220422Z
CREATED:20250714T062153Z
DESCRIPTION:イベント詳細はこちら\nhttps://techplay.jp/event/98384
 4?utm_medium=referral&utm_source=ics&utm_campaign=ics\n\nPoCで止めな
 い、現場で使える生成AIの作り方〜Difyを活用した生成A
 I業務適用のリアルと成功パターン〜\n「Difyや生成AI、
 うちのチームでも触ってはいるけど・・・」「いざ業
 務に使おうとすると、設計が難しい・動かない・続か
 ない」\nそんな経験、ありませんか？\n生成AIは確かに
 便利なツールですが、PoCで終わってしまったり、現場
 に定着しないケースが後を絶ちません。とくに非エン
 ジニアの現場担当が多い組織では、\n\n業務をどうAIに
 置き換えるか\n誰がどこまで構築できるか\n困ったとき
 に誰に頼れるか\n\nこれらが壁となり、導入が止まって
 しまうことも少なくありません。\n本セミナーでは、
 そうした課題に直面してきた企業のリアルな導入事例
 と、成果に至るまでの具体的なプロセスを紐解きます
 。\n単なる機能紹介ではなく、業務設計・体制構築・
 稟議取得など、現場で本当に必要なノウハウに踏み込
 み、Difyを活用し、スピード感をもって内製・定着させ
 るための具体手法をお伝えします。\nセミナーの目的\n
 生成AIをPoCで終わらせず、現場で「使われる仕組み」
 に育てていくには、ツール選定だけでなく「業務設計
 」「推進体制」「技術支援の使い方」までを含めた導
 入の型が必要です。\n本セミナーでは、Difyを活用して
 業務適用と成果創出を実現した企業の導入プロセスと
 現実的な構成を共有し、以下を目的としています。\n\n
 PoC止まりにならないための設計視点と社内体制のつく
 り方を知る\n非エンジニアでも活用できるDify設計パタ
 ーンとつまずきポイントの回避方法を理解する\n部門
 ごとの導入パターン／KPIの立て方／稟議の通し方を、
 事例をもとに学ぶ\n「どこから始め、どこに外部支援
 を頼るか」という実務的な判断基準を手に入れる\n\nツ
 ールを入れるだけでは変わらない。現場で“動かす”
 ための本質的な導入ノウハウと、成功企業が実践した
 パターンを学ぶことができます。\n\n\n\n\n\n\n\n\n\n開催
 日\n2025年7月29日(火) 15:00 –\n\n\n参加費\n無料\n\n\n定員\n
 20名程度\n\n\n\n※ 当日予告なく時間配分・内容が変更
 になる可能性がございます。\n登壇者\n安藤 圭司\n株式
 会社WEEL　生成AI事業部 コンサルタント\n生成AI事業の
 最前線で活躍するディレクターとして、数多くの企業
 のAIプロジェクトを成功に導いてきた。\n\n生成AI分野
 での豊富な経験と知識を活かし、企業の技術革新をサ
 ポート。\n\n対象者\n\n情報システム部門（情シス）／
 社内DX推進部門の担当者\n部門横断でのPoC・検証を担当
 しているプロジェクトリーダー・PM\n社内現場の業務理
 解はあるが、生成AIをどう適用すべきか悩んでいる担
 当者\n非エンジニアだが、AI導入の旗振り役を担ってい
 る方\n導入判断を迫られている決裁者・マネージャー
 層\n\n注意事項\n\n会社のメールアドレスをご使用いた
 だきますようお願いいたします。\nお申込みは1名様ご
 とにお願いいたします。\nリクルーティング、勧誘な
 ど、採用目的でのイベント参加はお断りしております
 。\nキャンセル待ち・補欠・落選の方はご参加いただ
 くことが出来ませんのでご了承ください。\n欠席され
 る場合は、お手数ですが速やかにキャンセル処理をお
 願い致します。\n無断キャンセルや欠席が続く場合、
 次回以降の参加をお断りさせていただく場合がござい
 ます。\n\nお問い合わせ先\nhttps://weel.co.jp/
LOCATION:
URL:https://techplay.jp/event/983844?utm_medium=referral&utm_source=ics&utm
 _campaign=ics
END:VEVENT
END:VCALENDAR
