BEGIN:VCALENDAR
VERSION:2.0
PRODID:-//https://techplay.jp//JP
CALSCALE:GREGORIAN
METHOD:PUBLISH
X-WR-CALDESC:【使うなら今！】介護施設向け補助金解説セ
 ミナー｜ロボット/位置情報サービス/見守りカメラ等
 のDXツールで生産性向上
X-WR-CALNAME:【使うなら今！】介護施設向け補助金解説セ
 ミナー｜ロボット/位置情報サービス/見守りカメラ等
 のDXツールで生産性向上
X-WR-TIMEZONE:Asia/Tokyo
BEGIN:VTIMEZONE
TZID:Asia/Tokyo
BEGIN:STANDARD
DTSTART:19700101T000000
TZOFFSETFROM:+0900
TZOFFSETTO:+0900
TZNAME:JST
END:STANDARD
END:VTIMEZONE
BEGIN:VEVENT
UID:983911@techplay.jp
SUMMARY:【使うなら今！】介護施設向け補助金解説セミナ
 ー｜ロボット/位置情報サービス/見守りカメラ等のDXツ
 ールで生産性向上
DTSTART;TZID=Asia/Tokyo:20250730T123000
DTEND;TZID=Asia/Tokyo:20250730T133000
DTSTAMP:20260420T191412Z
CREATED:20250715T030333Z
DESCRIPTION:イベント詳細はこちら\nhttps://techplay.jp/event/98391
 1?utm_medium=referral&utm_source=ics&utm_campaign=ics\n\nセミナー概
 要\n人手不足、職員さまの業務負担増、そして限られ
 た予算…。「新しいテクノロジーを導入して、もっと
 質の高いケアを提供したいけれど、費用が…」とお悩
 みの介護施設さまは少なくありません。国もこうした
 状況を受け止め、介護施設にてロボットやICT機器の導
 入を支援する補助金・助成金が続々と発表されており
 ます。中には、1事業所あたり上限額400万円もの補助も
 あり、コスト面での課題から実現できていなかった法
 人さまにとって、この機会を逃さず申請いただきたい
 絶好のチャンスです。そこで、本セミナーでは採択率9
 0%超えの補助金申請支援サービスを提供するトランス
 テップ株式会社 代表取締役の岡島氏に登壇いただき、
 申請時における注意点や、申請条件などの最新情報を
 徹底解説いただきます。全国対象となる「業務改善助
 成金」をはじめ、見落としがちな各自治体独自の補助
 金情報も網羅してご紹介するほか、補助金対象となるD
 Xサービス（ロボット / 位置情報サービス / 見守りカメ
 ラ）についてもご案内いたします。ぜひこの機会に、
 補助金・助成金を賢く活用し、より質の高いサービス
 提供や、職員さまの負担軽減を実現しませんか？\nこ
 んな人におすすめ\n\n職員の業務負担が増え続けている
 現場をなんとかしたいとお考えの介護施設のご担当者
 さま\n補助金制度のことがよく分からず、申請に不安
 がある総務・事務ご担当者さま\n人手不足のなかでも
 、質の高いケアを継続的に提供したいと考えている方\
 n\nセミナー詳細\n\n\n\n日時\n7/30(水) 12:30-13:30\n\n\n\n\n参
 加方法\nZoom\n\n\n参加費\n無料\n\n\n
LOCATION:
URL:https://techplay.jp/event/983911?utm_medium=referral&utm_source=ics&utm
 _campaign=ics
END:VEVENT
END:VCALENDAR
