BEGIN:VCALENDAR
VERSION:2.0
PRODID:-//https://techplay.jp//JP
CALSCALE:GREGORIAN
METHOD:PUBLISH
X-WR-CALDESC:【参加無料】”オフライン広告に革命を起こ
 す” ohpner株式会社 代表取締役 土井 健氏など豪華ゲス
 トが登壇するITトレンドEXPOに出展決定！Amazonギフト先
 着1万名キャンペーン実施中
X-WR-CALNAME:【参加無料】”オフライン広告に革命を起こ
 す” ohpner株式会社 代表取締役 土井 健氏など豪華ゲス
 トが登壇するITトレンドEXPOに出展決定！Amazonギフト先
 着1万名キャンペーン実施中
X-WR-TIMEZONE:Asia/Tokyo
BEGIN:VTIMEZONE
TZID:Asia/Tokyo
BEGIN:STANDARD
DTSTART:19700101T000000
TZOFFSETFROM:+0900
TZOFFSETTO:+0900
TZNAME:JST
END:STANDARD
END:VTIMEZONE
BEGIN:VEVENT
UID:983948@techplay.jp
SUMMARY:【参加無料】”オフライン広告に革命を起こす” 
 ohpner株式会社 代表取締役 土井 健氏など豪華ゲストが
 登壇するITトレンドEXPOに出展決定！Amazonギフト先着1万
 名キャンペーン実施中
DTSTART;TZID=Asia/Tokyo:20250902T080000
DTEND;TZID=Asia/Tokyo:20250905T080000
DTSTAMP:20260422T042834Z
CREATED:20250715T230127Z
DESCRIPTION:イベント詳細はこちら\nhttps://techplay.jp/event/98394
 8?utm_medium=referral&utm_source=ics&utm_campaign=ics\n\nデータフォ
 ーシーズが出展する国内最大級のオンライン展示会「I
 Tトレンド EXPO2025 Summer」をご案内いたします。\n元プル
 デンシャル生命保険 伝説の営業パーソン 芦名 勇舗氏 
 他、豪華ゲストをお招きし、成功へ繋がるビジネスの
 極意や秘訣をたっぷりとお伝えします。\nぜひ、みな
 さまのご参加をお待ちしております。\n注目セッショ
 ンのご紹介\n【Special Speaker】■土井 健 氏：ohpner株式会
 社 代表取締役同志社大学商学部卒業後、株式会社サイ
 バードへ入社。モバイル広告代理店事業立ち上げに従
 事。2011年にECナビ（現 VOYAGE GROUP）に入社。同グループ
 会社fluctに出向し、スマートフォンSSP「fluct」の立ち上
 げに参画。年間売上20億から114億(営利10億超え)の日本
 最大級のSSPに育て上げ、東証一部上場に大きく貢献。2
 014年に株式会社VOYAGE GROUPの執行役員2016年にfluctの代表
 取締役に就任。2020年に株式会社VOYAGE GROUPの取締役、202
 1年に株式会社サイバー･コミュニケーションズの取締
 役、並びに、運用型テレビCMを展開する株式会社テレ
 シーの代表取締役に就任。テレシー初代CEOとして、売
 上を3期目で78億まで伸ばし、2024年3月に退任。オフラ
 イン広告に革命を起こすべく、2024年ohpner株式会社の代
 表取締役、モビリティサイネージ株式会社取締役会長
 に就任。\n【セッション詳細】「オフライン広告をア
 ップデートする。 ～屋外広告が拓く新たな認知設計と
 広告主の選択肢～」屋外・タクシーなどを舞台とした
 “オフライン広告”が、デジタル全盛時代において再
 評価されつつあるいま。オフライン/モビリティ広告の
 第一人者・土井健氏を迎え、リアルな空間での広告体
 験がどのように進化しているのか、そして広告主が今
 後どのようにアクションを取るべきなのかをインタビ
 ュアーとの対談形式で探ります。オンラインに偏重し
 た戦略から脱却し、ブランド認知の本質を問い直しま
 す。\nイベント概要\n\n開催日時：2025年9月2日(火) ～ 5
 日(金)\n開催場所：オンラインでの開催\n参加費　：無
 料\n詳細　　：https://it.expo.it-trend.jp/key/dkty0tdv　※デー
 タフォーシーズからのVIP招待券付\n\n先着1万名様に必
 ず貰える！Amazonギフトカードプレゼントキャンペーン\
 n＜注意事項＞・本キャンペーンは株式会社Innovation & Co
 . による提供です。本キャンペーンについてのお問合
 せはAmazonではお受けしておりません。株式会社Innovation
  & Co. ITトレンドEXPO運営事務局までお願いいたします。
 ・Amazon、Amazon.co.jp およびそれらのロゴはAmazon.com\,inc. 
 またはその関連会社の商標です。キャンペーン規約は
 こちらよりご確認ください。　https://it.expo.it-trend.jp/ter
 m/campaign/first-come-first-served
LOCATION:
URL:https://techplay.jp/event/983948?utm_medium=referral&utm_source=ics&utm
 _campaign=ics
END:VEVENT
END:VCALENDAR
