BEGIN:VCALENDAR
VERSION:2.0
PRODID:-//https://techplay.jp//JP
CALSCALE:GREGORIAN
METHOD:PUBLISH
X-WR-CALDESC:AIは自動テストのペインを解消するのか？ (AI T
 est Lab vol.3)
X-WR-CALNAME:AIは自動テストのペインを解消するのか？ (AI T
 est Lab vol.3)
X-WR-TIMEZONE:Asia/Tokyo
BEGIN:VTIMEZONE
TZID:Asia/Tokyo
BEGIN:STANDARD
DTSTART:19700101T000000
TZOFFSETFROM:+0900
TZOFFSETTO:+0900
TZNAME:JST
END:STANDARD
END:VTIMEZONE
BEGIN:VEVENT
UID:984181@techplay.jp
SUMMARY:AIは自動テストのペインを解消するのか？ (AI Test L
 ab vol.3)
DTSTART;TZID=Asia/Tokyo:20250930T193000
DTEND;TZID=Asia/Tokyo:20250930T205000
DTSTAMP:20260421T201054Z
CREATED:20250722T081136Z
DESCRIPTION:イベント詳細はこちら\nhttps://techplay.jp/event/98418
 1?utm_medium=referral&utm_source=ics&utm_campaign=ics\n\nAIは自動テ
 ストのペインを解消するのか？ (AI Test Lab vol.3)\n「人が
 作った要件に対して人が開発し、テストをする」\n従
 来は当たり前だと思っていたことが、生成AIの登場と
 活用の広がりとともに大きく変わりつつあります。生
 成AIにどこまで置き換えられるようになるのか、要件
 定義や開発の目線では多く語られるテーマですが、本
 シリーズではテストにフォーカスしてディスカッショ
 ンを重ねます。\n今回のゲストは、テストツール業界
 のトップランナーたち！オーティファイ株式会社の末
 村拓也氏と、Postman株式会社の川崎庸市氏をゲストにお
 招きし、株式会社SHIFTの石井一成が「AIは自動テストの
 ペインを解消するのか？」をテーマに、テストツール
 ベンダーとソフトウェアテスト・品質保証ベンダーと
 いう異なる視点から議論を繰り広げます。\nとどまる
 ところを知らない生成AIの発展が、ソフトウェアテス
 トをどう変えるのか、ご注目ください。\n本イベント
 は、ご登録いただくことでアーカイブ視聴も可能にな
 ります。ただし、リアルタイム配信では、アーカイブ
 に残らないオフレコトークもございますので、ご予定
 の合う方は是非リアルタイムでご視聴ください。\nConte
 nts\nパネルディスカッション　①生成AIの登場で、それ
 ぞれのサービスはどう変わった？　②これからのQAは
 どうなる？　③生成AIは自動テストのペインを解消す
 るのか？　④オフレコトーク（リアルタイム視聴限定
 ）\nSpeakers\n末村 拓也 氏\nオーティファイ株式会社 品
 質エバンジェリスト\nWebエンジニア、QAエンジニアなど
 を経て、2019年にオーティファイ株式会社に入社。シニ
 アテクニカルサポートエンジニアやQAマネージャーを
 務める傍ら、カンファレンスでの登壇や記事執筆など
 精力的に外部発信を行った。現在は同社の品質エバン
 ジェリストとして、品質に投資することの重要性を世
 の中に広める役割を担う。ソフトウェアテストのシン
 ポジウム JaSST Online および Tokyo Test Fest の実行委員を務
 める。『テスト自動化実践ガイド』(2024) 著者。『フル
 スタックテスティング』（2025）共訳者。\n川崎 庸市 
 氏\nPostman株式会社 テクノロジーエバンジェリスト\n米
 国ジョージア大学卒業後、テック系スタートアップ、
 ヤフー株式会社（現：LINEヤフー株式会社）、日本マイ
 クロソフト株式会社、株式会社ZOZOにてさまざまなエン
 ジニアリングロールに従事。現在は、Postman株式会社で
 同社プロダクトやAPI技術の普及活動に従事。 X @yokawasa\
 n石井 一成　\n株式会社SHIFT ソリューション本部  ソリ
 ューション事業部 アジャイル推進部 イノベーション
 推進グループ  テスト自動化アーキテクト\n中小SIerに
 て要件定義からテストまでを一通り経験したのち、株
 式会社SHIFTに入社。 入社後は単体～E2Eまでの自動テス
 トの実装や導入支援、CI構築を担当する。 自動テスト
 以外にも、アジャイル導入支援や品質全般のプロセス
 改善など、開発以外の業務を幅広く支援している。\n
 最新情報は公式Xをフォロー！カジュアル面談のご相談
 もDMでお気軽に\nSHIFT EVOLVE公式Xでは技術に関する最新
 情報やイベント情報を発信中。DMではカジュアル面談
 を受け付けています！お気軽にご相談ください。\nNotes
 \n当社は、connpass参加登録時及びSHIFT LIVE登録時にご入
 力いただいた個人情報を、以下の目的としてSHIFTグル
 ープ企業で利用することがあります。\n\n本セミナーの
 運営\nお問合せへの対応\nSHIFTが主催する他イベント・
 セミナーのご案内\n採用情報のご案内\n\n個人情報の取
 り扱いについてはプライバシーポリシーをご参照いた
 だき、同意の上お申し込みください。\n株式会社SHIFTプ
 ライバシーポリシー\nSHIFT EVOLVEのイベントに初めて参
 加される方は行動規範もご一読ください。\nSHIFT EVOLVE 
 行動規範
LOCATION:
URL:https://techplay.jp/event/984181?utm_medium=referral&utm_source=ics&utm
 _campaign=ics
END:VEVENT
END:VCALENDAR
