BEGIN:VCALENDAR
VERSION:2.0
PRODID:-//https://techplay.jp//JP
CALSCALE:GREGORIAN
METHOD:PUBLISH
X-WR-CALDESC:【ハイブリッド開催】長崎から考える、AI・デ
 ータ活用や生成AI活用の現状とこれから
X-WR-CALNAME:【ハイブリッド開催】長崎から考える、AI・デ
 ータ活用や生成AI活用の現状とこれから
X-WR-TIMEZONE:Asia/Tokyo
BEGIN:VTIMEZONE
TZID:Asia/Tokyo
BEGIN:STANDARD
DTSTART:19700101T000000
TZOFFSETFROM:+0900
TZOFFSETTO:+0900
TZNAME:JST
END:STANDARD
END:VTIMEZONE
BEGIN:VEVENT
UID:984388@techplay.jp
SUMMARY:【ハイブリッド開催】長崎から考える、AI・デー
 タ活用や生成AI活用の現状とこれから
DTSTART;TZID=Asia/Tokyo:20250828T160000
DTEND;TZID=Asia/Tokyo:20250828T200000
DTSTAMP:20260422T133351Z
CREATED:20250728T025619Z
DESCRIPTION:イベント詳細はこちら\nhttps://techplay.jp/event/98438
 8?utm_medium=referral&utm_source=ics&utm_campaign=ics\n\n概要\nデー
 タサイエンティスト協会 九州支部は、「地方における
 データサイエンスの普及と活用を促進し、地方経済の
 活性化に貢献すること」を目的に活動しております 。
 \n今回は「長崎から考える、AI・データ活用や生成AI活
 用の現状とこれから」と題したトークイベントを開催
 します 。本イベントでは、地方発のリアルな視点から
 AI・データ活用の実態と可能性を探ります 。特に「生
 成AI」などの先端技術が長崎でどのように活用されて
 いるのかを多角的に捉えるとともに 、技術論に偏らず
 、地域における仕事や価値創出といった視点からリア
 ルな声をお届けします 。\nタイムスケジュール\n\n\n\n
 時間\n内容\n\n\n\n\n15:30〜\n受付開始\n\n\n16:00〜16:05\nオー
 プニング\n\n\n16:05〜16:35\n講演者：西海クリエイティブ
 カンパニー　宮里 賢史 氏\n\n\n16:35〜17:05\n講演者：オ
 ーシャンソリューションテクノロジー　国府田 諭 氏\n
 \n\n17:05〜17:15\n休憩\n\n\n17:15〜17:30\n『生成AIで変わるビ
 ジネス』講演者：データサイエンティスト協会\n\n\n17:3
 0〜18:10\n『パネル：長崎から見る、データ利活用のリ
 アルな現在地とこれから』セッション登壇者×DS協会 
 九州支部※本パネルが終了次第、配信も終了となりま
 す。\n\n\n18:10〜20:00\n懇親会（軽食・飲み物あり）※現
 地会場のみ\n\n\n\n※ 予告なく時間配分・内容が変更に
 なる可能性がございます。\n登壇者\n\n宮里 賢史 氏\n西
 海クリエイティブカンパニー代表取締役\n広島県三原
 市出身。慶應義塾大学卒業後、三井住友銀行を経て2014
 年に独立。スイーツ店経営や民泊運営を経て、2016年よ
 り長崎県西海市のシティマネジャーに就任。2017年には
 西海クリエイティブカンパニーを創業。AI分野では、
 文字起こしAI「ばりぐっどくん」を開発し、総ユーザ
 ー数は390万人超。内閣府や自治体向けAI政策研修の講
 師も務めるなど、公共・民間双方でAI導入を推進して
 いる。CES出展や台湾オードリー・タン氏との連携実績
 も。\n\n\n国府田 諭 氏\nオーシャンソリューションテク
 ノロジー株式会社DX推進部システム開発室 室長\n東京
 都渋谷区出身。環境研究での温室効果ガス排出量推計\
 , 医療分野でのオフライン情報利用・データウェアハ
 ウス構築等を経て\, 2023年に長崎県に移住しオーシャン
 ソリューションテクノロジーに入社。漁業者支援サー
 ビス「トリトンの矛（ほこ）」のフロントエンド開発\
 , 海底地形図サービス\, 研究機関向けBIダッシュボード
 等に従事している。情報処理安全確保支援士\, ネット
 ワーク／データベーススペシャリスト。\n\n\n大城 信晃
  氏\nデータサイエンティスト協会　九州支部　支部長N
 OB DATA株式会社　代表取締役\n沖縄県出身。新卒で東京
 のヤフー株式会社に入社し、その後DATUM STUDIO、LINE Fukuo
 kaを経て福岡にて2018年にNOB DATAを創業。また、2019年に
 はデータサイエンティスト協会九州支部を設立。ビッ
 グデータや生成AIを活用できるデータサイエンティス
 ト・DX人材の育成に力を入れている。著書として「AI・
 データ分析プロジェクトのすべて」「データで話す組
 織」「データ分析失敗事例集」などがある。\n\n\n内保 
 光太郎 氏\nデータサイエンティスト協会　九州支部日
 本経済大学　講師\n大手エネルギー企業を退職後、AI・
 DX領域のスタートアップにて機械学習やデータ分析の
 実務に従事。現在は日本経済大学で「ビッグデータ分
 析」「ディープラーニング」などを担当し、学生の育
 成に取り組むとともに、生成AIの企業活用支援や講師
 活動も展開。多様な業界でのデータ利活用経験を持つ
 。\n\n\n田原 卓弥 氏\nデータサイエンティスト協会　九
 州支部株式会社TRAILBLAZER　データサイエンティスト\n大
 学にて情報科学を専攻。新卒で小売業界に入社、店舗D
 Xを推進。AIカメラによる画像認識、需要予測アルゴリ
 ズムの開発。その後、金融業界にて審査モデルの開発
 や信用リスク分析に従事。現在は株式会社TRAILBLAZERに
 て、データ分析・コンサルティングに従事。並行して
 、大学での非常勤講師およびエンジニアコミュニティ
 の運営を通じ、教育と知識共有に取り組む。\n\n参加方
 法\n現地参加：お申し込み後に届くメール記載のQRコー
 ドを受付に提示してください。オンライン参加：zoomウ
 ェビナーでの配信となります。お申し込み後に本ペー
 ジに表示される「イベントを視聴する」ボタンよりご
 参加ください。※ネット環境の状況により、急遽配信
 を取りやめる可能性があります。\n参加費\n無料\n参加
 対象者\n本セミナーに興味をお持ちの方、どなたでも
 参加いただけます学生の方の参加も大歓迎です\n注意
 事項\n\n予告なくプログラム・講演者が変更になる可能
 性があります。\nどなたでも参加いただけますが、当
 協会一般（個人）会員ではない方は、参加時に会員登
 録（無料）をお願いします。一般（個人）会員登録：h
 ttps://www.datascientist.or.jp/admission/\n（現地参加の場合）キ
 ャンセル待ちの方はご参加いただくことが出来ません
 のでご了承ください。\n（オンライン配信について）
 ネット環境の状況により、急遽配信を取りやめる可能
 性があります。\n欠席される場合は、お手数ですが速
 やかにキャンセル処理をお願いいたします。\n無断キ
 ャンセルや欠席が続く場合、次回以降の参加をお断り
 させていただく場合がございます。\n講演資料、アー
 カイブの公開予定はありません。\n
LOCATION:長崎市油屋町1-1 ダイアゴナルラン長崎
URL:https://techplay.jp/event/984388?utm_medium=referral&utm_source=ics&utm
 _campaign=ics
END:VEVENT
END:VCALENDAR
