BEGIN:VCALENDAR
VERSION:2.0
PRODID:-//https://techplay.jp//JP
CALSCALE:GREGORIAN
METHOD:PUBLISH
X-WR-CALDESC:【8/28(木)13:00～】AI検索に負けない！AIO・LLMOで
 実現する“次世代SEO”戦略とは？
X-WR-CALNAME:【8/28(木)13:00～】AI検索に負けない！AIO・LLMOで
 実現する“次世代SEO”戦略とは？
X-WR-TIMEZONE:Asia/Tokyo
BEGIN:VTIMEZONE
TZID:Asia/Tokyo
BEGIN:STANDARD
DTSTART:19700101T000000
TZOFFSETFROM:+0900
TZOFFSETTO:+0900
TZNAME:JST
END:STANDARD
END:VTIMEZONE
BEGIN:VEVENT
UID:984452@techplay.jp
SUMMARY:【8/28(木)13:00～】AI検索に負けない！AIO・LLMOで実
 現する“次世代SEO”戦略とは？
DTSTART;TZID=Asia/Tokyo:20250828T130000
DTEND;TZID=Asia/Tokyo:20250828T140000
DTSTAMP:20260422T014543Z
CREATED:20250729T040029Z
DESCRIPTION:イベント詳細はこちら\nhttps://techplay.jp/event/98445
 2?utm_medium=referral&utm_source=ics&utm_campaign=ics\n\n【8/28(木)13:0
 0～】AI検索に負けない！AIO・LLMOで実現する“次世代SEO
 ”戦略とは？\n概要\n【無料】最新SEOセミナー開催のご
 案内のお知らせです！内部対策に特化したお得な検索
 エンジン対策情報を無料でお届け致します！！\n検索
 エンジン対策に詳しくなりたい企業様や、SEOに真剣に
 取り組んでいる企業様向けに企画した無料で参加でき
 るSEOセミナーです。\n主な内容としては現状のSEOに関
 する情報や、SEO内部施策の重要性について伝授いたし
 ます。最後に業界初のSEOサービス【SEO極】のご紹介も
 行わせて頂きます。※最新の検索エンジン情報、SEO情
 報、すぐに役立つSEO内部対策情報等が満載です！\n詳
 細\n現在、Yahoo!検索がGoogle 検索エンジンのアルゴリズ
 ムを採用し、Googleに強いホームページ制作、コンテン
 ツの作成、諸々の最適化が急務になってきました。ま
 た、従来のSEO では外部リンクの重要性が問われており
 ましたが、Google では今後内部施策に注力して行う方針
 に変わり、今まで以上にホームページの質が問われる
 ようになってきています。\nそのような中で、弊社は
 「SEO 内部施策セミナー」と題しましてSEOの内部施策に
 ついてのセミナーを開催致します。\n検索エンジン対
 策に詳しくなりたい企業様や、SEOに真剣に取り組んで
 いる企業様向けに企画した、無料で参加できるSEOセミ
 ナーです。\n主な内容としては現状のSEOに関する情報
 や、SEO内部施策の重要性について伝授いたします。\n
 これからSEOをビジネスとしてお考えの方々、SEO極をご
 検討いただいている方々、SEO極の取次店の方々、SEO極
 をご購入いただいた方々など 是非ともご参加ご検討く
 ださい。 皆様のご参加、お待ちいたしております。\n
 最新の検索エンジン情報、SEO情報、すぐに役立つSEO内
 部対策情報等が満載です！\nタイムスケジュール\n\n\n\n
 時間\n内容\n\n\n\n\n13:00〜13:55\nAI検索に負けない！AIO・LL
 MOで実現する“次世代SEO”戦略とは？\n\n\n13:55〜14:00\n
 アンケート回答\n\n\n\n※ 当日予告なく時間配分・内容
 が変更になる可能性がございます。\n登壇者\n名取 雄
 介株式会社ディテイルクラウドクリエイティブ取締役
 副社長\n参加対象\n\nSEO内部対策を今後考えていらっし
 ゃる方々\n\n参加費\n無料\nハッシュタグ\n#techplayjp\n注
 意事項\n\nリクルーティング、勧誘など、採用目的での
 イベント参加はお断りしております。\nキャンセル待
 ち・補欠・落選の方はご参加いただくことが出来ませ
 んのでご了承ください。\n欠席される場合は、お手数
 ですが速やかにキャンセル処理をお願い致します。\n
 無断キャンセルや欠席が続く場合、次回以降の参加を
 お断りさせていただく場合がございます。\n
LOCATION:
URL:https://techplay.jp/event/984452?utm_medium=referral&utm_source=ics&utm
 _campaign=ics
END:VEVENT
END:VCALENDAR
