BEGIN:VCALENDAR
VERSION:2.0
PRODID:-//https://techplay.jp//JP
CALSCALE:GREGORIAN
METHOD:PUBLISH
X-WR-CALDESC:NTTデータに聞く！ AI時代を勝ち抜く経営戦略
 と実行組織とは
X-WR-CALNAME:NTTデータに聞く！ AI時代を勝ち抜く経営戦略
 と実行組織とは
X-WR-TIMEZONE:Asia/Tokyo
BEGIN:VTIMEZONE
TZID:Asia/Tokyo
BEGIN:STANDARD
DTSTART:19700101T000000
TZOFFSETFROM:+0900
TZOFFSETTO:+0900
TZNAME:JST
END:STANDARD
END:VTIMEZONE
BEGIN:VEVENT
UID:984543@techplay.jp
SUMMARY:NTTデータに聞く！ AI時代を勝ち抜く経営戦略と実
 行組織とは
DTSTART;TZID=Asia/Tokyo:20250826T110000
DTEND;TZID=Asia/Tokyo:20250826T121500
DTSTAMP:20260424T082751Z
CREATED:20250730T083011Z
DESCRIPTION:イベント詳細はこちら\nhttps://techplay.jp/event/98454
 3?utm_medium=referral&utm_source=ics&utm_campaign=ics\n\nNTTデータに
 聞く！AI時代を勝ち抜く経営戦略と実行組織とは\n概要
 \n生成AI技術の進化に伴い、多くの企業ではビジネス革
 新が急速に進んでいます。そこで、スピーダではビジ
 ネスの現場で生成AIによる企業変革を推し進める推進
 者にスポットを当てたセミナー「AI Frontiers」を開催し
 ます。\n今回は集中的な生成AIへの投資の拡大やOpenAIと
 の戦略的提携を発表したNTTデータグループのお二人に
 ご出演いただきます。お一人目は、株式会社NTTデータ
 グループ コーポレート戦略本部 Head of Corporate Intelligenc
 e 四方 義嗣 氏です。四方氏は、生成AI技術の急速な進
 化に伴うこれまでの計画策定フローでは対応できない
 事業計画・投資計画の大幅な見直しを経営企画の立場
 でリードされました。お二人目は、株式会社NTTデータ
 グループ グローバルイノベーション本部 Head of Global AI
  Office 本橋 賢二 氏です。本橋氏は、これまでの計画策
 定、組織設計、人事異動とは異なるフローで進められ
 た生成AIへの投資計画を実行できる形に落とし込むた
 めの組織づくりや実行をリードされています。\nこれ
 までの技術進化とは比べ物にならない早さで日々進化
 する生成AI技術の変化に対して、お二人はどのように
 して計画策定フローや組織変更を動かしていったのか
 。外部環境変化がこれまで以上に早く、振れ幅が大き
 くなる中で、これからの経営企画部の果たすべき役割
 とはなにか。視聴者のみなさんのご質問・お悩みをお
 二人にぶつけながら、AI時代に対応する企業変革の実
 践のヒントを探ります。\nこんな方におすすめ\n\n中期
 経営計画や投資計画の策定など、企業の未来に向けた
 戦略策定に携わる経営者・経営企画部の方\n市場環境
 の変化が進む中、企業変革の必要性を感じている事業
 部の方\n生成AIなど外部環境変化に関する動きを企業経
 営にいかに取り込むのか知りたい方\n\n登壇者\n四方 義
 嗣 氏\n株式会社NTTデータグループコーポレート戦略本
 部 Head of Corporate Intelligence\n2000年NTTデータ入社、金融機
 関様向けのソフトウェア開発とSE業務に従事した後、
 グループ内の経営コンサルティング会社に異動し、金
 融機関様、ITサービス企業様向けのコンサルティング
 を実施。 その後、NTTデータグループが海外展開を積極
 的に強化する中で、シンガポール海外拠点を現地にて
 設立するなどグローバルでの事業戦略実行を推進。2019
 年末に、CEO付け政策秘書部長 兼 事業戦略室部長とし
 て帰国し、NTTデータが拡大してきた海外事業と、NTTグ
 ループのもう一つの海外事業会社であるNTT Ltd社の事業
 統合プロジェクトをリード。2025年7月にコーポレート
 インテリジェンス部門を創設。\n\n\n本橋 賢二 氏\n株式
 会社NTTデータグループグローバルイノベーション本部
 　Head of Global AI Office\n15年以上、AWSやGoogleといったパブ
 リッククラウドおよびVMWareやOpenStackなどのプライベー
 トクラウドに関する業務を担当しクラウドエバンジェ
 リストとしても活動してきた。過去には、アプリケー
 ションフレームワークの全社標準も担当し、インフラ
 からアプリ開発までフルスタックのスキルと経験を有
 している。こうした知見を活かして、現在は、グロー
 バルも含めたNTTデータ全体のAI活用戦略および普及推
 進を担当するGlobal AI OfficeのHeadとして従事。\n\n参加費\
 n無料\n視聴方法\n※別サイトでのお申し込みとなりま
 す。「参加申込ページへ」ボタンをクリックすると別
 サイトに遷移します。本セミナーはオンラインでのラ
 イブ配信ツールZoomを利用いたします。視聴方法はお申
 込み後にご案内いたします。
LOCATION:
URL:https://techplay.jp/event/984543?utm_medium=referral&utm_source=ics&utm
 _campaign=ics
END:VEVENT
END:VCALENDAR
