BEGIN:VCALENDAR
VERSION:2.0
PRODID:-//https://techplay.jp//JP
CALSCALE:GREGORIAN
METHOD:PUBLISH
X-WR-CALDESC:“現場が駆動するDX”─ハウス食品グループ本
 社の挑戦｜実践型DX企画学習会『DRIVE』で育むビジネス
 テクノロジスト──そのリアルと学び
X-WR-CALNAME:“現場が駆動するDX”─ハウス食品グループ本
 社の挑戦｜実践型DX企画学習会『DRIVE』で育むビジネス
 テクノロジスト──そのリアルと学び
X-WR-TIMEZONE:Asia/Tokyo
BEGIN:VTIMEZONE
TZID:Asia/Tokyo
BEGIN:STANDARD
DTSTART:19700101T000000
TZOFFSETFROM:+0900
TZOFFSETTO:+0900
TZNAME:JST
END:STANDARD
END:VTIMEZONE
BEGIN:VEVENT
UID:984545@techplay.jp
SUMMARY:“現場が駆動するDX”─ハウス食品グループ本社
 の挑戦｜実践型DX企画学習会『DRIVE』で育むビジネステ
 クノロジスト──そのリアルと学び
DTSTART;TZID=Asia/Tokyo:20250901T120000
DTEND;TZID=Asia/Tokyo:20250901T130000
DTSTAMP:20260420T105849Z
CREATED:20250730T090114Z
DESCRIPTION:イベント詳細はこちら\nhttps://techplay.jp/event/98454
 5?utm_medium=referral&utm_source=ics&utm_campaign=ics\n\n～セミナー
 概要～\n現場起点でDX課題を選定し、自らPoCを企画する
 ──ハウス食品グループ本社 デジタル戦略本部が取り
 組む実践型プログラム『DRIVE』。 現場部門でのDXの自
 走を支える“ビジネステクノロジスト”を中期計画中
 に100名規模へ育成する構想のもと、組織横断のバック
 オフィス体制とデジタル人材ピラミッドを整えながら
 、PDCAを重ねて見えてきた〈熱量醸成・テーマ選定・マ
 ネジメント浸透〉のリアルな壁と打ち手を共有いただ
 きます。 基調講演ではデジタル戦略本部長 西岡氏が
 、立ち上げから3年目の成果と学びを具体的に紹介。 Q
 Aパートでは、視聴者の疑問にも答える形で課題探索〜
 企画実践を加速するヒントを深掘りします。 60分で得
 られる、〈戦略×育成×仕組み〉によるDX推進のリアル
 な知見を、ぜひ貴社の取り組みにお役立てください。
  【こんな方におすすめ】・現場主導のDXを推進するた
 めの仕組みや人材戦略を探している方・自社のDXを自
 走化させたいと考えている方・PoCの形骸化やDXテーマ
 の選定に悩んでいる方・中長期的なDX人材育成のビジ
 ョンとロードマップを描きたい方\n～主催会社～\n株式
 会社STANDARDhttps://standard-dx.com/
LOCATION:
URL:https://techplay.jp/event/984545?utm_medium=referral&utm_source=ics&utm
 _campaign=ics
END:VEVENT
END:VCALENDAR
