BEGIN:VCALENDAR
VERSION:2.0
PRODID:-//https://techplay.jp//JP
CALSCALE:GREGORIAN
METHOD:PUBLISH
X-WR-CALDESC:クリエイターのためのサーバー基礎 Vol.3 「サ
 ーバー周りのサービスやセキュリティ対策について」
X-WR-CALNAME:クリエイターのためのサーバー基礎 Vol.3 「サ
 ーバー周りのサービスやセキュリティ対策について」
X-WR-TIMEZONE:Asia/Tokyo
BEGIN:VTIMEZONE
TZID:Asia/Tokyo
BEGIN:STANDARD
DTSTART:19700101T000000
TZOFFSETFROM:+0900
TZOFFSETTO:+0900
TZNAME:JST
END:STANDARD
END:VTIMEZONE
BEGIN:VEVENT
UID:984601@techplay.jp
SUMMARY:クリエイターのためのサーバー基礎 Vol.3 「サーバ
 ー周りのサービスやセキュリティ対策について」
DTSTART;TZID=Asia/Tokyo:20250909T190000
DTEND;TZID=Asia/Tokyo:20250909T200000
DTSTAMP:20260419T145810Z
CREATED:20250801T005041Z
DESCRIPTION:イベント詳細はこちら\nhttps://techplay.jp/event/98460
 1?utm_medium=referral&utm_source=ics&utm_campaign=ics\n\nクリエイタ
 ーのためのサーバー基礎 Vol.3 「サーバー周りのサービ
 スやセキュリティ対策について」\nクリーク･アンド
 ･リバー社（C&R社）は、2025年９月９日（火） に、サ
 ーバーにあまり詳しくないクリエイターの方を対象に
 した、「サーバーの基礎知識」に関するウェビナーを
 実施します。\nサーバーのサービスについての知識を
 持つことで、プロジェクトに最適なサービスを選定し
 、効率的に運用することができるようになります。開
 発や運用のスピードも上がり、プロジェクトの品質も
 向上します。また、適切なサービスを選ぶことで、コ
 ストの削減も可能になってきます。\nさらに、サーバ
 ーセキュリティの基本を理解することは、プロジェク
 トの安全性を確保するために不可欠です。セキュリテ
 ィ対策をきちんとすることで、不正アクセスやデータ
 漏洩などのリスクを低減し、クライアントやユーザー
 の信頼を得ることができます。\nVol.1のサーバの全体像
 、Vol.2のサーバの種類も併せてお申込みご参加くださ
 い。\n\n▼こんなことをお話します\n\n\nVol1.2の振り返り
 \nサーバー周りのサービス\nサーバー管理の基本\nセキ
 ュリティ対策の基本\n\n▼こんな方におすすめ\n\n\nウェ
 ブデザインや開発を行うクリエイター\nサーバー管理
 に興味がある初心者\nサーバー運用のスキルを身につ
 けたい方\n\nタイムスケジュール\n\n\n\n時間\n内容\nspeake
 r\n\n\n\n\n19：00～19：05\nオープニング\nC&R社\n\n\n19：05～1
 9：50\n講演\n関口 和真氏\n\n\n19：50～20：00\n質疑応答\n\n
 \n\n20：00～\nクロージング\n\n\n\n\n※講義内容は予定で
 す。当日の受講者の進捗等によって変更になる場合が
 あります。\n登壇者\n関口 和真（せきぐち・かずま）
 氏\n株式会社コムセント取締役 CTO\nサイトデザイン、HT
 MLのコーディング、JavaScript・PHP等を利用したプログラ
 ム開発、iOS・Android向けアプリの作成、ウェブサーバー
 の実装、運用などトータルでウェブサイトの作成を行
 う。テクノロジーを理解し、デザインやコーディング
 、サーバー運用やサービス運用のアドバイスをトータ
 ルで行える点が強み。\n株式会社コムセント(Web制作会
 社)のCTOとしてWebサイト作成、システム開発及びプログ
 ラム開発に従事。ECサイトのカスタマイズ、フルスク
 ラッチによるWebシステム開発、映像配信システムや映
 像配信、配信用スマートフォンアプリ作成を主に手が
 ける。\n大学・専門学校にて、Web制作の授業を担当（
 非常勤）。イベントやセミナーの登壇経験も豊富。 Dre
 amweaver等の著書も。\n\n参加費\n無料\n参加対象者\nサー
 バーについて理解を深めたいクリエイターの方サーバ
 ーについて学んだことのないクリエイターの方\n当ウ
 ェビナーについて\n\nこちらのサイトからもお申込みい
 ただくことができます。\n\n\n▼C&R社で実施しているオ
 ンライン講座・ウェビナー　一覧ページhttps://www.c-place
 .ne.jp/
LOCATION:
URL:https://techplay.jp/event/984601?utm_medium=referral&utm_source=ics&utm
 _campaign=ics
END:VEVENT
END:VCALENDAR
