BEGIN:VCALENDAR
VERSION:2.0
PRODID:-//https://techplay.jp//JP
CALSCALE:GREGORIAN
METHOD:PUBLISH
X-WR-CALDESC:【親子で腸活✨ミネラル醗酵味噌教室】開催
 します♪
X-WR-CALNAME:【親子で腸活✨ミネラル醗酵味噌教室】開催
 します♪
X-WR-TIMEZONE:Asia/Tokyo
BEGIN:VTIMEZONE
TZID:Asia/Tokyo
BEGIN:STANDARD
DTSTART:19700101T000000
TZOFFSETFROM:+0900
TZOFFSETTO:+0900
TZNAME:JST
END:STANDARD
END:VTIMEZONE
BEGIN:VEVENT
UID:984695@techplay.jp
SUMMARY:【親子で腸活✨ミネラル醗酵味噌教室】開催しま
 す♪
DTSTART;TZID=Asia/Tokyo:20250808T110000
DTEND;TZID=Asia/Tokyo:20250808T130000
DTSTAMP:20260424T013128Z
CREATED:20250802T210149Z
DESCRIPTION:イベント詳細はこちら\nhttps://techplay.jp/event/98469
 5?utm_medium=referral&utm_source=ics&utm_campaign=ics\n\n醗酵ドリン
 ク教室・醗酵キムチ教室に続き、\n初めて味噌教室を
 開催します！\n\n今回の会場は銀座駅から徒歩3分の場
 所で行います。\n\n是非ぜひご参加ください！\nお子さ
 んとの近況を聞かせて頂けたら嬉しいです！\n小学生
 の自由研究にもいいですよ～\n\n暑い夏もミネラルのあ
 る生活で\n心もカラダもハッピーになろう🎵\n\n「ミネ
 ラル醗酵味噌作り教室」のお知らせです😊\n\n「新型
 栄養失調」ってご存知ですか？\n\nカロリーが足りてい
 るのに\nタンパク質やミネラルなどが\n不足している状
 態をそう呼ぶそうです\n\n食べた物をカラダの中で\nエ
 ネルギーに変えてくれるのが酵素\n\nその酵素を活性化
 するのがミネラル\n\nミネラルが不足すると太りやすく
 なるのは\n酵素の働きが弱まるからなんですね\n\n今回
 は、カラダにとって大事な働きをするミネラルがたっ
 ぷり入った味噌を作ります\n\n簡単で楽しい味噌作りを
 体験してみませんか？\n\n【開催日時】\n8月6日11-13時\n8
 月8日11-13時\n軽食付き\n\n【場所】\n銀座駅徒歩3分\n(お
 申し込みあった方にお知らせします)\n赤ちゃん連れok(
 ベビーカーがお勧めです)\nお子さんと一緒に作ること
 も可能です✨\n夏休みの自由研究にも❣️\n\n【参加費
 】\n4\,400円\n\n手ぶらでご参加できます🥰\n(エプロンご
 希望でしたお待ちください)\n\n【お申込み方法】\nこち
 らにご入力をお願いします！\nhttps://forms.gle/MbKMRUWKmndLWc
 WY9
LOCATION:お申し込みされた方にお知らせします 銀座駅近
 く。お申し込みされた方にお知らせします
URL:https://techplay.jp/event/984695?utm_medium=referral&utm_source=ics&utm
 _campaign=ics
END:VEVENT
END:VCALENDAR
