BEGIN:VCALENDAR
VERSION:2.0
PRODID:-//https://techplay.jp//JP
CALSCALE:GREGORIAN
METHOD:PUBLISH
X-WR-CALDESC:【AI特集】3社が語るClaude Code活用 開発組織の
 取り組みと課題とは？
X-WR-CALNAME:【AI特集】3社が語るClaude Code活用 開発組織の
 取り組みと課題とは？
X-WR-TIMEZONE:Asia/Tokyo
BEGIN:VTIMEZONE
TZID:Asia/Tokyo
BEGIN:STANDARD
DTSTART:19700101T000000
TZOFFSETFROM:+0900
TZOFFSETTO:+0900
TZNAME:JST
END:STANDARD
END:VTIMEZONE
BEGIN:VEVENT
UID:984727@techplay.jp
SUMMARY:【AI特集】3社が語るClaude Code活用 開発組織の取り
 組みと課題とは？
DTSTART;TZID=Asia/Tokyo:20250822T120000
DTEND;TZID=Asia/Tokyo:20250822T130000
DTSTAMP:20260425T205339Z
CREATED:20250804T012110Z
DESCRIPTION:イベント詳細はこちら\nhttps://techplay.jp/event/98472
 7?utm_medium=referral&utm_source=ics&utm_campaign=ics\n\n📝イベント
 概要\n生成AIやAIエージェントの普及によって、ソフト
 ウェア開発のスタイルも大きく変化しています。当初
 は開発の補助程度での限られた利用であったものが、
 現在ではコーディングをはじめとして設計や運用、テ
 ストケース作成からテスト実施等、幅広い工程で活用
 が可能となっております。\n本イベントでは「Claude Code
 」に焦点を当て、各社の開発組織におけるClaude Codeの
 活用事例や直面している課題、今後のチャレンジにつ
 いて、各社での具体的な取り組みを交えながらお話し
 いただきます。\n✅ Findy Job Lunch Talkとは？\n「カジュア
 ル面談よりもカジュアルに、1社15分でポジションの魅
 力を知る」をコンセプトに企画したイベントです。求
 人票だけではわからないポジションの役割や魅力につ
 いて、一緒に働くエンジニアやPdMの方からプレゼンい
 ただきます。\n🧑‍💻こんな方におすすめ\n\n各社の
 開発組織におけるClaude Code活用の取り組みや課題に関
 心がある方\nClaude Codeを活用した開発プロセスに興味が
 ある方\n開発現場にClaude Codeの導入を検討している方\n\
 n📝当日のコンテンツ\n\n\n\n時間\nセッションタイトル\
 n企業名\n\n\n\n\n12:00~12:03\nオープニング\n\n\n\n12:03~12:20\n
 「Claude Codeで実装以外の開発フロー、どこまで自動化
 できるか？失敗と成功」\n千株式会社\n\n\n12:20~12:37\n「C
 laude Code を開発チームに迎え入れるためにやっておき
 たい環境整備」\n株式会社カナリー\n\n\n12:37~12:54\n「レ
 ガシープロジェクトで最大限AIの恩恵を受けられるよ
 うClaude Codeを利用する」\ndely株式会社\n\n\n12:54~13:00\nク
 ロージング\n\n\n\n\n※発表の順番や内容は変更の可能性
 があります、ご了承ください。\n🗣️スピーカー\n「Cl
 aude Codeで実装以外の開発フロー、どこまで自動化でき
 るか？失敗と成功」\nんだ千株式会社 / エンジニア中
 央大学文学部卒業後、関東の公立高校の国語科教員と
 して数年間勤務。結婚を機に、福岡の受託開発企業に
 てバックエンドエンジニアへ転身。ICONIXプロセスを用
 いたシステム開発、採用・育成にも携わる。2024年7月
 、千株式会社に入社。\n「レガシープロジェクトで最
 大限AIの恩恵を受けられるようClaude Codeを利用する」\n
 橘井 貴輝dely株式会社 /フロントエンドエンジニア中央
 大学文学部卒業後、IT業界で営業職として従事。2021年
 よりフロントエンドエンジニアへキャリアチェンジを
 し、管理画面などの開発に携わる。2024年9月にdely株式
 会社へ入社をし、レシピ動画プラットフォーム クラシ
 ルの開発を行っている。\n「Claude Code を開発チームに
 迎え入れるためにやっておきたい環境整備」\n松本 真
 生株式会社カナリー / テクニカルリードエンジニア大
 学院修了後、2022年に大手SIerに入社し、自治体向けの
 プロダクト開発に従事。2024年7月に株式会社カナリー
 に参画し、現在は新規プロダクトの開発に携わってい
 る。メインはフロントエンド。関西在住。\n⚠️諸注
 意\n\nエージェントの方や営業目的でのイベントの参加
 はご遠慮ください\n性別/性的指向/障碍の有無/人種/宗
 教/年齢/容姿/体格/技術の選択に関わりなく、 誰もが
 気持ちよく参加できるようにご協力ください\n当イベ
 ントの内容およびスケジュールは、予告なく変更とな
 る場合があります。予めご了承ください。\nイベント
 参加時に入力いただいた情報は、以下に基づき扱いま
 す。ファインディ株式会社 プライバシーポリシー\n\n
 📣主催・運営\nファインディ株式会社\n\nIT/Webエンジニ
 アの転職サービス「Findy」 :独自のアルゴリズムを用い
 てエンジニアのスキルを可視化し、ハイスキルなエン
 ジニアと企業をマッチングする転職サービスです。登
 録エンジニアは12万人を突破、登録企業数は約1\,100社
 、スタートアップ企業を中心にDXを推進したい大手企
 業まで幅広い企業に導入していただいております。\n
 ハイスキルなフリーランスエンジニア紹介サービス「F
 indy Freelance」 :ハイスキルなフリーランスエンジニアと
 企業の業務委託案件のマッチングサービスです。「Find
 y」同様にGitHubを解析した独自アルゴリズムを用いたス
 キル評価をもとに、単価保証の案件を紹介しています
 。登録エンジニア数は5万人を突破し、スタートアップ
 企業を中心にDXを推進したい大手企業まで1\,500社以上
 に導入いただいております。\nエンジニア組織の開発
 生産性可視化・向上SaaS 「Findy Team+」 :特許取得の独自
 技術を用いて、GitHub、GitLab、Bitbucket、Backlog、Jiraなど
 を解析し「Four Keys」や「SPACE」といった指標やフレー
 ムワークに基づき、開発のアクティビティ・効率・ク
 オリティやエンゲージメントなどを多面的に可視化す
 ることで、開発生産性・開発者体験向上をサポートし
 ています。\n開発ツールのレビューサイト「Findy Tools」
 ：開発ツールに特化したレビューサイトです。第三者
 の視点で実際にツールの選定を行った企業の生の声を
 集めることで、ツール選定に関する不安を解消し、導
 入検討に必要な情報を提供します。\n
LOCATION:
URL:https://techplay.jp/event/984727?utm_medium=referral&utm_source=ics&utm
 _campaign=ics
END:VEVENT
END:VCALENDAR
