BEGIN:VCALENDAR
VERSION:2.0
PRODID:-//https://techplay.jp//JP
CALSCALE:GREGORIAN
METHOD:PUBLISH
X-WR-CALDESC:モールECの怖い話〜売れるのに、利益残らない
 〜
X-WR-CALNAME:モールECの怖い話〜売れるのに、利益残らない
 〜
X-WR-TIMEZONE:Asia/Tokyo
BEGIN:VTIMEZONE
TZID:Asia/Tokyo
BEGIN:STANDARD
DTSTART:19700101T000000
TZOFFSETFROM:+0900
TZOFFSETTO:+0900
TZNAME:JST
END:STANDARD
END:VTIMEZONE
BEGIN:VEVENT
UID:984803@techplay.jp
SUMMARY:モールECの怖い話〜売れるのに、利益残らない〜
DTSTART;TZID=Asia/Tokyo:20250819T130000
DTEND;TZID=Asia/Tokyo:20250819T150000
DTSTAMP:20260425T155823Z
CREATED:20250805T054009Z
DESCRIPTION:イベント詳細はこちら\nhttps://techplay.jp/event/98480
 3?utm_medium=referral&utm_source=ics&utm_campaign=ics\n\n▌セミナー
 概要\nEC運営の現場には、数字では語れない“怖い話”
 が潜んでいます。一見うまくいきそうな施策が、気づ
 けば赤字の原因に。便利なはずのモール機能が、いつ
 の間にか運営を苦しめる“落とし穴”に。本セミナー
 では、モールECに精通したプロたちが実際に体験した
 、思わず背筋が寒くなるような“ECの怖い話”をお届
 けします。「やったことで失敗した話」「やらなかっ
 たことで痛い目を見た話」など、リアルな事例をもと
 に、EC運営に潜むリスクとその回避策を解き明かしま
 す。同じ過ちを繰り返さず、利益を守るために。この
 “怖い話”から、あなたのEC運営のヒントを見つけて
 ください。‍どうぞお気軽にご参加ください。ぜひご
 参加お待ちしております！‍‍‍\n【お申込みはこち
 ら】https://www.ecnopro.jp/times/seminar-20250819\n＼こんな方に
 おすすめです／・広告費ばかりかさんで利益が残らな
 いと悩んでいる事業者・物流のコスト・運用負担を削
 減したいEC担当者・SNSやインフルエンサー施策で「バ
 ズったのに売上・利益が伸びない」経験がある方・広
 告費で利益を圧迫していると感じている方・楽天市場
 で伸び悩んでいるものの、何から手をつければ良いか
 わからない方\n▌登壇プログラム\n第一部（13:00～13:20
 ）　株式会社WUUZY\n⚫︎【EC事業の組織・人材活用】の
 ゾッとする話その運営体制、大丈夫？EC事業成長のカ
 ギは組織にあり！EC市場が拡大を続ける中、多くの企
 業が人材不足に頭を抱えています。基盤となる組織力
 や人材の運営力が不足しており、事業が成長していか
 ないケースも非常に多いのが現状です。限られたリソ
 ースをうまく配置、活用していかないと、いつまで経
 ってもコストだけが嵩み、売上が上がらない状態とい
 う怖い状態に陥りかねません…！本パートでは、EC事
 業の「組織」「人材」にフォーカスし、失敗しやすい
 組織体制について解説するとともに、最短で売上を伸
 ばしていくためのポイントについてお伝えいたします
 。\n第2部（13:20～13:40）　株式会社オープンロジ　\n⚫
 ︎EC物流に潜む怖い話！“見えないコスト”の対処法EC
 モールを活用して事業を拡大していく中で、出荷量の
 増加とともに人件費や業務負荷、誤出荷・CS対応とい
 った“見えないコスト”も膨らみます。結果として、
 「売れているのに儲からない」状態に陥ってしまうケ
 ースも少なくありません。そうした問題の原因となる
 「コスト構造のゆがみ」に着目し、物流業務の最適化
 によって、利益率を改善するための実践的な考え方と
 選択肢をご紹介します。今後の成長フェーズに備えた
 「物流の見直し」のヒントとしてご活用いただける内
 容です。\n第3部（13:40～14:00）　株式会社ALL WEB CONSULTING
 \n⚫︎【実録！楽天ECモール出店の失敗学】 撤退率76％
 の真実と「こんなはずじゃなかった」を避ける方法楽
 天市場は国内最大級のECモールでありながら、実際の
 撤退率は76％という衝撃的な数字が明らかになってい
 ます。多くの事業者が「楽天なら売れるだろう」とい
 う期待を持って出店するものの、現実は厳しく、1年以
 内に約3割の店舗が退店を余儀なくされています。本セ
 ミナーでは、楽天ECモール出店で実際に起きた失敗事
 例を徹底分析し、「出店前に知っておくべきだった現
 実」をリアルな体験談とデータを交えてお伝えします
 。\n第4部（14:00～14:20）　Qoo10（eBay Japan合同会社）\n⚫
 ︎それ、Qoo10なら怖くありません ─ モールECの“落と
 し穴”を乗り越える選択肢広告費が高くて利益が残ら
 ない、価格競争に疲れる、モールのルールに縛られる
 ──そんなモールECの“怖い話”に共感する方も多い
 のではないでしょうか。このセッションでは、Qoo10が
 どのようにそれらの課題に向き合い、出店者が利益を
 出しやすい環境を整えているかを、実例を交えてご紹
 介します。\n低コストで始められる広告や、Qoo10が費用
 を一部負担する「メガ割」など、売上と利益率の両立
 を可能にする独自の仕組みを詳しく解説します。常に
 発行されているモール負担クーポンが、思い切った価
 格設定とランキング上位への可能性、ひいては広告に
 依存しない集客とUGCの増加にどう繋がるのかもお伝え
 します。これからモール出店を検討している方に、Qoo1
 0という“もう一つの選択肢”をご提案します。\n第5部
 （14:20～14:40）　株式会社REECH\n⚫︎なぜ“バズった”
 のに利益が残らない？モールEC担当者が陥りがちな失
 敗と2025年型インフルエンサー活用の新常識「SNSで話題
 化したのに売上・利益につながらない」「フォロワー
 数や再生数だけを追いかけて施策が空回り」──こう
 した“よくある失敗”は、モールECを運営する中で誰
 もが一度は直面しやすい課題です。本セッションでは
 、2.5億件超のSNSデータ分析から見えた「従来型施策の
 落とし穴」と2025年以降に成果を出すための新しいKPI設
 計・インフルエンサー選定基準を徹底解説。・“バズ
 ”やフォロワー数頼みの施策が失敗する理由・平均視
 聴率／フォロワー増加率など、見るべき指標の変化・U
 GCを増やし成果を最大化する最新事例など、利益を残
 すための実践ノウハウを具体的にご紹介します。\n第6
 部（14:40～15:00）　株式会社Proteinum\n⚫︎その広告運用
 大丈夫？楽天市場成長のカギはRPP広告にあり！EC市場
 が拡大を続ける中、楽天市場の市場規模も拡大中。一
 方で多くの事業者が参入しており、競争が激化してい
 る中で、自社商品を買っていただくのが難しい状況で
 す。しっかりとした戦略や運営体制のもとで広告運用
 をしていかないと、無駄にコストばかりかかってしま
 い、事業を続けていくこと自体が難しくなる可能性も
 あります。。。！本パートでは、楽天市場の「広告運
 用」にフォーカスし、失敗しやすい考え方や運用方法
 について解説するとともに、最短で最もコストパフォ
 ーマンスが高い状態で売上を伸ばしていくためのポイ
 ントについてお伝えいたします。\n▌講師紹介\n●吉田
  拓未 氏　（株式会社WUUZY　マーケティンググループ 
 マネージャー）‍新卒で株式会社みずほ銀行に入行し
 、法人セールスにて融資・不動産・相続など経営周り
 の支援。その後、株式会社WUUZYに3人目の社員として参
 画し、マーケティング事業部の立ち上げを経験。現在
 は、EC経験者だけで5\,000名以上登録する複業マッチン
 グサービス「ECのプロ」のマーケティング全般を担う
 。●川崎 文吾 氏　（株式会社オープンロジ　セール
 ス&マーケティング部パートナーセールスユニットシニ
 アパートナーセールス‍）D2Cスタートアップ企業にてE
 C事業責任者を経験、その後CEO室長としてナショナルク
 ライアントとのアライアンスや新規事業開発に従事。2
 022年5月にオープンロジへ入社。2年ほど全社を横断す
 る経営企画や人材・組織開発を経験したのち、24年8月
 にパートナーセールスチームへ異動。現在はオープン
 ロジパートナー企業様との協業強化に従事。●江守 義
 樹 氏　（株式会社ALL WEB CONSULTING　代表取締役）ECサイ
 トの店長として複数のショップをゼロから立ち上げ、
 月商数千万円規模まで成長させた実績を持つ。2017年よ
 りEC専門のコンサルティング会社に参画し、自身の現
 場経験を活かして数百以上のECサイトの立ち上げ・運
 営支援に従事。2020年に株式会社ALL WEB CONSULTINGを創業し
 、代表取締役に就任。これまでに累計2\,000サイト以上
 のデータ分析を行ってきた知見をもとに、SEO戦略、サ
 イト設計、WEB広告運用、プロモーション施策まで、幅
 広いWEBマーケティング領域での支援を行うスペシャリ
 ストとして活動している。●廣瀬 岳 氏　（Qoo10（eBay J
 apan合同会社）Seller Growth Team マネージャー）2013年に現e
 Bay Japan入社し、カスタマーサポート業務に従事。​そ
 の後、Qoo10に出店するショップが販売管理や運営を行
 う際のサポート業務を担当。​これまでに培った経験
 を活かし、現在は「Qoo10大学」にてオンラインセミナ
 ーの講師を務め、ショップ運営のノウハウを紹介する
 記事を執筆。常にショップの視点に立ち、役立つ情報
 の提供を心がけている。●長谷川 孔介氏　（株式会社
 REECH　ゼネラルマネージャー(GM)）YouTube制作会社売却後
 、DMM.comにて新規事業開発・事業再生、株式会社ネクス
 トレンドという年間3\,000案件実施のインフルエンサー
 マーケティング会社にて取締役を経験。現在は株式会
 社REECHにてゼネラルマネージャーとしてインフルエン
 サー事業を統括。インフルエンサーマーケティングプ
 ラットフォーム「REECH DATABASE」を軸に、データを活用
 した戦略設計からキャスティング、効果測定まで一気
 通貫で支援。クライアントのマーケティング課題に対
 し、インフルエンサーを活用した最適なソリューショ
 ンを提供している。●米沢 洋平 氏　（株式会社Proteinu
 m　代表取締役）慶應義塾大学商学部卒業。楽天グルー
 プ株式会社、コンサルティングファームを経て、現職
 。楽天ではECコンサルティング業務に従事、SOA、SOY（
 楽天内年間優秀店舗）受賞店舗様複数担当。3か月で売
 上を100万円から1\,000万円を突破した店舗様やSOY店舗様
 の販売支援など幅広い経験をもつ。その他、中小企業
 から大企業まで様々な企業のEC事業計画の策定、およ
 び実行支援を経験。\n【お申込みはこちら】https://www.ec
 nopro.jp/times/seminar-20250819\n▌株式会社ALL WEB CONSULTINGにつ
 いて\nネットショップ・ECサイトの支援に特化したマー
 ケティング会社です。戦略立案、サイト解析などのEC
 コンサルティングからWEB広告運用、SEO対策、SNSマーケ
 ティングなどの集客施策、サイト構築、LP制作などのWE
 B制作、ショップブランディングまでEC運営に関わるこ
 とはすべてワンストップで行っております。また、楽
 天、Yahoo！、AmazonなどのECショッピングモールから自社
 ECサイトまで幅広く対応。過去1\,000サイト以上のECサイ
 トで売上向上支援、サイト分析を行っておりノウハウ
 も豊富です。\n＜会社概要＞会社名：株式会社ALL WEB CON
 SULTING所在地：東京都渋谷区恵比寿西２丁目１９−９代
 表者：代表取締役　江守 義樹URL ：https://allweb-consulting.
 co.jp\n事業内容：-ネットショップ（ECサイト）の運営支
 援及びコンサルティング-ネットショップ（ECサイト）
 運営支援ツールの開発・ご提供-ネットショップ（ECサ
 イト）の運営代行-ECサイト制作-商品撮影・商品登録代
 行-SEO対策-広告運用代行-インフルエンサーマーケティ
 ング\n▌ 本件に関するお問合せ\n株式会社ALL WEB CONSULTIN
 Gセミナー運営事務局\nTEL：03-6276-8654（代表）MAIL：info@a
 llweb-consulting.co.jpURL：https://allweb-consulting.co.jp
LOCATION:株式会社ビービット　オフィス内 〒100-0004 東京
 都千代田区大手町2-2-1 新大手町ビル10階 ※新大手町ビ
 ル10階へ行くのはビル正面口入って手前右のエレベー
 タ 　2基のみですので、ご注意ください
URL:https://techplay.jp/event/984803?utm_medium=referral&utm_source=ics&utm
 _campaign=ics
END:VEVENT
END:VCALENDAR
