BEGIN:VCALENDAR
VERSION:2.0
PRODID:-//https://techplay.jp//JP
CALSCALE:GREGORIAN
METHOD:PUBLISH
X-WR-CALDESC:【RPA×生成AI】UiPath Healing Agent 活用セミナー
X-WR-CALNAME:【RPA×生成AI】UiPath Healing Agent 活用セミナー
X-WR-TIMEZONE:Asia/Tokyo
BEGIN:VTIMEZONE
TZID:Asia/Tokyo
BEGIN:STANDARD
DTSTART:19700101T000000
TZOFFSETFROM:+0900
TZOFFSETTO:+0900
TZNAME:JST
END:STANDARD
END:VTIMEZONE
BEGIN:VEVENT
UID:984805@techplay.jp
SUMMARY:【RPA×生成AI】UiPath Healing Agent 活用セミナー
DTSTART;TZID=Asia/Tokyo:20250807T120000
DTEND;TZID=Asia/Tokyo:20250807T130000
DTSTAMP:20260420T110743Z
CREATED:20250805T055835Z
DESCRIPTION:イベント詳細はこちら\nhttps://techplay.jp/event/98480
 5?utm_medium=referral&utm_source=ics&utm_campaign=ics\n\n無料セミナ
 ーお申込みはこちら\nUiPathの新機能「Healing Agent」を活
 用したRPA保守業務の改革・改善の取り組みを、クレス
 コ独自の検証結果をもとにご紹介します。また、AIに
 よる自己修復機能とRPAの連携によって、業務の安定性
 向上と保守工数削減に役立つアイディアも得ることが
 できます。RPA運用におけるエラーの自動検知・自己修
 復の仕組みを学び、業務改善の一歩を踏み出しましょ
 う。\n特に、以下のような方々にお勧めいたします!\n\n
 不具合の原因調査に多くの時間をかけている\n同じよ
 うなエラーが繰り返し発生している\n画面操作の変更
 が多く、システム更新時にエラーが起こりやすい\nタ
 イムアウトによるエラーが頻繁に発生する\n\n━━━━
 ━━━━━━━━━━━━━━━━　プログラム━━
 ━━━━━━━━━━━━━━━━━━\n\nHealing Agent
 のご紹介\nHealing Agentによる保守工数削減のポイント\n\n
 ━━━━━━━━━━━━━━━━━━━━　セミナ
 ー概要━━━━━━━━━━━━━━━━━━━━日
 時：2025年8月7日（木）12:00 - 13:00\n場所：Zoomウェビナー
 主催：株式会社クレスコ費用：無料\n 無料セミナーお
 申込みはこちら
LOCATION:
URL:https://techplay.jp/event/984805?utm_medium=referral&utm_source=ics&utm
 _campaign=ics
END:VEVENT
END:VCALENDAR
