BEGIN:VCALENDAR
VERSION:2.0
PRODID:-//https://techplay.jp//JP
CALSCALE:GREGORIAN
METHOD:PUBLISH
X-WR-CALDESC:AWS Systems Manager入門「実務で役立つセキュア接
 続」&交流会
X-WR-CALNAME:AWS Systems Manager入門「実務で役立つセキュア接
 続」&交流会
X-WR-TIMEZONE:Asia/Tokyo
BEGIN:VTIMEZONE
TZID:Asia/Tokyo
BEGIN:STANDARD
DTSTART:19700101T000000
TZOFFSETFROM:+0900
TZOFFSETTO:+0900
TZNAME:JST
END:STANDARD
END:VTIMEZONE
BEGIN:VEVENT
UID:984861@techplay.jp
SUMMARY:AWS Systems Manager入門「実務で役立つセキュア接続」
 &交流会
DTSTART;TZID=Asia/Tokyo:20250820T190000
DTEND;TZID=Asia/Tokyo:20250820T200000
DTSTAMP:20260422T022540Z
CREATED:20250806T073330Z
DESCRIPTION:イベント詳細はこちら\nhttps://techplay.jp/event/98486
 1?utm_medium=referral&utm_source=ics&utm_campaign=ics\n\n『AWS Systems M
 anager入門「実務で役立つセキュア接続」&交流会』\nSSH
 鍵ファイルやポートの開放に頼らない、新しいサーバ
 接続の常識をご存知ですか？本勉強会では、AWSの運用
 管理サービス「Systems Manager（SSM）」を活用し、EC2イン
 スタンスへのログインをより安全かつ簡単に行う方法
 を実演形式でご紹介します。\nIAMロールの設定や、SSM A
 gentの動作確認、ブラウザ経由のログイン操作など、現
 場で役立つ具体的な設定手順を解説。インフラ初心者
 の方にもわかりやすく、安心して学べる内容です。さ
 らに、エンジニアとの交流も可能です！今進めている
 プロジェクトでのお悩みや、クラウドインフラの学習
 を進めているけど何を勉強した方が良さそう？など、
 就職活動から仕事、職種、スキルアップのお悩みなど
 、気楽に交流もしながら進めていく会です。インフラ
 でなくてもエンジニアを目指している方、エンジニア
 の方はお気軽にご参加ください！\n▼ 開催概要\n日時
 ：2025年8月20日（水）19:00〜20:00（予定）開催形式：オ
 ンライン（Zoom）※参加方法について、下記の”参加方
 法・詳細案内”をご確認ください。\n▼ 参加方法・詳
 細案内\n\n\n無料でのご参加にあたって、下記の事前ア
 ンケートにご回答をお願いいたします。事前アンケー
 トはこちらをクリック\n\n\nオープンチャット「ガジュ
 マル勉強会」内にて、ZoomのURLや資料などご案内してい
 ます。ご参加希望の方は、以下よりオープンチャット
 へご参加いただき、「テックプレイから申し込みまし
 た」と一言コメントをお願いします。ガジュマル勉強
 会※「新しいプロフィールで参加」→「トーク一覧」
 →「ガジュマル勉強会」を選択\n\n\n▼ こんな方におす
 すめ\n\nAWSの基礎から実践に進みたい方\nエンジニアと
 交流しながらスキルアップを進めたい方\n今後、エン
 ジニアとして進めていくところで他の方と情報交換を
 したい方\n現在進めているクラウド業務で悩みや課題
 を抱えていて、聞きたい方\n開発メインだけど、イン
 フラ知識も押さえておきたい方\n操作を見ながら学び
 たい方\n将来的にインフラやクラウドの知識を広げた
 い方\n未経験からエンジニア志望のため勉強中の方\n勉
 強会後も継続して学べる場やサポートの場が欲しい方\
 nエンジニアとして就職活動をしていて（これからされ
 ようとしていて）情報収集したい方\n\n▼ 事前準備\n\nZ
 oomアカウントの準備\n\nタイムスケジュール（予定）\n\
 n\n\n時間\n内容\n\n\n\n\n18:55〜19:10\nZoom開場・自己紹介\n\n
 \n19:10〜19:30\n勉強会前半\n\n\n19:30〜19:40\n質疑応答・交
 流タイム\n\n\n19:40～20:00\n勉強会後半・終了予定\n\n\n20:0
 0～\n質疑応答、交流タイム\n\n\n\n※ 20時以降は希望さ
 れる方は質疑やエンジニアとの交流タイム、キャリア
 相談など可能です。\nご不明点など、お気軽にお問い
 合わせください。下記の弊社公式LINEからも受け付けて
 おります。スムーズにやり取りができますので、ぜひ
 ご利用ください。LINEのご登録はこちらをクリック\nご
 参加をお待ちしております！
LOCATION:
URL:https://techplay.jp/event/984861?utm_medium=referral&utm_source=ics&utm
 _campaign=ics
END:VEVENT
END:VCALENDAR
