BEGIN:VCALENDAR
VERSION:2.0
PRODID:-//https://techplay.jp//JP
CALSCALE:GREGORIAN
METHOD:PUBLISH
X-WR-CALDESC:INNOFUSION テックトーク1｜INNOVATION ACROSS CULTURES
X-WR-CALNAME:INNOFUSION テックトーク1｜INNOVATION ACROSS CULTURES
X-WR-TIMEZONE:Asia/Tokyo
BEGIN:VTIMEZONE
TZID:Asia/Tokyo
BEGIN:STANDARD
DTSTART:19700101T000000
TZOFFSETFROM:+0900
TZOFFSETTO:+0900
TZNAME:JST
END:STANDARD
END:VTIMEZONE
BEGIN:VEVENT
UID:984901@techplay.jp
SUMMARY:INNOFUSION テックトーク1｜INNOVATION ACROSS CULTURES
DTSTART;TZID=Asia/Tokyo:20250826T200000
DTEND;TZID=Asia/Tokyo:20250826T213000
DTSTAMP:20260423T125424Z
CREATED:20250807T070035Z
DESCRIPTION:イベント詳細はこちら\nhttps://techplay.jp/event/98490
 1?utm_medium=referral&utm_source=ics&utm_campaign=ics\n\nINNOFUSION テ
 ックトーク1｜成長の交差点：日越のビジネスとイノベ
 ーションの展望​\n概要\n「違いこそが、革新を生む。
 」INNOFUSIONとは、ベトナム人の創造力と日本人の情熱が
 交わり、技術と文化が融合して新たな価値を生み出す
 場です。 FPTジャパンの日本での20年の歩みを記念し、
 日越のトップリーダーやイノベーターを迎えて開催す
 る3回シリーズのウェビナーイベントが INNOFUSION です。
  ここは、人・アイデア・テクノロジーが交差する場所
 。 多様な視点から、未来を切り拓くヒントが生まれま
 す。\n🌏 [トーク1] Innovation Across Cultures\n💡 テーマ： 
 成長の交差点：日越のビジネスとイノベーションの展
 望 文化の違いを乗り越え、日越間でどのようにイノベ
 ーションが生まれているのかを深掘りします。🔉 登
 壇者：\n\nグエン・フウ・ロン（FPTコンサルティングジ
 ャパン 代表取締役社長）\nグエン・ヴィエト・ハー（
 株式会社ケネット 代表取締役／社会福祉法人高砂福祉
 会グループ取締役）\n栗花落 慧樹（株式会社テクニカ 
 代表取締役社長）\nモデレーター： 鈴木 琢哉（FPTコン
 サルティングジャパン BXチーム PXディレクター）\n\n
 📆 日程：8月26日（火) 20:00-21:30 JST\n🤖[トーク2] Mind Mee
 ts Machine\n💡テーマ： 知能の共鳴：日越が拓くAIの可能
 性 AI技術の最前線と、日越の協力によって生まれる新
 たな国際ビジネスの可能性を紐解きます。🔉登壇者：
  後日発表📆 日程：後日発表\n🌱 [トーク3] Community & Su
 stainable Technology\n💡テーマ： 共に築く未来：日越の地
 域づくりとサステナブル技術 地域貢献とサステナビリ
 ティに対して、テクノロジーがどのように貢献できる
 のか。実例を交えて考えます。🔉登壇者： 後日発表
 📆 日程：後日発表\n📍 登録はこちらから\nhttps://career
 .fpt-software.com/innofusion-2025/
LOCATION:
URL:https://techplay.jp/event/984901?utm_medium=referral&utm_source=ics&utm
 _campaign=ics
END:VEVENT
END:VCALENDAR
