BEGIN:VCALENDAR
VERSION:2.0
PRODID:-//https://techplay.jp//JP
CALSCALE:GREGORIAN
METHOD:PUBLISH
X-WR-CALDESC:【無料ハンズオン】ローコード開発プラット
 フォームMendix体験『日報アプリをつくろう』
X-WR-CALNAME:【無料ハンズオン】ローコード開発プラット
 フォームMendix体験『日報アプリをつくろう』
X-WR-TIMEZONE:Asia/Tokyo
BEGIN:VTIMEZONE
TZID:Asia/Tokyo
BEGIN:STANDARD
DTSTART:19700101T000000
TZOFFSETFROM:+0900
TZOFFSETTO:+0900
TZNAME:JST
END:STANDARD
END:VTIMEZONE
BEGIN:VEVENT
UID:984907@techplay.jp
SUMMARY:【無料ハンズオン】ローコード開発プラットフォ
 ームMendix体験『日報アプリをつくろう』
DTSTART;TZID=Asia/Tokyo:20250903T130000
DTEND;TZID=Asia/Tokyo:20250903T160000
DTSTAMP:20260423T062155Z
CREATED:20250807T085213Z
DESCRIPTION:イベント詳細はこちら\nhttps://techplay.jp/event/98490
 7?utm_medium=referral&utm_source=ics&utm_campaign=ics\n\n【無料ハン
 ズオン】ローコード開発プラットフォームMendix体験『
 日報アプリをつくろう』\n概要\n【無料ハンズオン】ロ
 ーコード開発プラットフォームMendix体験『日報アプリ
 をつくろう』は、ローコードプラットフォームMendixの
 基本的な知識や使い方を、ハンズオンで実際に体験し
 ながら学ぶオンラインセミナーです。\n「ローコード
 って最近聞くけど、どんなものなの？」「Mendixが気に
 なるけど何から手を付けていいのかわからない！」「
 本当に簡単にはじめられるの？」\nそんな疑問をお持
 ちの方はぜひご参加ください！Mendixについてはこちら
 をご覧ください。\n【内容】本セッションでは講師と
 共にハンズオン形式の開発体験を通して、Mendixの基本
 的な知識や使い方を学びます。\n■ はじめに■ Mendixの
 基本構成解説■ 作成する『日報アプリ』のご紹介■ 
 開発体験・Mendix Studio Proの見方・ワンクリックで簡単
 に展開(Deploy)・ドメインモデルをつくってみよう・ペ
 ージをつくってみよう・ナビゲーションメニューをつ
 くってみよう・マイクロフローをつくってみよう■さ
 いごに＆質疑応答\n※ 当日予告なく時間配分・内容が
 変更になる可能性がございます。\n\n登壇者\n高安　悠
 菜\n株式会社アルネッツ マーケティング＆セールス本
 部 DX営業部\n参加対象\n\nエンジニア\n非エンジニア\n\n
 参加費\n無料\n注意事項\n※オンラインWeb会議にはTeams
 を利用いたします。質疑応答を行うスタイルのセッシ
 ョンの都合上、参加者同士が見える状態になります。
 あらかじめご了承ください。※リクルーティング、勧
 誘など、採用目的でのイベント参加はお断りしており
 ます。※欠席される場合は、お手数ですが速やかにキ
 ャンセル処理をお願い致します。※開催定員に満たな
 い場合、または開始時間を15分過ぎても参加されない
 場合、開催中止となることがあります。参加希望の方
 は時間厳守でご参加いただきますよう、よろしくお願
 いいたします。ご理解とご了承を賜りますようお願い
 申し上げます。※講師、講義内容、時間等は変更にな
 る場合があります。予めご了承ください。※主催者に
 よる今後のセミナー実施等の参考にさせていただくた
 め、セミナー終了後のアンケートにご協力をお願いい
 たします。※株式会社アルネッツ主催のイベントおよ
 びセミナー（ワークショップ、見学会などを含む）で
 は、イベントやセミナーの様子を写真撮影・動画で録
 画することがございます。撮影した写真、録画した動
 画は、弊社内での活動記録として、社内で保管するこ
 となどを目的に撮影させていただくものです。※本セ
 ミナーの申込で取得した個人情報は、主催者からの各
 種ご案内（イベント・セミナー情報、製品・サービス
 情報）および営業活動のために利用する場合がありま
 す。
LOCATION:
URL:https://techplay.jp/event/984907?utm_medium=referral&utm_source=ics&utm
 _campaign=ics
END:VEVENT
END:VCALENDAR
