BEGIN:VCALENDAR
VERSION:2.0
PRODID:-//https://techplay.jp//JP
CALSCALE:GREGORIAN
METHOD:PUBLISH
X-WR-CALDESC:「健康的に働きたい」ITトレンドEXPOから教わ
 る健やかな仕事術セミナー４選
X-WR-CALNAME:「健康的に働きたい」ITトレンドEXPOから教わ
 る健やかな仕事術セミナー４選
X-WR-TIMEZONE:Asia/Tokyo
BEGIN:VTIMEZONE
TZID:Asia/Tokyo
BEGIN:STANDARD
DTSTART:19700101T000000
TZOFFSETFROM:+0900
TZOFFSETTO:+0900
TZNAME:JST
END:STANDARD
END:VTIMEZONE
BEGIN:VEVENT
UID:985012@techplay.jp
SUMMARY:「健康的に働きたい」ITトレンドEXPOから教わる健
 やかな仕事術セミナー４選
DTSTART;TZID=Asia/Tokyo:20250902T090000
DTEND;TZID=Asia/Tokyo:20250905T180000
DTSTAMP:20260423T193226Z
CREATED:20250812T050850Z
DESCRIPTION:イベント詳細はこちら\nhttps://techplay.jp/event/98501
 2?utm_medium=referral&utm_source=ics&utm_campaign=ics\n\n当社も出展
 する国内最大級のオンライン展示会「ITトレンドEXPO2025
  Summer」で公開されるセミナー動画の中からオススメし
 たい動画４選のご案内です。\n \n「大人の小学校」校
 長と探る、"働きがい"が生まれる組織のつくり方　\n▶
 　開催日時　・9月2日（火）09:30~10:30\n▶　登壇者　・
 タレント　田村 淳氏　・株式会社アトラエ Wevox ビジ
 ネスサイド統括 /SMBC Wevox株式会社 取締役副社長　川本
  周氏\n▶　詳細・視聴申込　https://it.expo.it-trend.jp/sessio
 n/time?open_session_detail=1&session_id=511&utm_source=cmk-dkty0tdv\n▶
 　概要本セッションでは、「大人の小学校」を通じて
 “問い→創造”の場を育んできた田村淳氏と、ワーク
 ・エンゲイジメントの観点から理想の組織像を追求し
 てきたWevox川本周氏が、これからの働きがいと組織づ
 くりについて語り合います。多様な大人が共創するコ
 ミュニティ運営の実践知と、組織の熱量や主体性を高
 めてきた経験を重ね合わせながら、対談形式で「"働き
 がい"が生まれる組織とは何か？」を掘り下げていきま
 す。川本氏がデータと観察の視点や組織作りの実体験
 から感じた難しさや工夫から問いを投げかけ、田村氏
 が現場でのリアルな知見で応える往復から、組織づく
 りに活かせる具体的なヒントが浮かび上がります。自
 社の取り組みにすぐ活かせる、気づきとアイデアにあ
 ふれた45分です。\n仕事で感じるストレスへの向き合い
 方 ～不必要なストレスで消耗しないための思考法～　
 \n▶　開催日時　・9月3日（水）11:20~11:50\n▶　登壇者
 　・株式会社識学　代表取締役社長　安藤 広大氏\n▶
 　詳細・視聴申込　https://it.expo.it-trend.jp/session/time?open_
 session_detail=1&session_id=506&utm_source=cmk-dkty0tdv\n▶　概要成
 長には一定の負荷（ストレス）が必要です。しかし、
 ただ闇雲にストレスを受けている状態では心身ともに
 消耗してしまします。本公演では、成長に必要なスト
 レスと不必要なストレスの見極め方、不必要なストレ
 スに押しつぶされないようするための回避方法、仕事
 での成果を最大化し正しく成長してくための思考法を
 お伝えしてきます。\n健康経営のイノベーション〜健
 康投資を成果に変える組織づくり〜\n▶　開催日時　
 ・9月4日（木）18:45~19:30\n▶　登壇者　・株式会社FiNC Te
 chnologies　代表取締役社長　小島 かおり氏　・ヘルス
 ビズウォッチ合同会社 共同代表CSO／一般社団法人社会
 的健康戦略研究所 理事　渡辺 武友氏\n▶　詳細・視聴
 申込　https://it.expo.it-trend.jp/session/time?open_session_detail=1&s
 ession_id=542&utm_source=cmk-dkty0tdv\n▶　概要なぜ健康経営は
 進まないのか？健康の大切さはわかっているのに、な
 ぜ行動に移せないのか。企業や組織にとっても、ビジ
 ネスパーソン個人にとっても根深い課題に向き合いま
 す。あなたやあなたの会社は、健康への意識を「投資
 」と捉えられていますか？健康経営を「コスト」では
 なく「投資」として捉えたときに、その効果をどう組
 織に還元するのか。社員のエンゲージメント向上や組
 織文化への浸透など、健康投資を企業の価値として活
 かすための仕組みや制度設計について、マーケティン
 グや組織論の視点を交えて探っていきます。また、ビ
 ジネスパーソン個人の視点では、忙しさやモチベーシ
 ョンの波など、人間の行動特性を踏まえた障壁を整理
 し、その上で日常に溶け込む健康習慣づくりのヒント
 を探ります。\n今日からできる快眠法 〜睡眠専門医が
 伝える「睡眠」のファクトフルネス〜　\n▶　開催日
 時　・9月5日（金）12:00~12:45\n▶　登壇者　・東京医科
 大学精神医学分野 睡眠学講座 客員教授／日本睡眠学
 会　評議員／National Sleep Foundation (US) Sleep Health Associate E
 ditor／株式会社こどもみらい　志村 哲祥氏\n▶　詳細
 ・視聴申込　https://it.expo.it-trend.jp/session/time?open_session_d
 etail=1&session_id=541&utm_source=cmk-dkty0tdv\n▶　概要あなたは
 「快眠」できていますか？仕事の疲れを癒すのに睡眠
 は非常に重要な要素です。本セッションでは、睡眠に
 フォーカスを当て、「睡眠専門医」をゲストにお招き
 して快眠法についての真実に迫ります。睡眠している
 時に、脳は何をしているのか？一般的に言われる睡眠
 法は正しいのか？睡眠専門医だからこそ知り得る視点
 、知見から、あなたの快眠法が正しいのかを見直して
 みませんか？\n\n\n\n上記の他にも非常に多くのセッシ
 ョンが開催されます。\nオンライン展示会への参加登
 録は1分程度！どうぞお早めにお申込みください。\n\nIT
 トレンドEXPO2025 Summer イベント概要\n\n開催日時：2025年9
 月2日（火）～5日（金）\n開催場所：オンラインでの開
 催\n参加費：無料\n登録・詳細：https://it.expo.it-trend.jp/ke
 y/dkty0tdv\n\nデータフォーシーズからは【AIカテゴリ】に
 て【データ解析ソリューションサービス】を出展予定
 のこの展示会は、法人向けIT製品の比較・検討サイト
 「ITトレンド」が主催する業界最大級のオンライン展
 示会です。
LOCATION:
URL:https://techplay.jp/event/985012?utm_medium=referral&utm_source=ics&utm
 _campaign=ics
END:VEVENT
END:VCALENDAR
