BEGIN:VCALENDAR
VERSION:2.0
PRODID:-//https://techplay.jp//JP
CALSCALE:GREGORIAN
METHOD:PUBLISH
X-WR-CALDESC:8/27(水)11：00～【インバウンドMEO】旅行客に見
 つけてもらうための対策 ～Googleマップ＆ポータルサイ
 ト活用～
X-WR-CALNAME:8/27(水)11：00～【インバウンドMEO】旅行客に見
 つけてもらうための対策 ～Googleマップ＆ポータルサイ
 ト活用～
X-WR-TIMEZONE:Asia/Tokyo
BEGIN:VTIMEZONE
TZID:Asia/Tokyo
BEGIN:STANDARD
DTSTART:19700101T000000
TZOFFSETFROM:+0900
TZOFFSETTO:+0900
TZNAME:JST
END:STANDARD
END:VTIMEZONE
BEGIN:VEVENT
UID:985056@techplay.jp
SUMMARY:8/27(水)11：00～【インバウンドMEO】旅行客に見つけ
 てもらうための対策 ～Googleマップ＆ポータルサイト活
 用～
DTSTART;TZID=Asia/Tokyo:20250827T110000
DTEND;TZID=Asia/Tokyo:20250827T114500
DTSTAMP:20260420T044007Z
CREATED:20250813T043137Z
DESCRIPTION:イベント詳細はこちら\nhttps://techplay.jp/event/98505
 6?utm_medium=referral&utm_source=ics&utm_campaign=ics\n\nWebマーケテ
 ィングのバリューエージェントでは、セミナー“【イ
 ンバウンドMEO】旅行客に見つけてもらうための対策”
 を開催することになりました。\n本セミナーでは、飲
 食店やアクティビティ運営者の方々が、訪日外国人観
 光客を効率よく集客するための実践的な方法について
 ご紹介いたします。外国人観光客が増加している2024年
 、インバウンド対策は万全でしょうか？もしかすると
 、競合店にお客様が流れてしまっている可能性もあり
 ます。本セミナーで、競合に負けないための基本的な
 施策を学びましょう。\n本セミナーは、こんな方にお
 勧め\n\n飲食業やアクティビティ事業で訪日外国人向け
 の集客を検討している方\nインバウンド対策の初歩を
 学びたい方\nGoogleマップでの検索順位を上げ、外国人
 観光客に見つけてもらいたいと考えている方\n\n本セミ
 ナーで得られること\n\n訪日外国人に選ばれるためのMEO
 対策の基本知識\n地域やニーズに合った効果的なキー
 ワード設定の方法\n実践的な集客施策と基本的なポイ
 ント\n\nセミナー内容\n\nインバウンドMEOとは\n外国人観
 光客の行動特性と検索行動\nGoogleマップでの検索順位
 を上げるためのポイント\n効果的なキーワードの選び
 方\nGoogleマップ以外にできる対策\n\n\n\nセミナー概要\n
 セミナー名\n【インバウンドMEO】旅行客に見つけても
 らうための対策 ～Googleマップ＆ポータルサイト活用～
 \n\n日時\n2025年8月27日(水)　11:00～11:45（10:55受付開始）\
 n場所\nオンライン開催※出席の確認もございますので
 、5分前にはご入室頂きますようお願いいたします。\n
 参加料\n無料\n定員\n8名\n\n登壇者\n株式会社バリューエ
 ージェント　/　WEBコンサルタント\n\nWeb制作会社で営
 業として従事後、バリューエージェントへ入社。バリ
 ューエージェントでは、Webコンサルタントとしてお客
 様のWeb上の課題を解決して売上をあげるお手伝いをす
 る。コンサルタント4年目。\n
LOCATION:
URL:https://techplay.jp/event/985056?utm_medium=referral&utm_source=ics&utm
 _campaign=ics
END:VEVENT
END:VCALENDAR
