BEGIN:VCALENDAR
VERSION:2.0
PRODID:-//https://techplay.jp//JP
CALSCALE:GREGORIAN
METHOD:PUBLISH
X-WR-CALDESC:Google Cloud はじめてセミナー
X-WR-CALNAME:Google Cloud はじめてセミナー
X-WR-TIMEZONE:Asia/Tokyo
BEGIN:VTIMEZONE
TZID:Asia/Tokyo
BEGIN:STANDARD
DTSTART:19700101T000000
TZOFFSETFROM:+0900
TZOFFSETTO:+0900
TZNAME:JST
END:STANDARD
END:VTIMEZONE
BEGIN:VEVENT
UID:985250@techplay.jp
SUMMARY:Google Cloud はじめてセミナー
DTSTART;TZID=Asia/Tokyo:20250822T160000
DTEND;TZID=Asia/Tokyo:20250822T170000
DTSTAMP:20260422T162532Z
CREATED:20250818T060141Z
DESCRIPTION:イベント詳細はこちら\nhttps://techplay.jp/event/98525
 0?utm_medium=referral&utm_source=ics&utm_campaign=ics\n\n【重要】本
 セミナーはdoorkeeperだけではお申し込み完了となりませ
 ん。下記リンク先よりクラウドエースのwebサイトにて
 お申し込みをお願いいたします。\n\nお申し込みはこち
 ら\nhttps://cloud-ace.jp/event/250822/?utm_source=doorkeeper&utm_medium=
 referral\n\nこのセミナーでは、Google Cloud の基本的なご紹
 介や、AWS、Azure との比較、最新の生成 AI 技術の活用方
 法について、活用事例やデモを交えながらラリオスが
 楽しくわかりやすくをモットーに解説していきます。\
 nGoogle Cloud を触ったことがないという方でも、その特
 徴や魅力をご理解いただける内容になっていますので
 、是非ともご参加検討いただけましたら幸いです。オ
 ンラインセミナーですのでご自宅からお気軽にご参加
 いただけます！\n\nこのセミナーで学べること\n\n\nGoogle
  Cloud の特徴や他クラウドとの違いがわかる！\nビジネ
 スやプロジェクトで Google Cloud がどのように役に立つ
 のかがわかる！\nGoogle Cloud のデモを通じて生成 AI の機
 能がどのように活用できるのかがわかる！\n\n\n講演内
 容\n\n\nパブリッククラウドの市場環境や概況\nGoogle Clou
 d の特徴・強み\nなぜ企業が AWS や Azure ではなくGoogle Cl
 oudを選ぶのか\nクラウドのセキュリティについて\nGoogle
  Cloud のユースケースと活用事例\nGoogle Workspace との連
 携について\n生成AI とGoogle Cloud について\nGoogle Cloud 生
 成AI 活用デモ\nクラウドエースのご紹介\n\n\nセミナー
 概要\n\n開催日時：2025年8月22日(金) 16:00-17:00\n申込締切
 ：2025年8月21日(木) 18:00\n会場：オンライン開催\nアクセ
 ス：アクセス方法等の詳細は、ご登録受付後メールに
 てご案内いたします。\n定員：30名\n参加費：無料\n\n対
 象者\n\n\nGoogle Cloud の基本的な知識を習得したい方\nGoog
 le Cloud の特徴や他クラウドとの違いを知りたい方\nGoogl
 e Cloud の導入を検討している方\n\n\n※Google Cloud の導入
 を検討されている、エンドユーザー企業の参加者を優
 先させて頂きますのでご承知ください。\n※また、競
 合他社企業様の本セミナーへのご登録はお断りさせて
 いただいておりますのでご了承ください。\n\nお問い合
 わせ\n\n担当：クラウドエース株式会社　セミナー事務
 局\nメール：event@cloud-ace.jp\n電話：0120-054-451
LOCATION:オンライン
URL:https://techplay.jp/event/985250?utm_medium=referral&utm_source=ics&utm
 _campaign=ics
END:VEVENT
END:VCALENDAR
