BEGIN:VCALENDAR
VERSION:2.0
PRODID:-//https://techplay.jp//JP
CALSCALE:GREGORIAN
METHOD:PUBLISH
X-WR-CALDESC:最新のデータ統合基盤でAI活用定着化を進める
 、 Databricks データ・インテリジェンス・プラットフォ
 ーム活用の全体像を最短でつかむ！
X-WR-CALNAME:最新のデータ統合基盤でAI活用定着化を進める
 、 Databricks データ・インテリジェンス・プラットフォ
 ーム活用の全体像を最短でつかむ！
X-WR-TIMEZONE:Asia/Tokyo
BEGIN:VTIMEZONE
TZID:Asia/Tokyo
BEGIN:STANDARD
DTSTART:19700101T000000
TZOFFSETFROM:+0900
TZOFFSETTO:+0900
TZNAME:JST
END:STANDARD
END:VTIMEZONE
BEGIN:VEVENT
UID:985321@techplay.jp
SUMMARY:最新のデータ統合基盤でAI活用定着化を進める、 D
 atabricks データ・インテリジェンス・プラットフォーム
 活用の全体像を最短でつかむ！
DTSTART;TZID=Asia/Tokyo:20250905T140000
DTEND;TZID=Asia/Tokyo:20250905T160000
DTSTAMP:20260421T002802Z
CREATED:20250819T093551Z
DESCRIPTION:イベント詳細はこちら\nhttps://techplay.jp/event/98532
 1?utm_medium=referral&utm_source=ics&utm_campaign=ics\n\n最新のデー
 タ統合基盤でAI活用定着化を進める、Databricks データ・
 インテリジェンス・プラットフォーム活用の全体像を
 最短でつかむ！\n概要\n本セミナーでは、最新のデータ
 統合基盤でAI活用定着化を進めるDatabricksをハンズオン
 形式で体験いただけます。Databricksを活用したAIモデル
 の開発・分析から、実際に操作しながらクイックに理
 解できる内容です。\nハンズオンの前半では、すでに
 取り込んで加工済みの注文履歴データを用いて分析を
 行います。GUIとAIを使って簡単に可視化やデータ分析
 ができることや、ノートブックやSQLエディタを使った
 データ分析を学びます。さらに後半では、前半の分析
 に使ったデータをどのように作成するのかという視点
 でデータエンジニアリングやMLモデルの作成について
 学びます。メダリオンアーキテクチャに準じたデータ
 パイプラインの作成から、データからAutoMLを使って売
 上予測モデルを作成します。\nDatabricksによるデータ分
 析基盤において、はじめの一歩を踏み出したい方は、
 是非ご参加ください。\nハンズオン内容\n・Databricks概
 要紹介・Databricksハンズオン（予定）　①自然言語Dashbo
 ardの作成　②Genieを使ったデータ分析　③NotebookとSQLク
 エリエディタの基本的な使い方　④Delta Live Tablesを使
 ったデータパイプラインの実装　⑤(Option)AutoMLを使っ
 た売上予測モデルの作成\nアジェンダ・タイムスケジ
 ュール\n--------------------------13:50～14:00受付開始\n---------
 -----------------\n14:00～16:00[第1部] Databricks概要紹介[第2部]
  Databricksハンズオン\n―― 登壇者 ――株式会社ジール
 アライアンス本部　アライアンス推進部シニアマネー
 ジャー平間 大輔\n--------------------------\n参加費\n無料\n\n
 セミナー対象者・前提条件\n\nパートナーおよび競合企
 業の方のお申込みはご遠慮いただいております。\nPytho
 nやSQLなどのデータ処理に関する知識を前提とします。
 \nハンズオン参加にはインターネットにつながるPCをご
 準備ください。※参加環境からのネットワーク接続に
 関してはご参加者にてネットワーク設定をお願いしま
 す。\n競合社所属である、個人事業主の場合参加をお
 断りさせていただく可能性がございます。\n
LOCATION:
URL:https://techplay.jp/event/985321?utm_medium=referral&utm_source=ics&utm
 _campaign=ics
END:VEVENT
END:VCALENDAR
