BEGIN:VCALENDAR
VERSION:2.0
PRODID:-//https://techplay.jp//JP
CALSCALE:GREGORIAN
METHOD:PUBLISH
X-WR-CALDESC:【交流会＆トークセッション！】INTLOOP Freelance
 rs’ Meetup フリーランスの未来を拓く 生存戦略と人脈
 づくり
X-WR-CALNAME:【交流会＆トークセッション！】INTLOOP Freelance
 rs’ Meetup フリーランスの未来を拓く 生存戦略と人脈
 づくり
X-WR-TIMEZONE:Asia/Tokyo
BEGIN:VTIMEZONE
TZID:Asia/Tokyo
BEGIN:STANDARD
DTSTART:19700101T000000
TZOFFSETFROM:+0900
TZOFFSETTO:+0900
TZNAME:JST
END:STANDARD
END:VTIMEZONE
BEGIN:VEVENT
UID:985349@techplay.jp
SUMMARY:【交流会＆トークセッション！】INTLOOP Freelancers’
  Meetup フリーランスの未来を拓く 生存戦略と人脈づく
 り
DTSTART;TZID=Asia/Tokyo:20250925T190000
DTEND;TZID=Asia/Tokyo:20250925T203000
DTSTAMP:20260424T015321Z
CREATED:20250820T024320Z
DESCRIPTION:イベント詳細はこちら\nhttps://techplay.jp/event/98534
 9?utm_medium=referral&utm_source=ics&utm_campaign=ics\n\n現在フリー
 ランスで活躍している方・これから活躍したい方に向
 けた交流イベントを、9/25に開催します。\n今回のトー
 クテセッションテーマは、「案件を切らさないフリー
 ランスの生存戦略」。成果を可視化し、市場価値を高
 める“行動の型”を学べます。 25年以上フリーコンサ
 ルタントとして活躍し、多数の著書を持つ広川氏のト
 ークセッションを聞きながら、参加者同士の交流もで
 きる貴重な機会です。\n📝 概要\n本イベントでは、フ
 リーランスがキャリアを安定的に築くための“行動の
 型”を学び、同じ志を持つ仲間と出会える特別な機会
 をご用意しています。\nトークセッションでは、公認
 会計士資格を持ち、製造業・サービス業・商社など複
 数の業界で25年以上フリーコンサルタントとして活躍
 する広川敬祐氏を語り手に迎え、現場で成果を可視化
 し、単価や役割を高め、次の案件へとつなげる具体的
 なステップを、豊富な経験談を交えて紹介します。ま
 た、軽食とドリンクを楽しみながら、トークセッショ
 ンで得た具体的なヒントを仲間と語り合い、自分のキ
 ャリアに落とし込むきっかけをつくれます。\nさらに
 今回は、友人紹介特典をご用意。初参加の方も大歓迎
 ですので、お一人でも、ご友人と一緒でも安心してご
 参加いただけます。\n「次の案件につなげるヒントを
 得たい」「もっと評価を高めたい」「同じ志を持つ仲
 間とつながりたい」――そんな想いを持つ方に最適な
 、学びと出会いを一度に得られる貴重なイベントです
 。\nぜひお気軽にご参加ください！\n⏱ タイムスケジ
 ュール\n\n\n\n時間\n内容\n\n\n\n\n18:30～19:00\n受付\n\n\n19:00
 〜19:15\nオープニング+アイスブレイク\n\n\n19:15〜19:55\n
 特別トーク「案件を切らさないフリーランスの生存戦
 略 〜25年以上選ばれ続けたコンサルタントが語る、現
 場で価値を上げる秘訣〜」/ Q&A\n\n\n20:00～20:30\n交流タ
 イム（立食形式）\n\n\n\n※ 内容は予告なく変更となる
 場合がございます。予めご了承ください。\n🎁 プレゼ
 ント企画\n特典①　本イベント終了後、アンケートに
 ご回答いただいた皆さまに、登壇資料をプレゼント！
 📖特典②　ご友人をご紹介いただいた皆さまに、INTLOO
 Pオリジナルカクテルをプレゼント！🍸\n🎤 語り手\n\n
 広川 敬祐（ひろかわ けいすけ）氏\nヒロ・ビジネス株
 式会社　代表取締役 / 公認会計士\n大学在学中に公認
 会計士試験に合格後、外資系監査法人で10年間勤務お
 よびSAPジャパン株式会社での4年間の勤務を経て独立し
 、25年以上にわたりフリーコンサルタントとして活動
 。\n経営管理・ERP導入・PMO支援を中心に、製造業、サ
 ービス業、商社など幅広い業界で戦略策定から実行支
 援まで多様なプロジェクトを手掛ける。\n成果の可視
 化と信頼構築を重視し、長期的に選ばれ続けてきた実
 績を持つ。\n\n主な著作に、  \n・『経営者のための基
 幹システム読本』 （中央経済社刊）\n・『RFPでシステ
 ム構築を成功に導く本』（技術評論社刊）\n・『開発
 しないシステム導入のポイント』（中央経済社刊）\n
 ・『システム導入に失敗しない　プロマネの心・技・
 体』（パレード社）\n・『エンジニアのための会計シ
 ステムの知識と技術』（翔泳社）\nなどがある。\n\n👤
  こんな方におすすめ\n\n案件は取れるが継続につなが
 らず不安を感じており、安定して選ばれ続ける状態を
 つくりたい方\n現場で成果を出しているのに評価が見
 えにくく、単価や役割の向上を実現したい方\n提案や
 報告など次のステージに必要なスキルを掴み、明日か
 ら試せる行動のヒントを得たい方\n同じ立場の仲間と
 つながり、情報交換や視野を広げながらキャリアを高
 めたい方\n中長期で選ばれ続けるために、キャリアの
 方向性を描きつつ、案件の幅を広げたい方\n\n📍 イベ
 ント実施場所\nINTLOOP本社内 Cafe INTLOOP 〒107-0052 東京都
 港区赤坂2丁目4−6 赤坂グリーンクロス 27F 銀座線・南
 北線「溜池山王」駅10番出口直結。\n▶INTLOOPオフィス
 ツアー動画はこちら：https://www.youtube.com/watch?v=bRkHZdMNcIc
 \n⚠️ 注意事項\n\nイベント内容・およびタイムテーブ
 ルは予告なく変更となる場合がございます。\n本イベ
 ントでは、イベントの様子を写真・動画等で撮影させ
 ていただく場合がございます。撮影された写真・動画
 などは、INTLOOP社のWebサイトや各メディアでの掲載の可
 能性がある他、アーカイブ配信などへ使用される場合
 がありますので、予めご了承ください。\nイベント当
 日は、AGC来訪システム(guest@akasaka-gc.jp)より送付されたQ
 Rコードを、会場のセキュリティゲートにかざしてご入
 館ください。  ※QRコード付きメールが届かない場合
 は、迷惑メールフォルダやゴミ箱に振り分けられてい
 ないかご確認ください。 それでも確認できない場合
 は、受信設定をご確認のうえ、再送希望の旨を本メー
 ル宛にご連絡ください。\n\n■ INTLOOPについて\nINTLOOP（
 イントループ）株式会社は、企業の経営課題解決をミ
 ッションとしています。社員として所属する国内系・
 外資系ファーム出身の経験豊富なコンサルタントが担
 うコンサルティングサービスや、約52\,000名（2025年7月
 末時点）の登録を誇るコンサルタント・ITエンジニア
 などのプロフェッショナル人材を支援する人材ソリュ
 ーションサービスを主軸に展開しています。そのほか
 、マーケティングノウハウを提供するデジタルトラン
 スフォーメーションサービス、先端技術を中心とした
 開発支援を行うテクノロジーソリューションサービス
 を提供しています。URL：https://www.intloop.com/\n▼サービ
 スサイト一覧 （一部抜粋）・フリーランスエンジニ
 ア向け案件紹介サービス「TECH STOCK」 　https://tech-stock.
 com/ ・フリーランスコンサルタント向け案件紹介サー
 ビス「High Performer Consultant」 　https://www.high-performer.jp/c
 onsultant/
LOCATION:INTLOOP本社内 Cafe INTLOOP 〒107-0052 東京都港区赤坂2
 丁目4-6　赤坂グリーンクロス27階
URL:https://techplay.jp/event/985349?utm_medium=referral&utm_source=ics&utm
 _campaign=ics
END:VEVENT
END:VCALENDAR
