BEGIN:VCALENDAR
VERSION:2.0
PRODID:-//https://techplay.jp//JP
CALSCALE:GREGORIAN
METHOD:PUBLISH
X-WR-CALDESC:【オフライン開催】リアルで聞ける！バンダ
 イナムコネクサスエンジニアMeetup  ぶっちゃけどうな
 の？バンダイナムコグループで働くエンジニアの本音
 トーク
X-WR-CALNAME:【オフライン開催】リアルで聞ける！バンダ
 イナムコネクサスエンジニアMeetup  ぶっちゃけどうな
 の？バンダイナムコグループで働くエンジニアの本音
 トーク
X-WR-TIMEZONE:Asia/Tokyo
BEGIN:VTIMEZONE
TZID:Asia/Tokyo
BEGIN:STANDARD
DTSTART:19700101T000000
TZOFFSETFROM:+0900
TZOFFSETTO:+0900
TZNAME:JST
END:STANDARD
END:VTIMEZONE
BEGIN:VEVENT
UID:985376@techplay.jp
SUMMARY:【オフライン開催】リアルで聞ける！バンダイナ
 ムコネクサスエンジニアMeetup  ぶっちゃけどうなの？
 バンダイナムコグループで働くエンジニアの本音トー
 ク
DTSTART;TZID=Asia/Tokyo:20251017T193000
DTEND;TZID=Asia/Tokyo:20251017T210000
DTSTAMP:20260419T212017Z
CREATED:20250820T074714Z
DESCRIPTION:イベント詳細はこちら\nhttps://techplay.jp/event/98537
 6?utm_medium=referral&utm_source=ics&utm_campaign=ics\n\nリアルで聞
 ける！バンダイナムコネクサスエンジニアMeetupぶっち
 ゃけどうなの？バンダイナムコグループで働くエンジ
 ニアの本音トーク\n概要\n「リアルな現場の話」をテー
 マに、バンダイナムコネクサスのエンジニアたちと直
 接対話できるオフラインMeetupイベントを開催します！
 当日は、過去に開催したオンラインイベントの振り返
 りや、キャリアに関するショートトークに加えて、エ
 ンジニアとの交流の時間をたっぷりご用意。ピザ＆ド
 リンクを囲んだカジュアルな懇親スタイルで、仕事の
 やりがいや技術のリアルなど、現場の生の声を聞くこ
 とができます。\n採用前提ではない「気軽に参加でき
 る場」として、ぜひご活用ください！\n▽こんな方に
 おすすめです▽\n\nバンダイナムコグループでのエンジ
 ニアの働き方に興味がある方\nプロダクト開発・デー
 タ基盤構築・AI活用などに関心のある方\nオンラインイ
 ベントを視聴して、もっと詳しく知りたいと感じた方\
 n将来的なキャリアの選択肢として、バンダイナムコネ
 クサスに少しでも関心がある方\n「実際どうなの？」
 という現場の話をざっくばらんに聞いてみたい方\n\n【
 開催に関するご案内　※2025年10月6日追記】本イベント
 は、参加者の皆さまにとって有意義な交流の場となる
 ことを目指し、一定の参加規模を前提としております
 。2025年10月10日（金）時点で申込者数が10名未満の場合
 は、予定していた会場（SHIBAURA space）での開催は行わ
 ず、小規模な懇親会形式（JR田町駅・都営地下鉄三田
 駅周辺）での実施に変更させていただきます。詳細に
 ついてはお申込みいただいた皆さまに別途ご連絡いた
 します。イベントの趣旨はそのままに、少人数だから
 こそできる深い対話やカジュアルな交流をお楽しみい
 ただける場としたいと考えております。何卒ご理解の
 ほどよろしくお願いいたします。\nタイムスケジュー
 ル\n\n\n\n時間\n内容\n\n\n\n\n19:15～19:30\n受付\n\n\n19:30～19:
 40\nオープニング・オンラインイベントの振り返り\n\n\n
 19:40～20:00\nキャリアトーク\n\n\n20:00～20:55\n懇親会\n\n\n2
 0:55～21:00\nクロージング\n\n\n21:00\n終了\n\n\n\n※ 当日予
 告なく時間配分・内容が変更になる可能性がございま
 す。\nイベント参加者\n\n吉村 武（よしむら たける）\n
 株式会社バンダイナムコネクサスビジネスプラットフ
 ォーム部 データプロダクト課 マネージャー\n・経歴: 
 メガベンチャーでエンジニア、ディレクターを経験。
 バンダイナムコネクサスではデータマネジメントを行
 っている。\n・領域: データ基盤構築におけるデータマ
 ネジメント、組織マネジメント\n・興味: 生成AIの活用\
 n・カジュアルな話題: 技術書典19に出ます。11月16日池
 袋サンシャインシティでお待ちしております。\n\n\n井
 村 真樹（いむら まさき）\n株式会社バンダイナムコネ
 クサスビジネスプラットフォーム部 データプロダクト
 課 データエンジニアリングセクション セクション長\n
 ・経歴: 楽器音響業界で営業・生産管理・アナリスト
 ・プロダクトマネージャーを経験。SIer で分析基盤構
 築・プリセールスを経験後、バンダイナムコネクサス
 に参画。\n・領域: データ基盤構築におけるプロジェク
 トマネジメント\n・興味: データ基盤領域外の業務フロ
 ー最適化\n・カジュアルな話題: 学園アイドルマスター
 と中華イヤホンにはまってます。\n\n\n鈴木 翔大（すず
 き しょうだい）\n株式会社バンダイナムコネクサスビ
 ジネスプラットフォーム部 データプロダクト課 プロ
 ダクトエンジニアリングセクション\n・経歴: 広告代理
 店で広告配信分析・RTBシステム構築を経験。大手SaaS会
 社で全社データ基盤を構築し、2023年よりバンダイナム
 コネクサスでデータレイク構築と生成AIシステム開発
 に従事。\n・領域: データ基盤・生成AI・各種アプリケ
 ーション開発\n・興味: RAG・CAG・エージェント型AI\n・
 カジュアルな話題: 休日はコーヒー豆を生豆から焼い
 てオリジナルブレンドを作っています。\n\n\n川端 敏裕
 （かわばた としひろ）\n株式会社バンダイナムコネク
 サスビジネスプラットフォーム部 データプロダクト課
  データエンジニアリングセクション\n・経歴: ゲーム
 プラットフォーマーでゲームの企画・開発・運営・分
 析を行い、バンダイナムコネクサスではゲームのデー
 タ基盤構築に携わる。\n・領域: データ基盤構築におけ
 るプロダクトマネジメント\n・興味: 自動化\n・カジュ
 アルな話題: 最近ピアノを始めました。\n\n\n髙安 信行
 （たかやす のぶゆき）\n株式会社バンダイナムコネク
 サスビジネスプラットフォーム部 データプロダクト課
  データエンジニアリングセクション\n・経歴：メーカ
 ーからSESへ転職後、複数プロジェクトでのバックエン
 ド、インフラ経験を経て、バンダイナムコネクサスに
 データエンジニアとして参画。\n・領域：主にデータ
 基盤・データパイプライン構築を担当。\n・興味：最
 近はプロジェクトマネジメントへ興味が伸びる。\n・
 カジュアルな話題：休日はゲームしたり、喫茶店行っ
 ています。Stray最近やりました。\n\n参加対象\n\nバンダ
 イナムコグループでのエンジニアの働き方に興味があ
 る方\nプロダクト開発・データ基盤構築・AI活用などに
 関心のある方\nオンラインイベントを視聴して、もっ
 と詳しく知りたいと感じた方\n将来的なキャリアの選
 択肢として、バンダイナムコネクサスに少しでも関心
 がある方\n「実際どうなの？」という現場の話をざっ
 くばらんに聞いてみたい方\n\n参加する際の注意事項\n\
 n本イベントは【オフライン開催】です。お間違えのな
 いようご注意ください。\n参加を辞退する場合は、詳
 細ページより申込のキャンセルをお願い致します。\n
 飲食（ピザ・アルコール・ソフトドリンク）をご提供
 予定です。アレルギーをお持ちの方は申込時にご申告
 ください。\n20歳未満の方へのアルコール提供はいたし
 ません。年齢確認を行う場合がございます。\n飲酒は
 節度を持ってお楽しみください。\n他の参加者への迷
 惑行為・ハラスメント行為は禁止とします。\nネック
 ストラップでバンダイナムコネクサス社員とイベント
 ご参加者の区別を行うため、受付時に名札のご記入を
 お願いします。\n社員との名刺交換をご希望の方は、
 名刺をご持参ください。\n\nよくある質問（FAQ）\nQ. 途
 中参加・途中退出は可能ですか？A. 基本的にはフルで
 のご参加を推奨しておりますが、事前にご連絡いただ
 ければ柔軟に対応いたします。\nQ. 服装に指定はあり
 ますか？A. 服装は自由です。カジュアルな雰囲気のイ
 ベントですので、ラフな格好でご参加ください。\nQ. 
 イベント中に撮影はありますか？A. イベントの様子を
 記録用に撮影させていただく可能性があります。顔出
 しNGの方は受付時にお申し出ください。
LOCATION:JR田町駅・都営地下鉄三田駅周辺
URL:https://techplay.jp/event/985376?utm_medium=referral&utm_source=ics&utm
 _campaign=ics
END:VEVENT
END:VCALENDAR
