BEGIN:VCALENDAR
VERSION:2.0
PRODID:-//https://techplay.jp//JP
CALSCALE:GREGORIAN
METHOD:PUBLISH
X-WR-CALDESC:【DX・AI情報盛りだくさん】情報収集に役立つ
 オンライン展示会のご案内
X-WR-CALNAME:【DX・AI情報盛りだくさん】情報収集に役立つ
 オンライン展示会のご案内
X-WR-TIMEZONE:Asia/Tokyo
BEGIN:VTIMEZONE
TZID:Asia/Tokyo
BEGIN:STANDARD
DTSTART:19700101T000000
TZOFFSETFROM:+0900
TZOFFSETTO:+0900
TZNAME:JST
END:STANDARD
END:VTIMEZONE
BEGIN:VEVENT
UID:985577@techplay.jp
SUMMARY:【DX・AI情報盛りだくさん】情報収集に役立つオン
 ライン展示会のご案内
DTSTART;TZID=Asia/Tokyo:20250902T090000
DTEND;TZID=Asia/Tokyo:20250905T180000
DTSTAMP:20260423T145708Z
CREATED:20250826T000734Z
DESCRIPTION:イベント詳細はこちら\nhttps://techplay.jp/event/98557
 7?utm_medium=referral&utm_source=ics&utm_campaign=ics\n\nデータフォ
 ーシーズも出展する、国内最大級のオンライン展示会
 「ITトレンド EXPO2025 Summer」より、特別セッションをご
 案内いたします。\n詳細・申込　▶　https://it.expo.it-tren
 d.jp/key/dkty0tdv\n著名人による特別セッションのご案内\n
 【9月2日（火）9:30~10:30】\n「大人の小学校」校長と探
 る、"働きがい"が生まれる組織のつくり方\n・田村 淳
 氏（タレント）\n\n1973年12月4日生まれ、山口県出身。19
 93年、ロンドンブーツ1号2号結成。コンビとして活躍す
 る一方、個人でもバラエティー番組に加え、経済・情
 報番組など多ジャンルの番組に出演。300万人超のフォ
 ロワーがいるX（旧Twitter）、YouTube「田村淳のアッシュc
 h」の開設、オンラインコミュニティ「田村淳の大人の
 小学校」を立ち上げるなど、デジタルでの活動も積極
 的に展開。2019年4月に慶応義塾大学大学院メディアデ
 ザイン研究科に入学、2021年3月修了。お城が好きで現
 在11城の観光大使を務めており、全国制覇を目指す。
 タレントの枠を超えて活躍の場を広げている。\n\n・川
 本 周氏（株式会社アトラエ Wevox ビジネスサイド統括 /
 SMBC Wevox株式会社 取締役副社長）\n\n当時未上場の株式
 会社アトラエへ入社後、求人メディア「Green」のコン
 サルティング営業を担当。その後、組織力向上プラッ
 トフォーム「Wevox」へ異動し、現在はWevox事業部のビジ
 ネスサイド統括を担う。業務の他に、社内のバリュー
 刷新や全社コミュニケーション設計など、自社の組織
 力向上にも従事。 三井住友フィナンシャルグループと
 の合弁会社であるSMBC Wevox株式会社の取締役副社長も兼
 任。・経済産業省事業の一環「職域における心の健康
 関連サービス」活用に向けた研究会委員・ISO30414 リー
 ドコンサルタント/アセッサー資格ホルダー\n\n本セッ
 ションでは、「大人の小学校」を通じて“問い→創造
 ”の場を育んできた田村淳氏と、ワーク・エンゲイジ
 メントの観点から理想の組織像を追求してきたWevox川
 本周氏が、これからの働きがいと組織づくりについて
 語り合います。多様な大人が共創するコミュニティ運
 営の実践知と、組織の熱量や主体性を高めてきた経験
 を重ね合わせながら、対談形式で「"働きがい"が生ま
 れる組織とは何か？」を掘り下げていきます。川本氏
 がデータと観察の視点や組織作りの実体験から感じた
 難しさや工夫から問いを投げかけ、田村氏が現場での
 リアルな知見で応える往復から、組織づくりに活かせ
 る具体的なヒントが浮かび上がります。自社の取り組
 みにすぐ活かせる、気づきとアイデアにあふれた45分
 です。\n▶詳細・視聴予約　https://it.expo.it-trend.jp/session
 /time?open_session_detail=1&session_id=511&utm_source=cmk-dkty0tdv\n【9
 月2日（火）18:45~19:45】\n小島よしおパパのおっぱっぴ
 ー教育論 〜デジタル時代の学びと子育て〜\n・小島 よ
 しお氏（芸人）\n\n早稲田大学教育学部卒業。2001年よ
 り大学在学中にコントグループ「WAGE」として活動を開
 始し、2006年以降はピン芸人として活躍。2007年にはYouTu
 be動画が世界週間再生ランキング第5位となり、一躍全
 国区の注目を集めた。近年は「お笑い×教育」の独自
 スタイルを確立し、子どもたちに向けた体験型授業や
 出張授業、教育イベントへの出演を多数展開。運動・
 リズム・言葉を組み合わせたコンテンツは、全国の教
 育現場や保護者から高く評価されている。芸人として
 の表現力と、教育学を土台とした理論的アプローチを
 融合し、笑いを通じた非認知能力の育成や、子どもた
 ちの自己肯定感向上を目指す活動を継続中。\n\nデジタ
 ル時代の子育てや教育に、笑いと知恵で向き合うには
 ？──本セッションでは、芸人・小島よしお氏を迎え
 、ご自身の父親としての経験や、YouTube・絵本・学校訪
 問などの活動を通じて見えてきた“現場のリアル”を
 語っていただきます。子どもの集中力を育むコツや、
 親子の対話のあり方、そして“教育をもっとおもしろ
 く”するためのヒントを、MCとのインタビュー形式で
 深掘り。家庭でも教育現場でも活かせる、ポジティブ
 で実践的なメッセージが詰まったセッションです。\n
 ▶詳細・視聴予約　https://it.expo.it-trend.jp/session/time?open_
 session_detail=1&session_id=513&utm_source=cmk-dkty0tdv\n【9月3日（
 水）09:30~10:30】\nメディアの進化と企業の情報発信戦略
 \n・石田 健氏（ニュース解説者／「The HEADLINE」編集長
 ）\n\n早稲田大学大学院政治学研究科修士課程（政治学
 ）修了後、2015年に創業した会社を東証プライム上場企
 業に売却し、現在は、政治や経済、テクノロジー、社
 会問題などのニュースをわかりやすく解説するメディ
 ア The HEADLINE で編集長を務める。個人としても、テレ
 ビ・ラジオ・雑誌・Youtube などの各種メディアでニュ
 ース解説をおこなう。日本テレビ系列『DayDay.』の火曜
 日コメンテーター、TBS系列『サンデー・ジャポン』な
 ど多数出演。2024年からはラジオ・J-WAVE の『JAM THE PLANET
 』でパーソナリティを務める。早稲田大学招聘講師（2
 023年度）のほか、慶應義塾大学や弘前大学などで、メ
 ディアと政治・社会に関する講義などもおこなう。関
 心領域は、政治思想や東アジアの近現代史、テクノロ
 ジー時代の倫理と政治。2025年4月 初となる著書『カウ
 ンターエリート』（文藝春秋、文春新書）を発売。\n\n
 生成AIの進化やメディア環境の激変により、情報との
 向き合い方が根本から問われる時代に──。本セッシ
 ョンでは、ニュース解説メディア「The HEADLINE」編集長
 であり、『カウンターエリート』著者でもある石田健
 氏を迎え、現代のメディア構造やAIによる地殻変動を
 どう読み解くか、そして混沌とした情報社会で“見抜
 き、語る”力をどう身につけるかを、インタビュアー
 との対談形式で掘り下げます。企業の広報・マーケテ
 ィング担当者はもちろん、すべてのビジネスパーソン
 に求められる「発信者」としての視点や、ストーリー
 テリングを通じた価値の伝え方について、実践的な示
 唆にあふれたセッションです。▶詳細・視聴予約　http
 s://it.expo.it-trend.jp/session/time?open_session_detail=1&session_id=512
 &utm_source=cmk-dkty0tdv\n【9月4日（木）9:30~10:30】\nタレント
 から実業家へ　優木まおみの『複数現場を動かす』し
 なやかマネジメント論\n・優木 まおみ氏（タレント／
 実業家／身体美容家／株式会社リサイズカンパニー 代
 表取締役）\n\nテレビ・ラジオなど多方面で活躍する一
 方、ビジネス界でも幅広く活動。株式会社リサイズカ
 ンパニーの代表取締役として様々なプロジェクトを手
 がけるほか、身体の内側と外側から美と健康を追求す
 る「身体美容家」としても注目されている。自身が開
 発したメソッド「MAOBICS（マオビクス）」ピラティスの
 インストラクター、および整体理論「MAOLOGY（マオロジ
 ー）」の整体師としても活動し、一般社団法人 身体美
 容家認定協会の代表理事としてライセンスの発行や育
 成にも力を入れている。また、地域とのつながりを大
 切にし、飲食業として「鰻の成瀬 佐賀北川副店」を展
 開、教育分野では「アクティメソッド中目黒校」を運
 営するなど、マルチな才能を活かした事業を展開中。2
 025年8月より、マレーシア・東京・佐賀の三拠点での生
 活をスタートし、よりグローバルな視点でのライフス
 タイルとビジネス展開を見据えている。\n\nタレントか
 ら実業家へ。大きなキャリアチェンジをした優木まお
 み氏に、ご自身の生き方、キャリアや夢・働き方につ
 いて、様々な観点から深掘りをしていきます。身体と
 暮らしを“整える”「MAOBICS」の誕生秘話、ピラティス
 事業×FCオーナー×モデル×子育てと複数現場を動かす
 「しなやか」なマネジメント術、マレーシア教育移住
 プロジェクトでの今後のご自身の夢・選択について、
 存分にお話しいただくセッション。生き方のヒント、
 仕事への刺激が詰まったセッションです。\n▶詳細・
 視聴予約　https://it.expo.it-trend.jp/session/time?open_session_deta
 il=1&session_id=510&utm_source=cmk-dkty0tdv\n※当日予告なく時間
 配分・内容が変更になる可能性がございます。\nITトレ
 ンドEXPO2025 Summer イベント概要\n開催日時　：2025年9月2
 日（火）～5日（金）　開催場所　：オンラインでの開
 催　参加費　　：無料　詳細・申込：https://it.expo.it-tre
 nd.jp/key/dkty0tdv
LOCATION:
URL:https://techplay.jp/event/985577?utm_medium=referral&utm_source=ics&utm
 _campaign=ics
END:VEVENT
END:VCALENDAR
