BEGIN:VCALENDAR
VERSION:2.0
PRODID:-//https://techplay.jp//JP
CALSCALE:GREGORIAN
METHOD:PUBLISH
X-WR-CALDESC:PostgreSQL 18 最新情報セミナー ～ コントリビュ
 ーターが新機能を一挙解説 ～
X-WR-CALNAME:PostgreSQL 18 最新情報セミナー ～ コントリビュ
 ーターが新機能を一挙解説 ～
X-WR-TIMEZONE:Asia/Tokyo
BEGIN:VTIMEZONE
TZID:Asia/Tokyo
BEGIN:STANDARD
DTSTART:19700101T000000
TZOFFSETFROM:+0900
TZOFFSETTO:+0900
TZNAME:JST
END:STANDARD
END:VTIMEZONE
BEGIN:VEVENT
UID:985612@techplay.jp
SUMMARY:PostgreSQL 18 最新情報セミナー ～ コントリビュータ
 ーが新機能を一挙解説 ～
DTSTART;TZID=Asia/Tokyo:20250912T140000
DTEND;TZID=Asia/Tokyo:20250912T154000
DTSTAMP:20260425T165717Z
CREATED:20250826T073300Z
DESCRIPTION:イベント詳細はこちら\nhttps://techplay.jp/event/98561
 2?utm_medium=referral&utm_source=ics&utm_campaign=ics\n\n▼ PostgreSQL 1
 8 最新情報セミナー\n世界中の開発者によって開発・維
 持が行われているオープンソースのリレーショナルデ
 ータベース PostgreSQL。本格的な機能と性能を兼ね備え
 ていることから、近年ではミッションクリティカルな
 システムにも多数採用されています。\n今年秋に正式
 リリース予定の最新バージョンPostgreSQL 18では、非同期
 I/O機構の導入、Bツリーインデックスにおけるskip scanの
 サポートなど、さらなる機能強化と性能向上が図られ
 ており、より多様なユースケースへの対応が可能にな
 ります。\n本セミナーでは、PostgreSQLの概要とバージョ
 ン 17までの歩みを振り返りながら、PostgreSQLコントリビ
 ューター*として活躍する講師が、PostgreSQL 18の主要な
 新機能を中心に、わかりやすく解説いたします。* コ
 ントリビューター：PostgreSQLの開発や普及活動への継続
 的な貢献が認められた人物\nまた、セミナー中いつで
 も講演内容に関する質問ができるLive Q&Aセッションも
 予定しております。PostgreSQLに精通したエンジニア達が
 皆様からのご質問にリアルタイムでお答えすることで
 、録画配信とは異なるインタラクティブな体験を提供
 いたします。ぜひ最後までご参加いただき、ライブな
 らではのセミナーをお楽しみください。\nなお、SRA OSS
 では、PostgreSQL 18の検証報告をTech Blogにて公開していま
 す。事前にご覧いただくことで、当日の理解がより深
 まりますので、ご活用ください。https://www.sraoss.co.jp/tec
 h-blog/pgsql/pg18report/\n▼ タイムスケジュール\n\n\n\n時間\n
 内容\n\n\n\n\n14:00〜14:05\nオープニング\n\n\n14:05〜15:10\nPos
 tgreSQL 18 最新情報\n\n\n15:10～15:25\nSRA OSSDB コンサルティ
 ングサービス\n\n\n15:25〜15:40\nLive Q&A、クロージング\n\n\
 n\n※ Zoom Webinarへの参加は、当日 13:55 ～ からとなりま
 す。※ プログラム内容については変更になる可能性が
 ございます。あらかじめご了承ください。\n▼ 登壇者\
 n\n高塚 遥\n株式会社SRA OSS　技術部　データベース技術
 グループスペシャリスト／PostgreSQL コントリビュータ
 ー\n約20年にわたり SRA OSSにて、PostgreSQL関連の技術支援
 ・コンサルティング業務に従事。企業への導入から運
 用・活用まで、幅広いケースでプロフェッショナルと
 して現場をサポート。2024年12月には、PostgreSQLの開発お
 よび普及活動への継続的な貢献が認められ、PostgreSQLコ
 ントリビューターに認定。著書に「これから始める Pos
 tgreSQL 入門」（技術評論社）がある。\n【 参加対象 】\
 n\nPostgreSQLを利用しており、最新情報を知りたい方\nPost
 greSQLを提案中・提案検討中で情報収集したい方\n他のRD
 BMSからPostgreSQLへの移行を検討している方\n\n【 セミナ
 ー参加のメリット 】\n\nPostgreSQLの概要とこれまでの歩
 みを知る事ができます\nPostgreSQL 18の最新情報をコント
 リビューターから聞くことができます\nPostgreSQL 18の非
 互換部分を知る事ができます\n\n【 開催概要 】\n視聴
 方法：Zoom Webinarによるライブ配信　　　　　(お申込者
 様限定の視聴URLを開催前日に送付します)\n費用　　：
 無料\nイベント詳細：https://www.sraoss.co.jp/event_seminar/detai
 l/2025_0912/
LOCATION:
URL:https://techplay.jp/event/985612?utm_medium=referral&utm_source=ics&utm
 _campaign=ics
END:VEVENT
END:VCALENDAR
