BEGIN:VCALENDAR
VERSION:2.0
PRODID:-//https://techplay.jp//JP
CALSCALE:GREGORIAN
METHOD:PUBLISH
X-WR-CALDESC:AIAgent勉強会 #7〜動画生成Agent、AI-DLC、Code interp
 reter
X-WR-CALNAME:AIAgent勉強会 #7〜動画生成Agent、AI-DLC、Code interp
 reter
X-WR-TIMEZONE:Asia/Tokyo
BEGIN:VTIMEZONE
TZID:Asia/Tokyo
BEGIN:STANDARD
DTSTART:19700101T000000
TZOFFSETFROM:+0900
TZOFFSETTO:+0900
TZNAME:JST
END:STANDARD
END:VTIMEZONE
BEGIN:VEVENT
UID:985638@techplay.jp
SUMMARY:AIAgent勉強会 #7〜動画生成Agent、AI-DLC、Code interpreter
DTSTART;TZID=Asia/Tokyo:20250916T193000
DTEND;TZID=Asia/Tokyo:20250916T210000
DTSTAMP:20260422T080037Z
CREATED:20250827T011751Z
DESCRIPTION:イベント詳細はこちら\nhttps://techplay.jp/event/98563
 8?utm_medium=referral&utm_source=ics&utm_campaign=ics\n\nAlmondoでは「
 AI Agent勉強会」シリーズを中心に、エージェント開発
 の最前線を共有するイベントを開催しています。今回
 は、\n\nAWS Top Engineer／Top AWS Ambassadorとして社内外で技
 術革新を牽引するエンジニアの横井さん\nAI駆動開発に
 関する著書がAmazonランキングで1位を獲得したAI駆動開
 発のエキスパートの岡村さん\n松尾研でのMLエンジニア
 の経験の後、42Tokyoを当時最速で突破したCOOの松本さん
 という、豪華な登壇者をお招きし、ライトニングトー
 クをいただきます！\n\n参加の申し込みはconnpassからお
 願いします\n申し込み：https://almondo.connpass.com/event/367052
 /\n✅ 参加すると得られる3つのもの\nCursor/Claude Codeなど
 各種エディター・コーディングAgentの基本的なHow toな
 どは広く共有されるようになってきましたが、今回の
 勉強会はコーディングから視野を広げた実用事例・開
 発事例が揃っています！\n\n実用レベルに近づける動画
 生成エージェントの開発手法┗ 試行的な利用にとどま
 りやすい動画生成AIを、営業やプロモーションなどの
 実務でも活用できる水準へ高めていくための技術的ア
 プローチを共有！\n実体験から語る仕様（スペック）
 駆動開発とAI-DLCでの価値提供┗ Kiroに見られるような
 「仕様駆動開発」と「AI-DLC」という新しいAI駆動開発
 のあり方について、社内で実践した肌感や実践方法を
 共有！\nCode Interpreterの今┗ 2023年に一瞬話題になったCo
 de Interpreter。Response APIでの公開で一気に実用フェーズ
 に進化し、手軽に使えるようになったCode Interpreterの仕
 組みと活用シーンを整理し、デモを通じて業務に直結
 する魅力を体感！\n\n現役PM/エンジニアたちが日々の探
 究をシェアし、上記を題材に勉強会を開催！ その他、
 登壇者と直接喋ることができる&この場に集う熱いエン
 ジニアとの情報交換ミートアップも実施します！普段
 聞けない裏話がきけるかも？\nこんな人におすすめ\n\nA
 Iエージェントの開発ノウハウをより深く学びたいエン
 ジニア┗ 既存のツールやフレームワークを使った実践
 例を知りたい、プロジェクト適用の成功/失敗事例を聞
 きたい方。\nAI駆動開発の現場で求められる具体的なテ
 クニックに興味がある方┗ 設計から実装、運用まで、
 どのようにAIを組み込み開発を行うのか、具体的なワ
 ークフローを知りたい方。\n最新のAI動向や技術をキャ
 ッチアップしつつ、仲間と情報交換をしたい方┗ イベ
 ント後のネットワーキングで、登壇者・参加者とのコ
 ラボレーションや知見共有を楽しみたい方。\n\n🕐タ
 イムテーブル\n\n\n\n時間\n内容\n発表者(敬称略)\n\n\n\n\n1
 9:30~19:45\n開場\nー\n\n\n19:45~19:55\nオープニングトーク\n
 ー\n\n\n19:55~20:10\nAIエージェントで90秒の広告動画を制
 作！ー台本・音声・映像・編集をつなぐAWS最新アーキ
 テクチャの実践\n横井\n\n\n20:10~20:25\n「仕様（スペック
 ）駆動開発」と「AI-DLC」が導くAI駆動開発の新フェー
 ズ\n岡村\n\n\n20:25~20:40\nCode Interpreter大全 -Response APIやOSS
 のCode Interpreterまで徹底調査\n松本\n\n\n20:40~21:00\nミート
 アップ\nー\n\n\n\n登壇者\n横井 公紀\nTIS株式会社 テクニ
 カルエキスパート@nasuvit_z\nTISインテックグループのAWS
 利活用を牽引するCCoE(Cloud Center of Excellence)の推進リー
 ダー。AWS認定資格取得を推進するエンジニア育成施策
 や、生成AIなどのR&D活動をリードし、社内技術革新に
 注力。また、社内AWS技術者コミュニティ「TAWS-UG」(と
 ーずゆーじー)を運営し、社員が互いに技術力を高め合
 う風土を醸成。受賞歴は、Top AWS Ambassadors (2023)、AWS Amba
 ssadors (2019-)、AWS Top Engineers (2020-) 他。\n\n岡村 匡洋\n株
 式会社MAKE A CHANGE 代表取締役@masa_oka108\nエンジニア・PM
 歴10年以上のソロプレナー兼 AI駆動開発者。2021年に法
 人を立ち上げ自社SaaSプロダクトのEXITを経て「AIシステ
 ム開発の専門企業」を経営。書著「ゼロからわかる生
 成AI駆動開発入門」（2025年1月発売）がAmazon 1位 ベスト
 セラーとなる。\n\n松本 悠秀\n株式会社Almondo COO / MLエ
 ンジニア・PM@YuhoMatsumoto\n東京大学経済学部金融学科卒
 業。 東京大学松尾研究室主催のGCI講座で優秀賞を受賞
 し、講師・教材開発にも従事。 42 Tokyoでは最速でCommon 
 Coreを修了。 株式会社松尾研究所にて機械学習エンジ
 ニア・プロジェクトマネージャーとして複数のプロジ
 ェクトに参画。 現在は株式会社AlmondoのCOOとして、MLエ
 ンジニア・ソフトウェアエンジニア・PMを務め、開発
 、営業、人事など幅広いチームを統括している。\n\n場
 所\n渋谷ネクストベース「渋谷駅」より徒歩約6分\n\n注
 意事項\n\n講演内容やタイムスケジュールは変更となる
 可能性がございます。\n当日のイベント内容は後日任
 意の媒体にて公開させていただくことがあります。\n
 万一イベント開催が中止の場合、本サイトからのメッ
 セージよりご連絡させていただきますのでご確認をお
 願いいたします。\n営業、リクルーティング目的での
 参加はご遠慮いただきますようお願いいたします。\n
 イベント参加時に入力いただいた情報は、以下に基づ
 き扱います。株式会社Almondo プライバシーポリシー  \n\
 n参加の申し込みはconnpassからお願いします\n申し込み
 ：https://almondo.connpass.com/event/367052/\n皆様のご参加をお
 待ちしております！
LOCATION:渋谷NextBase 東京都渋谷区桜丘町２４－１ 橋本ビ
 ル６階 Next Base
URL:https://techplay.jp/event/985638?utm_medium=referral&utm_source=ics&utm
 _campaign=ics
END:VEVENT
END:VCALENDAR
