BEGIN:VCALENDAR
VERSION:2.0
PRODID:-//https://techplay.jp//JP
CALSCALE:GREGORIAN
METHOD:PUBLISH
X-WR-CALDESC:学校のネットワークを快適に！KŌSOKU Access導入
 事例から学ぶ教育現場のネクストステージ
X-WR-CALNAME:学校のネットワークを快適に！KŌSOKU Access導入
 事例から学ぶ教育現場のネクストステージ
X-WR-TIMEZONE:Asia/Tokyo
BEGIN:VTIMEZONE
TZID:Asia/Tokyo
BEGIN:STANDARD
DTSTART:19700101T000000
TZOFFSETFROM:+0900
TZOFFSETTO:+0900
TZNAME:JST
END:STANDARD
END:VTIMEZONE
BEGIN:VEVENT
UID:985644@techplay.jp
SUMMARY:学校のネットワークを快適に！KŌSOKU Access導入事
 例から学ぶ教育現場のネクストステージ
DTSTART;TZID=Asia/Tokyo:20250917T131500
DTEND;TZID=Asia/Tokyo:20250917T135000
DTSTAMP:20260421T094557Z
CREATED:20250827T050508Z
DESCRIPTION:イベント詳細はこちら\nhttps://techplay.jp/event/98564
 4?utm_medium=referral&utm_source=ics&utm_campaign=ics\n\n学校のネッ
 トワークを快適に！KŌSOKU Access導入事例から学ぶ教育
 現場のネクストステージ\n「今の学校ネットワーク、
 快適に利用できていますか？」\nGIGAスクール構想で一
 人一台端末が整備された今、学校現場では「通信速度
 が遅い」「ネットワークが安定しない」といったネッ
 トワークに関する課題が顕在化していませんか？生徒
 たちの学びを止めず、先生方の業務をスムーズに進め
 るためには、ストレスフリーなネットワーク環境が不
 可欠です。\n本ウェビナーでは、その課題を一気に解
 決する楽天モバイルの超高速インターネット接続サー
 ビス「KŌSOKU Access」に焦点を当てます。\nKŌSOKU Accessは
 、ただ速いだけではありません。 教育現場特有のニー
 ズに応え、膨大なデータ量にも耐えうる高品質な超高
 速通信を実現し、学校向けの豊富なプランを提供して
 います。これにより、オンライン授業、デジタル教材
 の活用、校務のDXなど、教育現場の可能性を最大限に
 引き出します。\n今回のウェビナーでは、KŌSOKU Accessを
 実際に導入され、学校ネットワーク環境の劇的な改善
 を実現された教育機関様の具体的な導入事例をご紹介
 します。導入前の課題から導入後の変化、そして未来
 の教育現場への展望まで、実践的なヒントと貴重な体
 験談をお届けします。「超快適な学校ネット」が、生
 徒たちの学びを、先生方の働き方を、そして教育の未
 来を変えます。\n開催者\n楽天モバイル株式会社\n開催
 日時\n2025年9月17日（水）13:15～13:50\n開催場所\nオンラ
 イン（zoomウェビナー）\n内容\n＜このウェビナーで得
 られること＞・KŌSOKU Accessの真の価値単なるインター
 ネット回線ではない、教育現場に特化した強みと導入
 メリットを深くご理解いただけます。\n・成功事例に
 学ぶ実践的なヒント学校法人淞南学園様の具体的な現
 場の声から、ご自身の教育機関や自治体での導入イメ
 ージを明確に描けます。\n・「NEXT GIGA」へのロードマ
 ップGIGAスクール構想の次のステップとして、どのよう
 にネットワーク環境を整備していくべきか、具体的な
 方向性が見えます。\n・疑問を直接解消！Q&Aセッショ
 ンKŌSOKU Accessに関する疑問や、導入に関する不安を、
 直接担当者や導入済みのお客様に質問できる貴重な機
 会です。\nタイムスケジュール\n開催日時　2025年9月17
 日（水）13:15 ~ 13:50\n\n\n\n時間\n内容\n\n\n\n\n13:05〜\nウェ
 ビナーオープン\n\n\n13:15〜\nオープニング\n\n\n13:16〜13:4
 0\n1. KŌSOKU Access とは？2. 導入事例　学校法人 淞南学園
  様3. Q&Aセッション\n\n\n～13:50\nクロージングアンケー
 ト回答（※ウェビナー退出時）\n\n\n\n※ セミナー内容
 は一部変更となる可能性があります。\n登壇者\n\n小池
 　雄琉\n楽天モバイル株式会社\nエンタープライズソリ
 ューションビジネス部ソリューションセールス課\n参
 加対象\n\n学校ネットワーク環境の改善を検討されてい
 る学校法人・自治体のご担当者様\n「NEXT GIGA」の取り
 組みや教育現場のDX推進にご興味のある方\n「KŌSOKU Acce
 ss」の導入をご検討中の方、強みを知りたい方\n\n参加
 対象\n全国の法人様が対象となります。個人事業主、
 競合・同業他社の方はお申し込みいただけません。\n
 参加費\n無料\n事前申し込み\nフォームより、参加お申
 し込みをお願いいたします。\nお問い合わせ\n本件に関
 するお問い合わせは、弊社担当者または下記までお願
 いいたします。\n楽天モバイル株式会社　マーケティ
 ング部　セミナー担当メール：rm-info-seminar@mail.rakuten.co
 m※お問い合わせの際、「GIGAセミナーの件」と記載い
 ただくとスムーズです。※返信までお時間をいただく
 場合がございます。
LOCATION:
URL:https://techplay.jp/event/985644?utm_medium=referral&utm_source=ics&utm
 _campaign=ics
END:VEVENT
END:VCALENDAR
