BEGIN:VCALENDAR
VERSION:2.0
PRODID:-//https://techplay.jp//JP
CALSCALE:GREGORIAN
METHOD:PUBLISH
X-WR-CALDESC:【Webセミナー】複雑なログイン管理からの脱
 却！Keycloakで実現する安全・快適なSSO環境徹底解説セ
 ミナー
X-WR-CALNAME:【Webセミナー】複雑なログイン管理からの脱
 却！Keycloakで実現する安全・快適なSSO環境徹底解説セ
 ミナー
X-WR-TIMEZONE:Asia/Tokyo
BEGIN:VTIMEZONE
TZID:Asia/Tokyo
BEGIN:STANDARD
DTSTART:19700101T000000
TZOFFSETFROM:+0900
TZOFFSETTO:+0900
TZNAME:JST
END:STANDARD
END:VTIMEZONE
BEGIN:VEVENT
UID:985645@techplay.jp
SUMMARY:【Webセミナー】複雑なログイン管理からの脱却！K
 eycloakで実現する安全・快適なSSO環境徹底解説セミナー
DTSTART;TZID=Asia/Tokyo:20251022T150000
DTEND;TZID=Asia/Tokyo:20251022T160000
DTSTAMP:20260421T001600Z
CREATED:20250827T052703Z
DESCRIPTION:イベント詳細はこちら\nhttps://techplay.jp/event/98564
 5?utm_medium=referral&utm_source=ics&utm_campaign=ics\n\n企業のIT化
 が推進される中、多くの従業員が複数のアプリケーシ
 ョンやクラウドサービスを活用しています。各サービ
 スにログインする際、IDやパスワードを都度入力する
 作業は、業務効率を低下させる要因となります。この
 課題はシングルサインオンという仕組みを利用するこ
 とで解決することができます。今回は、複数ある社内
 システムのログインを一元化（SSO）できるソフトウェ
 ア「Keycloak」を紹介します。\nアジェンダ\n\n業務のIT化
 が進むことのリスク\nシングルサインオン導入の進め
 方\nシングルサインオンのソフトウェア「Keycloakとは」
 \n「Keycloak」の特徴\n「Keycloak」が利用できる認証方法\n
 「Keycloak」の導入事例\n質疑応答\n\n講習条件\n\nID・パ
 スワード管理に課題をお持ちの担当者/責任者\nシング
 ルサインオン（SSO）の導入を検討している担当者/責任
 者\n\nセミナースケジュール\n\n14：50 ～　　　　 ログ
 イン可能時間\n15：00 ～ 15：45　複雑なログイン管理か
 らの脱却！Keycloakで実現する安全・快適なSSO環境徹底
 解説セミナー\n15：45 ～ 16：00　質疑応答\n
LOCATION:
URL:https://techplay.jp/event/985645?utm_medium=referral&utm_source=ics&utm
 _campaign=ics
END:VEVENT
END:VCALENDAR
