BEGIN:VCALENDAR
VERSION:2.0
PRODID:-//https://techplay.jp//JP
CALSCALE:GREGORIAN
METHOD:PUBLISH
X-WR-CALDESC:飲食店イノベーションサミット　ー「現場力
 」向上の最前線ー
X-WR-CALNAME:飲食店イノベーションサミット　ー「現場力
 」向上の最前線ー
X-WR-TIMEZONE:Asia/Tokyo
BEGIN:VTIMEZONE
TZID:Asia/Tokyo
BEGIN:STANDARD
DTSTART:19700101T000000
TZOFFSETFROM:+0900
TZOFFSETTO:+0900
TZNAME:JST
END:STANDARD
END:VTIMEZONE
BEGIN:VEVENT
UID:985749@techplay.jp
SUMMARY:飲食店イノベーションサミット　ー「現場力」向
 上の最前線ー
DTSTART;TZID=Asia/Tokyo:20250917T140000
DTEND;TZID=Asia/Tokyo:20250917T163000
DTSTAMP:20260421T113030Z
CREATED:20250829T023221Z
DESCRIPTION:イベント詳細はこちら\nhttps://techplay.jp/event/98574
 9?utm_medium=referral&utm_source=ics&utm_campaign=ics\n\n申込方法\n
 本ウェビナーはTECHPLAYから受付いただいたのち、ポー
 ルトゥウィン事務局にて以下の申込フォーム（本登録
 用）にてご登録させていただきます。ご了承の上、お
 申し込みください。\n専用ページ＞＞https://www.fangrowth.b
 iz/cs_event/20250917_ptw?organizationId=2136\n概要\n「サービス品
 質を安定させたいが、人手不足でままならない…」「
 業務の属人化が進み、店舗運営の負担やミスが増加し
 ている…」そんな課題を抱える飲食・フードサービス
 事業会社のご担当者のために、最新の店舗運営DXソリ
 ューションを提供する企業が、短時間で一気に情報提
 供する機会を提供します。\n本イベントでは、「業務
 効率化」「売上・利益最大化」「人材確保・定着」「
 店舗オペレーション最適化」の4つのテーマに分け、そ
 れぞれの課題を解決するサービスを一挙にご紹介しま
 す。\n「自社の店舗運営は本当に最適なのか？」を見
 直す機会になるよう、忙しい中でも効率的に情報収集
 できる場として、各社が持つノウハウや最新事例とと
 もにソリューションの紹介をいたします。\nこの機会
 にぜひご参加ください！ 【こんな人におすすめ】\n\nD
 Xを推進したいが、何から着手すべきか悩んでいる飲食
 チェーンの経営企画・ITご担当者様\n省人化や業務効率
 化を進めたい店舗運営責任者様\n発注・在庫管理や問
 い合わせ対応など、属人化が進み運営に負担を感じて
 いる現場管理者様\n繁忙期にオペレーションが回らず
 、売上機会を逃してしまう課題を抱えているエリアマ
 ネージャー様\nシステム不具合やオペレーションミス
 による売上ロスを防ぎ、安定した店舗運営を目指した
 い情報システム部門のご担当者様\n\nタイムスケジュー
 ル\n\n\n\n時間\n内容\n\n\n\n\n14:00~14:05\nご挨拶\n\n\n14:05~16:2
 0\n各社のセッション※以下のテーマごとに各社15分で
 登壇します\n\n\n\n（1）業務効率化（2）売上・利益最大
 化（3）人材確保・定着（4）店舗オペレーション最適
 化\n\n\n16:20~16:30\nクロージング\n\n\n\n※ 当日予告なく時
 間配分・内容が変更になる可能性がございます。\n登
 壇者\nTECH CREW株式会社 CEO ドレ グスタボ\n「働く人が輝
 く現場」を作りたい。飲食・小売・介護の現場改革を
 通じて、日本の労働環境を変えています。\nマネジメ
 ントコンサル｜TECH CREW CEO｜ソニー&リクルート出身\n\n\
 n株式会社アスピット 関西支店 フィールドセールス リ
 ーダー 中野 秀亮\n四国、関西エリアを担当し、新規営
 業や既存顧客サポートに従事。\n2025年よりフィールド
 セールスとして新規顧客の開拓に注力。\n\n\nDOTZ株式会
 社 代表取締役社長 稲益 仁\n出版社でのデザイナー、
 人材エージェントでの営業を経て、2006年にサイバーエ
 ージェントへ入社。\n通販企業を中心にプランナーと
 して活動した後にCRM局、LINE局などを立ち上げ局長を歴
 任。\nLINE局にて3年で売上高を10倍に伸ばし、代理店シ
 ェア1位を獲得。2019年末に同社退職。\nLINE公式ガイド
 本にもFrontlinerとして寄稿。\nLINE frontliner 1期生に認定
 。\n\n\n株式会社Showcase Gig　O:der事業部 セールスグルー
 プ マネージャー　村山 雄一\nグローリー株式会社にて
 飲食・リテール業界を中心に、新規事業の企画・提案
 営業を担当。\n2023年にShowcase Gigへ出向し、上記の経験
 を活かして顧客への包括的なソリューション提案に注
 力している。\n\n\nSBペイメントサービス株式会社　第
 二営業本部 第1営業統括部 営業2部1課／課長　愛甲 脩
 人\nSBペイメントサービス株式会社にて、実店舗向けの
 キャッシュレス決済導入を牽引。\n飲食・宿泊施設を
 はじめ小売やサービス業など幅広い業界を支援し、現
 場に即した提案で導入から活用までをサポート。\nキ
 ャッシュレス化を通じてお客様の売上拡大や利便性の
 向上をご支援いたします。\n\n\nシェアフル株式会社　
 営業本部第2統括部 第1営業部 マネジャー　武内 未緒\n
 2008年 パーソルキャリア株式会社入社\n an（アルバイト
 パート領域支援の媒体）の営業として配属\n 新規活動1
 .5年 → 代理店様の渉外担当1年 → 大手顧客の深耕営業
 5年 → マネジメント3年半\n2019年 中途採用支援の部署
 に異動\n 新規マーケットのマネジメント（30名程）に
 従事\n2021年 タレントシェアリング事業部へ異動\n 専門
 人材の知見を活用した経営支援サービス　コンサルテ
 ィングセールスをマネジメント\n 主にIT・WEB・メディ
 ア・教育・人材サービス業界の企業様を中心に担当\n20
 23年 独立役員の紹介支援事業を兼務\n2024年 シェアフル
 株式会社へ転籍\n スキマバイト拡販に向け飲食企業を
 対象とした営業組織をマネジメント\n\n\nきらぼしテッ
 ク株式会社　取締役執行役員　西村 浩司\nフィンテッ
 クという概念がなかった2005年に、当時の東京都民銀行
 （現きらぼし銀行）にて給与前払いサービスの「前給
 」を業界に先駆け開発。現在の前払いサービスの礎を
 築いた立役者。\n前給だけでなく、銀行業界で活躍し
 てきた数々の経験から、幅広い企業の採用・定着につ
 いての課題やニーズなどの知見も豊富\n\n\n株式会社Jス
 トリーム　マーケティング部セールスプロモーション
 課　井上 裕史\n大手メーカー、芸能プロダクション勤
 務を経て、2017年に株式会社Ｊストリームへ入社。\nフ
 ィールドセールスを経験後、2021年4月にマーケティン
 グ部に異動。\nセールスプロモーションを担当し、ソ
 リューション拡販のマーケティング活動や、各種セミ
 ナー・イベントの企画・運営に携わる。\n\n\nポールト
 ゥウィン株式会社　営業本部 QAソリューション・CX営
 業部　セールス推進グループスペシャリスト 永添 和
 希\n前職ではアパレル企業にて接客・マネジメント・
 バイヤーを経験し、顧客対応と店舗運営に従事。\n2018
 年にポールトゥウィンへ入社後、営業職にキャリアチ
 ェンジし、クラウドサービス領域にて企業導入の支援
 を多数担当。\n現在はソフトウェアテスト分野での新
 規開拓に注力。\nまた、2025年1月に発足した「外食未来
 ☆支援プロジェクト」に初期メンバーとして参画。\n
 店舗運営経験を活かした提案を通じて、外食産業の課
 題解決に貢献するなど、幅広い業界支援に取り組み中
 。\n\nお問い合わせ先\nポールトゥウィン株式会社 事務
 局　marketing@ptw.inc\n注意事項\n\n当セミナーはポールト
 ゥウィン株式会社と、以下に記載する企業との共催セ
 ミナーとなっております。ご登録いただいた情報は、
 以下に示す各社のプライバシーポリシーにしたがって
 当社および共催企業で共有し、利用目的の範囲内で利
 用いたします。‐ポールトゥウィン株式会社（プライ
 バシーポリシー）‐TECH CREW株式会社（プライバシーポ
 リシー）‐株式会社アスピット（プライバシーポリシ
 ー）‐DOTZ株式会社（プライバシーポリシー）‐株式会
 社Showcase Gig（プライバシーポリシー）‐SBペイメント
 サービス株式会社（プライバシーポリシー）（個人情
 報の取り扱いについて）‐シェアフル株式会社（プラ
 イバシーポリシー）‐きらぼしテック株式会社（プラ
 イバシーポリシー）‐株式会社Jストリーム（プライバ
 シーポリシー）\nリクルーティング、勧誘など、採用
 目的でのイベント参加はお断りしております。\nキャ
 ンセル待ち・補欠・落選の方はご参加いただくことが
 出来ませんのでご了承ください。\n欠席される場合は
 、お手数ですが速やかにキャンセル処理をお願い致し
 ます。\n無断キャンセルや欠席が続く場合、次回以降
 の参加をお断りさせていただく場合がございます。\n
LOCATION:
URL:https://techplay.jp/event/985749?utm_medium=referral&utm_source=ics&utm
 _campaign=ics
END:VEVENT
END:VCALENDAR
