BEGIN:VCALENDAR
VERSION:2.0
PRODID:-//https://techplay.jp//JP
CALSCALE:GREGORIAN
METHOD:PUBLISH
X-WR-CALDESC:【第1弾】使わなきゃ損！生成AIまるわかりウ
 ェビナー～基本編～【参加無料】
X-WR-CALNAME:【第1弾】使わなきゃ損！生成AIまるわかりウ
 ェビナー～基本編～【参加無料】
X-WR-TIMEZONE:Asia/Tokyo
BEGIN:VTIMEZONE
TZID:Asia/Tokyo
BEGIN:STANDARD
DTSTART:19700101T000000
TZOFFSETFROM:+0900
TZOFFSETTO:+0900
TZNAME:JST
END:STANDARD
END:VTIMEZONE
BEGIN:VEVENT
UID:985756@techplay.jp
SUMMARY:【第1弾】使わなきゃ損！生成AIまるわかりウェビ
 ナー～基本編～【参加無料】
DTSTART;TZID=Asia/Tokyo:20250901T090000
DTEND;TZID=Asia/Tokyo:20250930T230000
DTSTAMP:20260419T163847Z
CREATED:20250829T040920Z
DESCRIPTION:イベント詳細はこちら\nhttps://techplay.jp/event/98575
 6?utm_medium=referral&utm_source=ics&utm_campaign=ics\n\n【第1弾】使
 わなきゃ損！生成AIまるわかりウェビナー～基本編～
 【参加無料】\n概要\n当社では昨年まで【使わなきゃ損
 ！生成AIまるわかりウェビナー】をオンデマンド開催
 しておりました。\nたくさんの方にお申込みいただい
 たこのウェビナーですが、大好評につき、開催を延長
 いたします！【第1弾】基本編　と題しまして、生成AI
 とは何かという基礎やビジネス動向をお伝えします。\
 nいつでも、どこでも、そして何回でも見られるので、
 自分のペースで学びたいという方にぴったりです。も
 ちろん参加は無料です！「気になっていたけど見る時
 間がなかった･･･」「何の知識もないけど大丈夫か
 な･･･」など、心配は不要です！様々な業種業態の
 方からご好評をいただいております。是非どなたでも
 お気軽にお申込みください♪\nウェビナーの詳細はこ
 ちら【第2弾】今すぐ効率化！生成AIまるわかりウェビ
 ナー～ビジネス応用編～\n＊＊＊\n「ChatGPT」や「Copilot
 」などで今話題となっている生成AI。「便利って聞く
 けど、どういうものなの？」・・・と、疑問を持って
 いる方も多いのではないでしょうか？\n本ウェビナー
 では、生成AIに関する情報を約60分でご紹介します。全
 く知らないという初心者の方から、少しは知っている
 ／現在使っているといった中級者の方まで広く対応し
 た内容となっております。\n生成AIデビューのきっかけ
 に、また生成AIの最新動向をチェックするという意味
 でも、ぜひご活用ください。\n\n【ウェビナー内容】生
 成AI爆誕！AIは人間の仕事を奪うのか？大規模言語モデ
 ル（LLM）とは​​LLM活用でビジネスを効率化ビジネス
 活用のトレンドLLM活用で気を付けること生成AI最新動
 向当社の生成AI活用支援メニュー\n【視聴方法】オンラ
 イン（Zoomによるオンデマンド開催）参加者の皆様の顔
 出しはございません。お申込みいただいた方には、メ
 ールにて視聴用URLをお送りいたします。\n日時\nオンデ
 マンド配信です！お好きな時間にいつでもご視聴いた
 だけます。\n参加費\n無料\n
LOCATION:
URL:https://techplay.jp/event/985756?utm_medium=referral&utm_source=ics&utm
 _campaign=ics
END:VEVENT
END:VCALENDAR
