BEGIN:VCALENDAR
VERSION:2.0
PRODID:-//https://techplay.jp//JP
CALSCALE:GREGORIAN
METHOD:PUBLISH
X-WR-CALDESC:10月定例会「STEPBYCODEのあゆみ／IT企業の人事担
 当が、なぜMBA（北九州市立大学）で学んだのか」
X-WR-CALNAME:10月定例会「STEPBYCODEのあゆみ／IT企業の人事担
 当が、なぜMBA（北九州市立大学）で学んだのか」
X-WR-TIMEZONE:Asia/Tokyo
BEGIN:VTIMEZONE
TZID:Asia/Tokyo
BEGIN:STANDARD
DTSTART:19700101T000000
TZOFFSETFROM:+0900
TZOFFSETTO:+0900
TZNAME:JST
END:STANDARD
END:VTIMEZONE
BEGIN:VEVENT
UID:986272@techplay.jp
SUMMARY:10月定例会「STEPBYCODEのあゆみ／IT企業の人事担当
 が、なぜMBA（北九州市立大学）で学んだのか」
DTSTART;TZID=Asia/Tokyo:20251014T190000
DTEND;TZID=Asia/Tokyo:20251014T210000
DTSTAMP:20260426T001517Z
CREATED:20250910T065810Z
DESCRIPTION:イベント詳細はこちら\nhttps://techplay.jp/event/98627
 2?utm_medium=referral&utm_source=ics&utm_campaign=ics\n\n「STEPBYCODEの
 あゆみ／IT企業の人事担当が、なぜMBA（北九州市立大
 学）で学んだのか」\nCode for Kitakyushu 第99回 定例会\n令
 和７年もCode for Kitakyushuの定例会を毎月開催します。定
 例会ではコミュニティ内外の関係性を作ることを目的
 として、トークセッションやコミュニティメンバーに
 よる持ち込み企画などを行います。※今回は「ハイブ
 リッド（現地参加＋オンライン）」形式で開催いたし
 ます。オンラインでお申し込みの方には、開催前まで
 に接続URLを別途ご連絡いたします。。\n今回はSTEPBYCODE 
 十河さんより「STEPBYCODEのあゆみ」というテーマでお話
 いただき、その後、カラビナテクノロジー株式会社 高
 橋さんに「IT企業の人事担当が、なぜMBA（北九州市立
 大学）で学んだのか」というテーマでご登壇いただき
 ます。お話の後には、ネットワーキングタイムも設け
 ておりますので、ITコミュニティに興味のある方々で
 つながりましょう。\nタイムスケジュール\n\n\n\n時間\n
 内容\n\n\n\n\n18:50〜\n受付開始\n\n\n19:00〜19:20\n乾杯挨拶
 コミュニティ説明各自自己紹介\n\n\n19:20〜19:35\n『STEPBYC
 ODEのあゆみ』　　STEPBYCODE 代表　　九州工業大学大学
 院工学府修士１年　　十河　伶衣 さん【概要】 2024年1
 1月に北九州で発足したITコミュニティ「STEPBYCODE」。LT
 会、ハンズオン、ハッカソンといった様々なイベント
 を開催する中で、私たちがどのような道のりを歩んで
 きたのか、その活動の軌跡についてお話しします。\n\n
 \n19:35〜20:00\nネットワーキング\n\n\n20:00〜20:10\n休憩（
 おかわりタイム）\n\n\n20:10〜20:25\n『IT企業の人事担当
 が、なぜMBA（北九州市立大学）で学んだのか』　　カ
 ラビナテクノロジー株式会社 人事　NPO法人ファザーリ
 ング・ジャパン九州 理事　　高橋　建二 さん　【概
 要】・MBA取得を決意した背景（学歴コンプレックス、
 体系的な学びへの挑戦、今学ぶ意味）・経営戦略やマ
 ーケティング、組織論などの講義内容と実践的な学び
 ・仕事・家庭・学業を両立するための工夫と挑戦・MBA
 を通じて得た新しい視点、人脈、学び続ける姿勢\n\n\n2
 0:25〜20:50\nネットワーキング\n\n\n20:50〜21:00\n告知・ク
 ロージング\n\n\n\n登壇者\nSTEPBYCODE 代表九州工業大学大
 学院工学府修士１年\n十河　伶衣 さん\n【 プロフィー
 ル 】香川出身、九州工業大学医療画像処理研究室所属
 。大学の尊敬する先輩からのお誘いでSTEPBYCODEの活動に
 参加し、現在は代表として、広報・協賛をメインで担
 当しています。アプリ開発やロゴ、Webサイトの受託制
 作を中心に、デザインとコーディングを組み合わせた
 フロントエンド開発を得意としています。フルスタッ
 クエンジニアを目指して、日々奮闘中です。\n\nカラビ
 ナテクノロジー株式会社 人事NPO法人ファザーリング・
 ジャパン九州 理事\n高橋　健二 さん\n【 プロフィール
  】小売業で約10年勤務後、IT業界に転身し約8年。IT系
 子会社の立ち上げを経験し、現在は福岡のIT企業にて
 人事を担当。北九州を拠点に活動しながら、子育系のN
 POやITコミュニティ運営など幅広く携わる。北九州市立
 大学大学院 MBA 修了。\n参加対象\n\nCivicTechに興味のあ
 る方\nITエンジニア／ITに興味のある方\nITコミュニティ
 に興味のある方\n\n参加費\n現地参加\n\n\n\n参加形式\n参
 加費用\n\n\n\n\n現地参加\n2000円（現地払い）：一部会場
 費用に充てさせて頂きます。1ドリンク＆つまみがつき
 ます。\n\n\nオンライン参加\n無料：歓談しながらお話
 を伺ったりディスカッションしていきますので、是非
 お飲み物などご用意してご参加ください。\n\n\n\n会場\n
 コワーキングスペース秘密基地（https://coworking802.com/）
 にお越しください。〒802-0002 福岡県北九州市小倉北区
 京町２丁目２−１９ 小倉ジャンジャンビル 3F地図\n注
 意事項\n\nキャンセル待ち・補欠・落選の方はご参加い
 ただくことが出来ませんのでご了承ください。\n欠席
 される場合は、お手数ですが速やかにキャンセル処理
 をお願い致します。\n申し込み期限後のキャンセルは
 参加費をご請求させていただく場合がございます。無
 断キャンセルの場合は、参加費を必ずご請求させてい
 ただきますのでご了承ください。\n
LOCATION:コワーキングスペース秘密基地 福岡県北九州市
 小倉北区京町２丁目２−１９ 小倉ジャンジャンビル 3F
URL:https://techplay.jp/event/986272?utm_medium=referral&utm_source=ics&utm
 _campaign=ics
END:VEVENT
END:VCALENDAR
