BEGIN:VCALENDAR
VERSION:2.0
PRODID:-//https://techplay.jp//JP
CALSCALE:GREGORIAN
METHOD:PUBLISH
X-WR-CALDESC:どんな人が向いている？エンジニアからPdMへ
 の転職ケーススタディ〜キャリア事例から学ぶリアル
 〜
X-WR-CALNAME:どんな人が向いている？エンジニアからPdMへ
 の転職ケーススタディ〜キャリア事例から学ぶリアル
 〜
X-WR-TIMEZONE:Asia/Tokyo
BEGIN:VTIMEZONE
TZID:Asia/Tokyo
BEGIN:STANDARD
DTSTART:19700101T000000
TZOFFSETFROM:+0900
TZOFFSETTO:+0900
TZNAME:JST
END:STANDARD
END:VTIMEZONE
BEGIN:VEVENT
UID:986303@techplay.jp
SUMMARY:どんな人が向いている？エンジニアからPdMへの転
 職ケーススタディ〜キャリア事例から学ぶリアル〜
DTSTART;TZID=Asia/Tokyo:20250924T120000
DTEND;TZID=Asia/Tokyo:20250924T130000
DTSTAMP:20260420T110439Z
CREATED:20250911T041809Z
DESCRIPTION:イベント詳細はこちら\nhttps://techplay.jp/event/98630
 3?utm_medium=referral&utm_source=ics&utm_campaign=ics\n\n📝イベント
 概要\n本イベントは、「エンジニアからPdMへのキャリ
 アチェンジ」をテーマにしたイベントです。プロダク
 ト志向のエンジニアが増える一方で、「どうやってPdM
 にキャリアチェンジするのか」「PdMに興味はあるが、
 自分に向いているかわからない」といった声も多く聞
 かれます。今回は、エンジニアからPdMへとキャリアチ
 ェンジしたFindyのPdMを務める東辻より、キャリアの意
 思決定や転職活動のリアル、そしてPdMとしての実務や
 ギャップなどお話しします。\n🧑‍💻こんな方におす
 すめ\n\nPdMへのキャリアチェンジを考えられている方\nP
 dMの業務を知りたい方\n\n🗣️スピーカー\n\n東辻 良幸\
 n\nファインディ株式会社 Findy転職事業部Product企画 プ
 ロダクトマネージャー\n\n\n中村 弘平\n\nファインディ
 株式会社 Findy 転職事業部 ユーザーサクセス\n\n\n\n⚠️
 諸注意\n\nエージェントの方や営業目的でのイベントの
 参加はご遠慮ください\n性別/性的指向/障碍の有無/人
 種/宗教/年齢/容姿/体格/技術の選択に関わりなく、 誰
 もが気持ちよく参加できるようにご協力ください\n当
 イベントの内容およびスケジュールは、予告なく変更
 となる場合があります。予めご了承ください。\nイベ
 ント参加時に入力いただいた情報は、以下に基づき扱
 います。ファインディ株式会社 プライバシーポリシー
 \n\n📣主催・運営\nファインディ株式会社\n\nIT/Webエン
 ジニアの転職サービス「Findy」 :独自のアルゴリズムを
 用いてエンジニアのスキルを可視化し、ハイスキルな
 エンジニアと企業をマッチングする転職サービスです
 。登録エンジニアは12万人を突破、登録企業数は約1\,10
 0社、スタートアップ企業を中心にDXを推進したい大手
 企業まで幅広い企業に導入していただいております。\
 nハイスキルなフリーランスエンジニア紹介サービス「
 Findy Freelance」 :ハイスキルなフリーランスエンジニア
 と企業の業務委託案件のマッチングサービスです。「F
 indy」同様にGitHubを解析した独自アルゴリズムを用いた
 スキル評価をもとに、単価保証の案件を紹介していま
 す。登録エンジニア数は5万人を突破し、スタートアッ
 プ企業を中心にDXを推進したい大手企業まで1\,500社以
 上に導入いただいております。\nエンジニア組織の開
 発生産性可視化・向上SaaS 「Findy Team+」 :特許取得の独
 自技術を用いて、GitHub、GitLab、Bitbucket、Backlog、Jiraな
 どを解析し「Four Keys」や「SPACE」といった指標やフレ
 ームワークに基づき、開発のアクティビティ・効率・
 クオリティやエンゲージメントなどを多面的に可視化
 することで、開発生産性・開発者体験向上をサポート
 しています。\n開発ツールのレビューサイト「Findy Tools
 」：開発ツールに特化したレビューサイトです。第三
 者の視点で実際にツールの選定を行った企業の生の声
 を集めることで、ツール選定に関する不安を解消し、
 導入検討に必要な情報を提供します。\n
LOCATION:
URL:https://techplay.jp/event/986303?utm_medium=referral&utm_source=ics&utm
 _campaign=ics
END:VEVENT
END:VCALENDAR
