BEGIN:VCALENDAR
VERSION:2.0
PRODID:-//https://techplay.jp//JP
CALSCALE:GREGORIAN
METHOD:PUBLISH
X-WR-CALDESC:【10/15(水)13:00～】AIO/LLMO時代のSEO実践戦略 ｜
 成果に直結する取り組みとは
X-WR-CALNAME:【10/15(水)13:00～】AIO/LLMO時代のSEO実践戦略 ｜
 成果に直結する取り組みとは
X-WR-TIMEZONE:Asia/Tokyo
BEGIN:VTIMEZONE
TZID:Asia/Tokyo
BEGIN:STANDARD
DTSTART:19700101T000000
TZOFFSETFROM:+0900
TZOFFSETTO:+0900
TZNAME:JST
END:STANDARD
END:VTIMEZONE
BEGIN:VEVENT
UID:986335@techplay.jp
SUMMARY:【10/15(水)13:00～】AIO/LLMO時代のSEO実践戦略 ｜成果
 に直結する取り組みとは
DTSTART;TZID=Asia/Tokyo:20251015T130000
DTEND;TZID=Asia/Tokyo:20251015T140000
DTSTAMP:20260421T000703Z
CREATED:20250912T012001Z
DESCRIPTION:イベント詳細はこちら\nhttps://techplay.jp/event/98633
 5?utm_medium=referral&utm_source=ics&utm_campaign=ics\n\n【10/15(水)13:
 00～】AIO/LLMO時代のSEO実践戦略 ｜成果に直結する取り
 組みとは\n概要\nGoogleをはじめとする検索エンジンにお
 いて、生成AIやAI要約（AI Overview）が導入され、従来のS
 EOだけでは成果を上げにくい時代とも言われておりま
 す。本セミナーでは「LLMO（Large Language Model Optimization）
 」の最新動向を踏まえ、AIに選ばれ・引用されるため
 のコンテンツ構築とSEOの再構築手法を解説します。変
 化する検索環境で成果を出すための視点とその対策に
 ついてお伝えいたします。\n詳細\n検索エンジンの世界
 は今、大きな転換期を迎えています。Googleをはじめと
 する主要な検索サービスでは、生成AIやAI要約（AI Overvi
 ew）が本格的に導入され、従来型のSEO施策だけでは成
 果が出にくい状況になりつつあると言われております
 。\n検索結果の一部がAIによる要約や回答に置き換わる
 ことで、従来の「上位表示＝クリック獲得」という方
 程式が必ずしも成り立たなくなり、企業やメディアに
 とっては新たな集客戦略が求められています。本セミ
 ナーでは、この変化に対応するための新たな概念「LLMO
 （Large Language Model Optimization）」を中心に解説します。L
 LMOとは、大規模言語モデルにコンテンツを正しく認識
 ・引用させ、AIによる要約や回答に選ばれるための最
 適化手法です。具体的には、検索エンジンに加えてAI
 が参照する可能性のある情報源を意識したコンテンツ
 設計、エンティティや構造化データを活用した情報整
 理、AIに信頼される権威性・網羅性の確保など、従来
 のSEOを拡張する考え方が必要になります。\n本セミナ
 ーでは、最新の検索環境の動向を整理しつつ、AI時代
 に成果を出すための実践的なアプローチを紹介します
 。従来のSEOとどのように組み合わせるべきか、またど
 のように再構築していけばよいかを分かりやすくお伝
 えします。これからの時代において、自社の情報をAI
 に選ばれる存在にするための第一歩として、ぜひご参
 加ください。\nタイムスケジュール\n\n\n\n時間\n内容\n\n
 \n\n\n13:00〜13:55\nAIO/LLMO時代のSEO実践戦略 ｜成果に直結
 する取り組みとは\n\n\n13:55〜14:00\nアンケート回答\n\n\n\
 n※ 当日予告なく時間配分・内容が変更になる可能性
 がございます。\n登壇者\n名取 雄介株式会社ディテイ
 ルクラウドクリエイティブ取締役副社長\n参加対象\n\nS
 EO内部対策を今後考えていらっしゃる方々\n\n参加費\n
 無料\nハッシュタグ\n#techplayjp\n注意事項\n\nリクルーテ
 ィング、勧誘など、採用目的でのイベント参加はお断
 りしております。\nキャンセル待ち・補欠・落選の方
 はご参加いただくことが出来ませんのでご了承くださ
 い。\n欠席される場合は、お手数ですが速やかにキャ
 ンセル処理をお願い致します。\n無断キャンセルや欠
 席が続く場合、次回以降の参加をお断りさせていただ
 く場合がございます。\n
LOCATION:
URL:https://techplay.jp/event/986335?utm_medium=referral&utm_source=ics&utm
 _campaign=ics
END:VEVENT
END:VCALENDAR
