BEGIN:VCALENDAR
VERSION:2.0
PRODID:-//https://techplay.jp//JP
CALSCALE:GREGORIAN
METHOD:PUBLISH
X-WR-CALDESC:ITトレンドEXPO見逃し配信は9/19(金)まで！ ▼人
 気セッションのランキング公開▼ 要チェック！
X-WR-CALNAME:ITトレンドEXPO見逃し配信は9/19(金)まで！ ▼人
 気セッションのランキング公開▼ 要チェック！
X-WR-TIMEZONE:Asia/Tokyo
BEGIN:VTIMEZONE
TZID:Asia/Tokyo
BEGIN:STANDARD
DTSTART:19700101T000000
TZOFFSETFROM:+0900
TZOFFSETTO:+0900
TZNAME:JST
END:STANDARD
END:VTIMEZONE
BEGIN:VEVENT
UID:986360@techplay.jp
SUMMARY:ITトレンドEXPO見逃し配信は9/19(金)まで！ ▼人気セ
 ッションのランキング公開▼ 要チェック！
DTSTART;TZID=Asia/Tokyo:20250912T160000
DTEND;TZID=Asia/Tokyo:20250919T180000
DTSTAMP:20260423T071829Z
CREATED:20250912T062658Z
DESCRIPTION:イベント詳細はこちら\nhttps://techplay.jp/event/98636
 0?utm_medium=referral&utm_source=ics&utm_campaign=ics\n\n\nデータフ
 ォーシーズはITトレンドEXPOに出展しています\nデータ
 フォーシーズが出展する業界最大級のオンライン展示
 会「ITトレンドEXPO2025 Summer」は、おかげさまで大変多
 くの反響をいただき、盛況のうちに幕を閉じました！\
 nご好評につき只今、期間限定で全講演の「見逃し配信
 」を公開中です！\n※【AIエリア】の弊社サービス「デ
 ータ解析ソリューションサービス」の出展も期間限定
 で延長公開中です。\nそれに伴い、「人気セッション
 ランキング」ページを公開しました！どんなセッショ
 ンが注目されているか、ぜひチェックしてみてくださ
 い 👀\n\nランキングはこちらから！\nhttps://it.expo.it-tren
 d.jp/session/ranking/?utm_source=cmk-dkty0tdv\n※ 予告なく内容等
 が変更になる可能性がございます。\n\nITトレンドEXPO202
 5 Summer イベント概要\n\n見逃し配信　2025年9月6日（土）
 ～19日（金）\n開催場所　　オンラインでの開催\n参加
 費　　　無料\n詳細・登録　https://it.expo.it-trend.jp/key/dkt
 y0tdv\n\n\n新たな出会いが明日の「働く」を変える\nITト
 レンド EXPO2025 Summerに是非ご参加ください！\n
LOCATION:
URL:https://techplay.jp/event/986360?utm_medium=referral&utm_source=ics&utm
 _campaign=ics
END:VEVENT
END:VCALENDAR
