BEGIN:VCALENDAR
VERSION:2.0
PRODID:-//https://techplay.jp//JP
CALSCALE:GREGORIAN
METHOD:PUBLISH
X-WR-CALDESC:【新規事業担当者必見!!】未来を覗けるスター
 トアップピッチイベント 【earthkey pitch vol.181】
X-WR-CALNAME:【新規事業担当者必見!!】未来を覗けるスター
 トアップピッチイベント 【earthkey pitch vol.181】
X-WR-TIMEZONE:Asia/Tokyo
BEGIN:VTIMEZONE
TZID:Asia/Tokyo
BEGIN:STANDARD
DTSTART:19700101T000000
TZOFFSETFROM:+0900
TZOFFSETTO:+0900
TZNAME:JST
END:STANDARD
END:VTIMEZONE
BEGIN:VEVENT
UID:986508@techplay.jp
SUMMARY:【新規事業担当者必見!!】未来を覗けるスタート
 アップピッチイベント 【earthkey pitch vol.181】
DTSTART;TZID=Asia/Tokyo:20251008T155000
DTEND;TZID=Asia/Tokyo:20251008T170000
DTSTAMP:20260422T075230Z
CREATED:20250916T085329Z
DESCRIPTION:イベント詳細はこちら\nhttps://techplay.jp/event/98650
 8?utm_medium=referral&utm_source=ics&utm_campaign=ics\n\nイベント概
 要\nearthkeyが主催するオープンイノベーションイベント
 です。\n業界業種にこだわらず、毎週5社の新進気鋭の
 シード・アーリーステージのスタートアップ企業が、
 事業会社との共創や投資家との出会いを目的に登壇し
 ます。業界を越えた業務提携や資本提携など毎回数々
 のマッチングが生まれる場です。事業会社の方は参加
 いただくことで、自社の新規事業の推進や自社課題（
 ワークフローのデジタル化など）の解決、クライアン
 トへの付加価値提案などのアイデアを得ることができ
 ます。当イベントは、業界業種に縛られないセレンデ
 ィピティ（偶然の出会い）の場を大切にしています。\
 n\n相性の良い参加者像\n・事業会社（新規、既存事業
 推進者・経営企画室）・ベンチャーキャピタル・コー
 ポレートベンチャーキャピタル・メディア関係会社\n
 ＊過去参加企業（敬称略）伊藤忠商事、三井物産、NEC
 、三井住友FG、みずほ銀行、凸版印刷、電通、JCB、フ
 ジテレビジョン、​三井住友海上、京セラ、楽天、日
 清紡HD、東芝、ALSOK 、GMOTECH、京浜急行電鉄、東京建物
 、富士通、DNP、参天製薬、等\n\nタイムスケジュール\n1
 5:45- zoomLIVE配信開始15:50- イベント運営紹介、ピッチ概
 要説明16:00- 株式会社SciEmo16:11- ネクスファイ・テクノ
 ロジー株式会社16:22- 株式会社アグロワークス16:33- 株
 式会社ライスレジン16:44- JAPANGO合同会社16:55- クロージ
 ング17:00- 終了\n\n参加（視聴）費用\n無料\n\nイベント
 についての注意事項\n※登壇企業さま・弊社との事業
 が競合する企業さま、事業会社に属されていない方か
 らのお申し込みをお断りする場合がございます※タイ
 ムスケジュールや登壇社は予告なく変更になる場合が
 ございます※参加者の企業名・部門名のみ、プレゼン
 テーションの質向上のため登壇企業さまへ共有するこ
 とがございます※本イベントはZoom（ウェビナー）を活
 用したフルオンラインのLIVE配信となります為、当日配
 信品質の問題が発生する可能性がございます。何卒ご
 了承くださいませ\n\n登壇企業及び登壇者のご紹介\n株
 式会社SciEmo　( https://www.sciemo.co.jp/ )代表取締役　丸本 
 瑞葉 氏\nメーカーで新規事業立ち上げを経験後、既存
 の課題ドリブンの新規事業立ち上げのメソッドに疑問
 を抱き、京都大学で感情起点の事業創出メソッドを研
 究し、その手法を社会実装するため（株）SciEmoを設立
 。\nサービス紹介グリフル\nグリフルは「絆の研究」で
 得た知見を活かし、エンゲージメントを高める要素を
 盛り込んだクローズドコミュニティアプリです。アナ
 ログなログインキーを入り口に、コミュニティ内の様
 々な体験を通して、熱のこもったコミュニティを形成
 します。\n‾‾‾‾‾‾‾‾‾‾‾‾‾‾‾‾‾‾‾
 ‾‾‾‾‾‾‾‾‾‾‾‾‾‾‾‾‾‾‾‾‾‾‾‾
 ‾‾‾‾‾‾‾‾‾‾‾ネクスファイ・テクノロジー
 株式会社　( https://www.nexfi-tech.com/ )代表取締役　中村 
 孝 氏\nサービス紹介次世代パワーデバイスであるSiCデ
 バイスを活用した独創的・革新的技術による高電圧機
 器の製造・販売を行っています。\n‾‾‾‾‾‾‾‾
 ‾‾‾‾‾‾‾‾‾‾‾‾‾‾‾‾‾‾‾‾‾‾‾‾
 ‾‾‾‾‾‾‾‾‾‾‾‾‾‾‾‾‾‾‾‾‾‾株式
 会社アグロワークス　( https://agro.works/ )代表取締役　
 安黒 千能 氏\nホームセンター業27年、ワークウェア創
 業12年の経験を持つ地域密着型経営者。「働く人がカ
 ッコいい地域づくり」をビジョンに掲げ、SaaS×ECで業
 界変革に挑む。2028年IPO目標で攻めの経営を貫く。\nサ
 ービス紹介フクくる〜！\n地域ワークウェア店向けBtoB 
 ECプラットフォーム。法人ユニフォーム管理SaaS＋在庫
 レス直送＋デジタルリファーラル機能で、誰でも紹介
 販売可能。人気ブランドとの排他契約で価格競争力30%
 向上、三方よし収益モデル。\n‾‾‾‾‾‾‾‾‾‾
 ‾‾‾‾‾‾‾‾‾‾‾‾‾‾‾‾‾‾‾‾‾‾‾‾
 ‾‾‾‾‾‾‾‾‾‾‾‾‾‾‾‾‾‾‾‾株式会社 
 ライスレジン　( https://www.riceresin.co.jp )代表取締役COO　
 奥田 真司 氏\n2006年に野村證券株式会社に新卒入社。
 富裕層向けのリテール業務や上場企業などの法人向け
 コンサルティング業務を経て、戦略企画業務に従事。2
 020年5月より、バイオマスレジングループに参画。バイ
 オマスレジン南魚沼 副社長に就任した後、2022年4月に
 社長執行役員に就任。2024年より株式会社ライスレジン
  代表取締役COOに就任。\nサービス紹介ライスレジン\n
 日本発のお米の環境素材『ライスレジン』は、保管期
 限の切れた政府備蓄米、古米など、食用として消費さ
 れなかったお米を独自の技術でバイオマスプラスチッ
 クへとアップサイクルし、環境と日本の農業の課題解
 決に取り組む新素材です。\n‾‾‾‾‾‾‾‾‾‾‾
 ‾‾‾‾‾‾‾‾‾‾‾‾‾‾‾‾‾‾‾‾‾‾‾‾
 ‾‾‾‾‾‾‾‾‾‾‾‾‾‾‾‾‾‾‾JAPANGO合同会
 社　( https://japango.io/ )代表　本多 拳士 氏\nサービス紹
 介JAPANGO\nインバウンド旅行者と地方がダイレクトに繋
 がるDAOコミュニティの運営。①オーバーツーリズム解
 消、②インバウンド旅行者と地方サービス事業者のミ
 スマッチ解消、により日本成長戦略の柱である旅行業
 の健全な活性化を目指します。\n\nearthkey pitch スポンサ
 ー企業ご紹介\n一般社団法人　科学技術と経済の会　( 
 https://www.jates.or.jp )科学技術と経済の調和を図るための
 研究・調査を実施している社団法人。また、産学官の
 連携を促進し、技術革新を推進しています。シンポジ
 ウムやセミナーを開催し、知識の普及と啓発に取り組
 みこれらの活動を通じて科学技術の発展と経済の成長
 に貢献しています。\n\n主催企業\n株式会社アースキー
 オープンイノベーションをテーマに、スタートアップ
 と⼤⼿企業のマッチングを⾏っています。主な活動と
 しては業種業界問わず、魅⼒的なシード、アーリース
 テージのスタートアップ企業が毎週5社、ピッチするイ
 ベント“earthkey pitch”を運営しております。これまで
 に850社以上の新進気鋭のスタートアップ企業が登壇し
 ており、直近3回のイベントでは平均100名の事業会社・
 ベンチャーキャピタル・地方自治体の方々にご参加い
 ただいています。イベントでは、業務提携や資本提携
 など毎回数々のマッチングが⽣まれています。イベン
 ト以外にも⼤⼿企業向けの新規事業開発⽀援、DX推進
 支援を⾏っております。\nHP▶︎https://earthkey.co.jpearthkey
  pitchへの登壇を検討しているスタートアップ企業へ▶
 ︎earthkey pitch https://www.earthkey-pitch.com多数の協業アイデ
 アを得たい大手企業へ▶︎earthkey reverse pitch  https://www.
 earthkey-open-innovation.com過去登壇企業の一覧はこちら▶︎
 https://earthkey.events/startup/
LOCATION:
URL:https://techplay.jp/event/986508?utm_medium=referral&utm_source=ics&utm
 _campaign=ics
END:VEVENT
END:VCALENDAR
