BEGIN:VCALENDAR
VERSION:2.0
PRODID:-//https://techplay.jp//JP
CALSCALE:GREGORIAN
METHOD:PUBLISH
X-WR-CALDESC:【無料】業界を越えて考えるエンジニアキャ
 リアの可能性　―転職事例から見える選択肢―
X-WR-CALNAME:【無料】業界を越えて考えるエンジニアキャ
 リアの可能性　―転職事例から見える選択肢―
X-WR-TIMEZONE:Asia/Tokyo
BEGIN:VTIMEZONE
TZID:Asia/Tokyo
BEGIN:STANDARD
DTSTART:19700101T000000
TZOFFSETFROM:+0900
TZOFFSETTO:+0900
TZNAME:JST
END:STANDARD
END:VTIMEZONE
BEGIN:VEVENT
UID:986543@techplay.jp
SUMMARY:【無料】業界を越えて考えるエンジニアキャリア
 の可能性　―転職事例から見える選択肢―
DTSTART;TZID=Asia/Tokyo:20251203T190000
DTEND;TZID=Asia/Tokyo:20251203T200000
DTSTAMP:20260423T013825Z
CREATED:20250917T043543Z
DESCRIPTION:イベント詳細はこちら\nhttps://techplay.jp/event/98654
 3?utm_medium=referral&utm_source=ics&utm_campaign=ics\n\n業界を越え
 て考えるキャリアの可能性　―転職事例から見える選
 択肢―\n概要\n今後の選択肢を考える座談会\n〜転職を
 考え始めた方へ、次の一歩のヒントを〜「初めての転
 職で、どんな企業が自分にとって一番いいのか、どん
 な選び方があるのかわからない」「今の職場でこのま
 ま仕事を続けていていいのか、それとも新しい環境に
 挑戦したほうがいいのか」そんな悩みを抱え始めた方
 に向けて、エンジニアに特化した"転職の方向性"を見
 つけるための座談会を開催します。本イベントでは、
 実際の傾向をもとに、他のエンジニアがどのような考
 え方でキャリアを決めているのか等、ご自身のキャリ
 アを考える上でのヒントをお届けします。※12月5日(金
 )と同様の内容です\nトークテーマ\n\n転職の際に何を考
 えたらよいのか\n同業界への転職と異業界への転職、
 それぞれの特徴と傾向\n\nこんな人におすすめ\n\n長く
 務めた会社から初めての転職を考えている方\n転職に
 なんとなく興味があって情報収集をしたい方\n現職に
 不満はないが、新しい環境を探している方\n製造業の
 業界について知りたい方\nエンジニアと長く伴走して
 いるコンサルタントに聞きたいことがある方\n\n転職活
 動を始める前の情報収集の場として、気軽にご参加い
 ただける内容です。更にお話を聞きたい方には、別途
 個別相談の機会も用意する予定です。\n今後のキャリ
 アを考えるきっかけとして、ぜひご活用ください。\n
 タイムスケジュール\n\n\n\n時間\n内容\n\n\n\n\n18:50〜\n受
 付開始\n\n\n19:00〜19:05\nオープニング　登壇者自己紹介\
 n\n\n19:05〜19:25\nトークテーマ①　同業界への転職 or 異
 業界への転職事例や傾向\n\n\n19:25〜19:40\nトークテーマ
 ②　メーカーとアウトソーシング企業、それぞれの転
 職事例や傾向\n\n\n19:40〜19:50\n質疑応答\n\n\n19:50〜19:55\n
 クロージング\n\n\n\n※ 座談会方式で行いますので、当
 日予告なく時間配分・内容が変更になる可能性がござ
 います。\n登壇者\n\n北原 真樹\n株式会社テクノプロ　
 テクノプロ・デザイン社\n1997年テクノプロ・デザイン
 社に入社。\n派遣・請負という働き方で設計業務を経
 験し幅広い技術知識を培った後、マネジメント側に異
 動。\n事業基盤の強化に取り組み、エンジニアリング
 分野での価値創出に力を注いでいる。技術力を活かす
 だけでなく、若手エンジニアの育成やキャリア形成支
 援にも積極的に関わり、研修の企画やアドバイスを通
 じて人材の成長を後押ししている。\n「キャリアの幅
 を広げ、仕事を楽しむ」という理念を大切にし、挑戦
 を恐れず新しい領域に踏み出す姿勢で、今後も技術と
 人材の両面で未来を切り拓き、業界の発展に貢献して
 いく心構えを持つ。\n\n\n\n井田 圭亮\n株式会社テクノ
 プロ　テクノプロ・デザイン社\n2021年 テクノプロ・デ
 ザイン社に入社。\n現職までの11年間は、自動車業界・
 FA設備メーカーのエンジニアとして業務を遂行。\nテク
 ノプロ・デザイン社では、主に採用領域へキャリアチ
 ェンジし、エンジニア採用業務にて多くの求職者の方
 とキャリア相談からご入社までの支援。年間面談数は
 、350名と多くのキャリアに悩む方へ支援を実施。アウ
 トソーシング業界の人事ではなく、「あなたにとって
 の転職先の最善は？」を理念に価値観のミスマッチが
 無い事を心掛けている。\n\n\n\n大橋 孝太郎\nテクノブ
 レーン株式会社\n2015年テクノブレーン株式会社に入社
 。\n創業33年を迎えるエンジニア特化型ヘッドハンティ
 ング会社にて製造業領域での転職支援を10年以上経験
 。\nこれまで2\,000人以上のエンジニアとの面談実績を
 もち、経験スキルだけでなく将来的な業界動向も踏ま
 えた転職サポートを実施。\n短期的な条件面だけでな
 く長期的なキャリアビジョンを踏まえた提案により入
 社後のミスマッチを防ぐ。\n\n参加対象\n\nエンジニア\n
 本セミナーにご興味がある方\n\n参加費\n無料\n注意事
 項\n\nリクルーティング、勧誘など、採用目的でのイベ
 ント参加はお断りしております。\nキャンセル待ち・
 補欠・落選の方はご参加いただくことが出来ませんの
 でご了承ください。\n欠席される場合は、お手数です
 が速やかにキャンセル処理をお願い致します。\n無断
 キャンセルや欠席が続く場合、次回以降の参加をお断
 りさせていただく場合がございます。\n
LOCATION:
URL:https://techplay.jp/event/986543?utm_medium=referral&utm_source=ics&utm
 _campaign=ics
END:VEVENT
END:VCALENDAR
