BEGIN:VCALENDAR
VERSION:2.0
PRODID:-//https://techplay.jp//JP
CALSCALE:GREGORIAN
METHOD:PUBLISH
X-WR-CALDESC:ひとり情シスの限界突破！AIと Microsoft 365 で変
 貌するあなたの未来
X-WR-CALNAME:ひとり情シスの限界突破！AIと Microsoft 365 で変
 貌するあなたの未来
X-WR-TIMEZONE:Asia/Tokyo
BEGIN:VTIMEZONE
TZID:Asia/Tokyo
BEGIN:STANDARD
DTSTART:19700101T000000
TZOFFSETFROM:+0900
TZOFFSETTO:+0900
TZNAME:JST
END:STANDARD
END:VTIMEZONE
BEGIN:VEVENT
UID:986607@techplay.jp
SUMMARY:ひとり情シスの限界突破！AIと Microsoft 365 で変貌
 するあなたの未来
DTSTART;TZID=Asia/Tokyo:20251009T150000
DTEND;TZID=Asia/Tokyo:20251009T160000
DTSTAMP:20260421T231714Z
CREATED:20250918T071050Z
DESCRIPTION:イベント詳細はこちら\nhttps://techplay.jp/event/98660
 7?utm_medium=referral&utm_source=ics&utm_campaign=ics\n\nひとり情シ
 スの限界突破！AIと Microsoft 365 で変貌するあなたの未
 来\n概要\n限られた人員で社内のIT環境を支える「ひと
 り情シス」の皆さまにとって、日々の運用負荷を抑え
 つつ、セキュリティや利便性を両立することは大きな
 課題です。本ウェビナーでは、Microsoft 365 の中でも特
 に利用頻度が高く、運用負荷も大きい Exchange Online と S
 harePoint Online にフォーカスし、ひとり情シス体制でも
 無理なく管理・活用できるポイントを解説します。さ
 らに、注目の生成AI「Microsoft 365 Copilot」が Microsoft 365 
 の運用やユーザーサポートにどのように役立つのか、
 具体的な活用イメージや導入時の注意点もご紹介しま
 す。「ひとり情シスだからこそ知っておきたい」 Micros
 oft 365 の運用ノウハウと、Copilot による新たな可能性を
 、実践的な視点でお届けします。みなさまのご参加を
 お待ちしております。\nタイムスケジュール\n\n\n\n時間
 \n内容\n\n\n\n\n15:00～15:15\nMicrosoft 365 と共にひとり情シ
 スの課題に立ち向かうIT部門を一人で担う「ひとり情
 シス」。業務の属人化、システムの老朽化、セキュリ
 ティ対策の不備、経営層との連携不足など、課題は多
 岐にわたります。限られたリソースの中で、日々の運
 用と改善を両立するのは至難の業です。そんな状況を
 打開する鍵が、Microsoft 365。本セッションでは、ひとり
 情シスの現場でなぜ Microsoft 365 が選ばれるのか、その
 理由と背景に迫ります。TD SYNNEX株式会社　アドバンス
 ドソリューション部門ハイブリッドマルチクラウドSE
 部　大久保 直美\n\n\n15:15～15:40\n『うちの会社でもでき
 る？』に答えます！Microsoft 365 導入事例紹介Exchange Onlin
 e や SharePoint Online など、Microsoft 365 の導入を通じて、
 どのように業務が変革したのか。実際のプロジェクト
 事例をもとに、課題・解決策・成果をストーリー形式
 でご紹介します。株式会社両備システムズ クラウドビ
 ジネスカンパニーインテグレーション事業部　大本 奈
 々可氏\n\n\n15:40～15:45\nCopilot と Teams で始めるDX体験キ
 ャンペーン本ウェビナー限定の特別キャンペーンとし
 て、両備システムズのサポートのもと、Teams と Copilot 
 を活用した業務改善および運用管理作業の体験プログ
 ラムをご案内します。株式会社両備システムズ　営業
 本部クロスインダストリー営業統括部　川邉 佑太氏\n\
 n\n15:45～16:00\nQ&A\n\n\n\n参加費\n無料（事前登録制となり
 ます）\n主催\nTD SYNNEX株式会社\n共催\n株式会社両備シ
 ステムズ\n協賛\n日本マイクロソフト株式会社
LOCATION:
URL:https://techplay.jp/event/986607?utm_medium=referral&utm_source=ics&utm
 _campaign=ics
END:VEVENT
END:VCALENDAR
