BEGIN:VCALENDAR
VERSION:2.0
PRODID:-//https://techplay.jp//JP
CALSCALE:GREGORIAN
METHOD:PUBLISH
X-WR-CALDESC:【再放送】新規事業のためのAI開発戦略 ― 判
 断を支える成功事例とロードマップ
X-WR-CALNAME:【再放送】新規事業のためのAI開発戦略 ― 判
 断を支える成功事例とロードマップ
X-WR-TIMEZONE:Asia/Tokyo
BEGIN:VTIMEZONE
TZID:Asia/Tokyo
BEGIN:STANDARD
DTSTART:19700101T000000
TZOFFSETFROM:+0900
TZOFFSETTO:+0900
TZNAME:JST
END:STANDARD
END:VTIMEZONE
BEGIN:VEVENT
UID:986705@techplay.jp
SUMMARY:【再放送】新規事業のためのAI開発戦略 ― 判断を
 支える成功事例とロードマップ
DTSTART;TZID=Asia/Tokyo:20250924T170000
DTEND;TZID=Asia/Tokyo:20250924T180000
DTSTAMP:20260420T105034Z
CREATED:20250922T025934Z
DESCRIPTION:イベント詳細はこちら\nhttps://techplay.jp/event/98670
 5?utm_medium=referral&utm_source=ics&utm_campaign=ics\n\n【好評につ
 き再放送】新規事業のためのAI開発戦略\n―判断を支え
 る成功事例とロードマップ ―\nこんな方におすすめ\n\n
 新規事業・経営企画チームの方\nAI推進部門やDX推進担
 当の方\n経営層・部長層としてAI導入の意思決定に関わ
 る方\n「既存ツール」「カスタマイズ」「独自開発」
 の線引きに悩んでいる方\n\n概要\n― 導入のスピードよ
 りも大切なのは、「どこまで取り組むか」を見極める
 判断力\n生成AIの導入が加速する一方で、「成果を実感
 できる企業」と「形だけに終わる企業」との差が広が
 っています。その分かれ目となるのは、経営・部長レ
 イヤーがどこまでのスコープで取り組むかを判断でき
 ているかという点です。\n本ウェビナーでは、全社的
 にAI活用を推進するための戦略的な考え方を、成功事
 例を交えながら整理します。「既存ツールの活用」「
 自社向けカスタマイズ」「独自開発」――それぞれの
 メリット・リスクを踏まえ、意思決定に必要な視点を
 提示します。\n新規事業やAI活用を加速させたい経営企
 画・推進チームの方にとって、判断の基準と進め方の
 ヒントを持ち帰っていただけるセミナーです。\nセミ
 ナー構成\n\n日本企業におけるAI導入の現状と課題\nア
 カチセによるAI導入支援事例のご紹介\nQ＆A\n\n※ 当日
 予告なく内容が変更になる可能性がございます。\n登
 壇者\n\n齋藤 祐介\nアカチセ株式会社 代表取締役\n2007-0
 8年\n・インド絨毯 Jaipur Rugs Inc. 東アジア営業責任者　@
 インド\n2011-13年\n・東京大学　農学生命科学研究科　
 修士課程　修了\n2013-14年\n・A.T. Kearney（戦略コンサル
 ティングファーム）\n2014-18年\n・Empag Pte. Ltd. 創業者兼C
 EO　@タイ、カンボジア\n- 農業・食関連の事業を複数展
 開（シェアエコ、産直ECなど）。同社は現在博報堂グ
 ループへ売却\n2019-21年\n・ラクスル株式会社　デジタ
 ル戦略部長/ ソリューション事業パートナー\n- 物流プ
 ラットフォーム「ハコベル」のDX推進（新規システム
 構築・導入、データ活用） - 物流DX事業立ち上げ、大
 手メーカーを中心にご支援（Nestle\, Mizkan\, 森永\, 日清
 食品\, 等）\n2021年-\n・アカチセ株式会社創業\n\n開催日
 程・参加方法・主催\n\n開催日時：2025年9月24日（木）17
 :00～17:45\n参加方法：オンライン / 先着順 / 参加費無料
 \n主催：アカチセ株式会社\n\n注意事項\n・フリーアド
 レスではご登録いただけませんので、恐れ入りますが
 、会社のメールアドレスをご使用いただきますようお
 願いいたします。・お申込みは1名様毎にお願いいたし
 ます。一度のお申込みで複数名のご参加はできません
 のでご了承ください。・再放送のため、リアルタイム
 のご質問にはお答えしかねます。
LOCATION:
URL:https://techplay.jp/event/986705?utm_medium=referral&utm_source=ics&utm
 _campaign=ics
END:VEVENT
END:VCALENDAR
