BEGIN:VCALENDAR
VERSION:2.0
PRODID:-//https://techplay.jp//JP
CALSCALE:GREGORIAN
METHOD:PUBLISH
X-WR-CALDESC:【無料】統計の日スペシャルセミナー2025｜「
 より良い研究を行うために」「生成AI時代の統計解析
 と量的研究 」などのスペシャルセッション
X-WR-CALNAME:【無料】統計の日スペシャルセミナー2025｜「
 より良い研究を行うために」「生成AI時代の統計解析
 と量的研究 」などのスペシャルセッション
X-WR-TIMEZONE:Asia/Tokyo
BEGIN:VTIMEZONE
TZID:Asia/Tokyo
BEGIN:STANDARD
DTSTART:19700101T000000
TZOFFSETFROM:+0900
TZOFFSETTO:+0900
TZNAME:JST
END:STANDARD
END:VTIMEZONE
BEGIN:VEVENT
UID:986819@techplay.jp
SUMMARY:【無料】統計の日スペシャルセミナー2025｜「より
 良い研究を行うために」「生成AI時代の統計解析と量
 的研究 」などのスペシャルセッション
DTSTART;TZID=Asia/Tokyo:20251020T090000
DTEND;TZID=Asia/Tokyo:20251020T170000
DTSTAMP:20260425T115451Z
CREATED:20250925T053746Z
DESCRIPTION:イベント詳細はこちら\nhttps://techplay.jp/event/98681
 9?utm_medium=referral&utm_source=ics&utm_campaign=ics\n\n統計の日ス
 ペシャルセミナー2025\n～生成AI時代の統計解析と量的
 研究～\n10月18日は「統計の日」！統計をテーマとした
 セミナーを今年は10月20日（月）に実施いたします。統
 計をこれから始める方、すでにお使いの方、SPSSユーザ
 ーの方を対象として、統計に関する各種セッションを1
 日かけてお届けいたします。参加費無料の現地・オン
 ライン開催のハイブリッド型セミナーです。ぜひご参
 加ください。\nセミナー概要\n\n開催日時　2023年10月20
 日（月）9:00～17:00\n参加費　　無料（要登録）\n受講方
 法　オンラインセミナー（Zoom利用）／現地開催（東京
 ・浜松町）\n主催　　　スマート・アナリティクス株
 式会社\n\nアジェンダ\n\n【午前の部】9:00～11:45　 量的
 研究は怖くない！0からの統計入門の入門\n【午後の部
 】14:00～14:30　最新ツールを一気に紹介。「統計解析・
 テキスト分析・BI・AIツール最新事情」\n【午後の部】1
 5:10～16:00　＜特別講演＞「より良い研究を行うために
 」　　　　　　　　　　　　　―慶応義塾大学 商学部
  教授 清水聰先生\n【午後の部】16:10～17:00　＜パネル
 ディスカッション＞「生成AI時代の統計解析と量的研
 究」　　　　　　　　　　　　　―慶応義塾大学 商学
 部 教授 清水聰先生　　　　　　　　　　　　　―埼
 玉医科大学 医学部 教授 川崎洋平先生　　　　　　　
 　　　　　　―スマート・アナリティクス株式会社 代
 表取締役 畠慎一郎※最終のコンテンツについては変動
 する場合がございます。詳しくは受講票をご確認くだ
 さい。\n\n対象となる方\n\n統計解析について興味のあ
 る方\nSPSS製品をご利用のお客様\n\n参加費\n無料\n備考\n
 \nオンラインで受講の場合は、オンラインプラットフ
 ォーム「ZOOM」にて提供予定です。\n現地開催の詳細に
 ついては、後日お送りする受講票メールでご案内しま
 す。\n\nハッシュタグ\n#techplayjp
LOCATION:ビジョンセンターグランデ東京浜松町 東京都港
 区芝大門 1-13-9 UD芝大門ビル
URL:https://techplay.jp/event/986819?utm_medium=referral&utm_source=ics&utm
 _campaign=ics
END:VEVENT
END:VCALENDAR
