BEGIN:VCALENDAR
VERSION:2.0
PRODID:-//https://techplay.jp//JP
CALSCALE:GREGORIAN
METHOD:PUBLISH
X-WR-CALDESC:申込受付中【ホワイトペーパー】鉄道業界か
 ら学ぶ！あらゆるビジネスに役立つデータ活用術
X-WR-CALNAME:申込受付中【ホワイトペーパー】鉄道業界か
 ら学ぶ！あらゆるビジネスに役立つデータ活用術
X-WR-TIMEZONE:Asia/Tokyo
BEGIN:VTIMEZONE
TZID:Asia/Tokyo
BEGIN:STANDARD
DTSTART:19700101T000000
TZOFFSETFROM:+0900
TZOFFSETTO:+0900
TZNAME:JST
END:STANDARD
END:VTIMEZONE
BEGIN:VEVENT
UID:986823@techplay.jp
SUMMARY:申込受付中【ホワイトペーパー】鉄道業界から学
 ぶ！あらゆるビジネスに役立つデータ活用術
DTSTART;TZID=Asia/Tokyo:20251001T100000
DTEND;TZID=Asia/Tokyo:20251031T160000
DTSTAMP:20260424T002844Z
CREATED:20250925T060130Z
DESCRIPTION:イベント詳細はこちら\nhttps://techplay.jp/event/98682
 3?utm_medium=referral&utm_source=ics&utm_campaign=ics\n\n鉄道業界か
 ら学ぶ！あらゆるビジネスに役立つデータ活用術\n概
 要\nデータフォーシーズは鉄道業界のDXを支援し、業務
 効率化に留まらない新たな価値創出に貢献しています
 。\nこの資料には、業界を問わずあらゆる事業の成長
 とDX推進に役立つ普遍的なヒントが満載です。ぜひご
 活用ください。\n\n※ 予告なく内容が変更になる可能
 性がございます。\n\nコンテンツ\n・分析支援（ICカー
 ドデータ利活用促進による販促施策企画、展開支援）\
 n・DX組織立ち上げ支援（動画解析による保守点検業務
 の効率化）\n・データ活用体制支援（鉄道車両データ
 を活用した省電力運転分析）\n・マーケ分析支援（品
 目別売上予測モデル構築支援、気象情報を活用した施
 策立案支援）\n・分析支援（広告効果最大化のための
 分析支援）\n・分析支援（観光施策活性化のための分
 析）\n・データ活用/支援（位置情報を活用したダッシ
 ュボード開発）\n\n\n\nこんなお悩みのある方にオスス
 メ\n\n業務効率化やコスト削減を目指したい\n自社のDX
 組織をよりパワーアップしたい\n膨大なデータの活用
 方法を見出したい\nデータ活用を推進したいけど方法
 が分からない\n\n
LOCATION:
URL:https://techplay.jp/event/986823?utm_medium=referral&utm_source=ics&utm
 _campaign=ics
END:VEVENT
END:VCALENDAR
