BEGIN:VCALENDAR
VERSION:2.0
PRODID:-//https://techplay.jp//JP
CALSCALE:GREGORIAN
METHOD:PUBLISH
X-WR-CALDESC:Ambassadorsに聞くクラウドリフト・モダナイズの
 処方箋（AWSぶっちゃけ討論会vol.4）
X-WR-CALNAME:Ambassadorsに聞くクラウドリフト・モダナイズの
 処方箋（AWSぶっちゃけ討論会vol.4）
X-WR-TIMEZONE:Asia/Tokyo
BEGIN:VTIMEZONE
TZID:Asia/Tokyo
BEGIN:STANDARD
DTSTART:19700101T000000
TZOFFSETFROM:+0900
TZOFFSETTO:+0900
TZNAME:JST
END:STANDARD
END:VTIMEZONE
BEGIN:VEVENT
UID:986945@techplay.jp
SUMMARY:Ambassadorsに聞くクラウドリフト・モダナイズの処
 方箋（AWSぶっちゃけ討論会vol.4）
DTSTART;TZID=Asia/Tokyo:20251127T193000
DTEND;TZID=Asia/Tokyo:20251127T205000
DTSTAMP:20260421T050039Z
CREATED:20250929T024009Z
DESCRIPTION:イベント詳細はこちら\nhttps://techplay.jp/event/98694
 5?utm_medium=referral&utm_source=ics&utm_campaign=ics\n\nAmbassadorsに
 聞くクラウドリフト・モダナイズの処方箋（AWSぶっち
 ゃけ討論会vol.4）\nAmbassadorsに聞くクラウドリフト・モ
 ダナイズの処方箋 クラウドリフト・モダナイズの最適
 解を、AWS Ambassadorたちが本音ベースでディスカッショ
 ン！\nAWS Ambassadorで、SHIFTのAWS CCoEをリードする大瀧が
 、各領域のエキスパートを招いて質問をぶつけ、教科
 書に載っていない、検索しても出てこない、リアルな
 現実を掘り下げます。今回のゲストは、富士ソフト株
 式会社の大槻 剛 氏、デロイト トーマツ ウェブサービ
 ス株式会社の佐藤 靖幸 氏、NRIネットコム株式会社の
 志水 友輔 氏。\n「クラウドリフト・モダナイズの処方
 箋」をテーマに、「クラウドリフト＆シフトのベスト
 プラクティスは？」「クラウドネイティブ、モダン化
 の武勇伝は？」「今だからこそ話せる失敗談」など、
 ここだけでしか聞けないぶっちゃけトークをお届けし
 ます。\nアーカイブには残らないオフレコトークも予
 定しています！ぜひリアルタイムでご視聴ください。\
 nContents\n\nLT：10分\nパネルディスカッション「クラウド
 リフト・モダナイズの処方箋」：55分　・クラウドリ
 フト＆シフトのベストプラティス　・クラウドネイテ
 ィブ、モダン化のベストプラクティス　　- おすすめ
 の手法は？効果と効能　　　- 実際の武勇伝　・やっ
 ちまった！クラウドネイティブ化の失敗談　　- 失敗
 から得た教訓は？　・これからのクラウド利用の未来
 像　・視聴者からの質問\nオフレコトーク：15分\n\nSpeak
 ers\n大槻 剛 氏\n富士ソフト株式会社システムインテグ
 レーション事業本部 ビジネスソリューション事業部 
 第2技術部 第5技術グループ主任／フェロー・クラウドx
 DevOpsエヴァンジェリスト\nクラウドxDevOpsエヴァンジェ
 リストとして、またAWS Ambassadors 兼 2025 Japan AWS Top Enginee
 rsに選出されており、社内の課題を横断的に相談でき
 るように努めています。アプリケーションフレームワ
 ークエンジニアとしてキャリアをスタートし、台湾で
 ハードウェア設計インフラストラクチャエンジニア経
 験を積んだ後、CloudFormationに出会いSREの普及をするた
 め、　アプリケーションとインフラの気持ちのわかる
 エンジニアとして、幅広いDevOpsプロジェクトに参加。
 クラウドやコンテナ技術とIaCに関する推進活動や、汐
 留オフィス食堂を利用したパブリックイベント「クラ
 ウド食堂」の立ち上げなども行い、若手の育成からベ
 テラン技術者の支援まで幅広く活動しています。関東
 近辺のJAWSに参加登壇し、またBuilderCardを使った勉強会
 などのコミュニティ活動も積極的に行っています。\n
 佐藤 靖幸 氏\nデロイト トーマツ ウェブサービス株式
 会社サーバーサイド・アプリケーション・エンジニア\
 nデロイト トーマツ ウェブサービス株式会社のAWS Ambass
 adorです。サーバーレスやコンテナを活用したモダンア
 プリケーションの設計・開発に従事しています。ブロ
 グや登壇活動を通じて社内外のAWSコミュニティで積極
 的に活動しております。\n志水 友輔 氏\nNRIネットコム
 株式会社上級専門職／クラウドアーキテクト\n主に Web 
 システムの PoC やアーキテクチャを担当し、構築や運
 用も幅広く経験しています。新規構築とリプレースが
 半々で、オンプレミスからの移行や、AWS を含むクラウ
 ドモダナイゼーションを数多く推進してきました。得
 意分野はサーバーレス、IaC、CI/CD に加え、セキュリテ
 ィや運用基盤におけるベストプラクティスの適用です
 。\n社内では CCoE 活動や技術広報チームを推進し、ブ
 ログやコミュニティ活動を通じて知見を社内外に展開
 しています。特に AWS の認定制度やコミュニティ活動
 を通じて人材育成や文化醸成に力を入れており、AWS の
 ベストプラクティスを「現場で実装し続けること」と
 「組織に根付かせること」の両面から実践しています
 。\n2023-2025 AWS Ambassador / 2021\,2023-2025 Japan AWS Top Engineer / 
 2021-2025 Japan All AWS Certifications Engineers / 2024\,2025 AWS Communi
 ty Builder（Serverless）\n大瀧 広宣\n株式会社SHIFTセキュリ
 ティ・ネットワークサービス部チーフ・シニアAWSセキ
 ュリティコンサルタント\n2015年に某中古車検索サイト
 運営会社のオンプレからAWSへのデータセンター延伸を
 きっかけに社内CCoEリーダーとしてAWS事業を牽引。3年
 前に某中堅リユース企業のAWSセキュリティ推進のPMを
 きっかけに個人情報保護、DLP対策、SOC、CSPM、SAST導入
 を専門分野として活動。現在はSHIFT社内のCCoEリーダー
 としてAWS事業を牽引。AWS Ambassador、2025 Japan AWS Top Enginee
 r （Security）、2024-2025 Japan AWS All Certifications Engineers へ
 選出。\nLT Speaker\n山下 生真\n株式会社SHIFTITソリューシ
 ョン部 インフラサービスグループクラウドインフラエ
 ンジニア\n学生時代に組み込みを経験していたことか
 ら、アプリケーションエンジニアとしてキャリアがス
 タート。後に趣味であったシステムプログラミングか
 ら興味が Linux に移り、インフラエンジニアに転身。そ
 の後、AWS 上にて5種のサーバーをIaCにて構築する案件
 から、本格的にクラウドインフラエンジニアとしての
 キャリアを歩みはじめる。2025 Japan AWS Jr. Champion / 2025 Ja
 pan All AWS Certifications Engineer\n最新情報は公式Xをフォロ
 ー！カジュアル面談のご相談もDMでお気軽に\nSHIFT EVOLVE
 公式Xでは技術に関する最新情報やイベント情報を発信
 中。DMではカジュアル面談を受け付けています！お気
 軽にご相談ください。\nNotes\n当社は、connpass参加登録
 時及びSHIFT LIVE登録時にご入力いただいた個人情報を、
 以下の目的としてSHIFTグループ企業で利用することが
 あります。\n\n本セミナーの運営\nお問合せへの対応\nSH
 IFTが主催する他イベント・セミナーのご案内\n採用情
 報のご案内\n\n個人情報の取り扱いについてはプライバ
 シーポリシーをご参照いただき、同意の上お申し込み
 ください。株式会社SHIFTプライバシーポリシーSHIFT EVOLV
 Eのイベントに初めて参加される方は行動規範もご一読
 ください。SHIFT EVOLVE 行動規範\n参加費\n無料
LOCATION:
URL:https://techplay.jp/event/986945?utm_medium=referral&utm_source=ics&utm
 _campaign=ics
END:VEVENT
END:VCALENDAR
