BEGIN:VCALENDAR
VERSION:2.0
PRODID:-//https://techplay.jp//JP
CALSCALE:GREGORIAN
METHOD:PUBLISH
X-WR-CALDESC:「ChatGPT最新機能！エージェントを活用した次
 世代AI活用法」
X-WR-CALNAME:「ChatGPT最新機能！エージェントを活用した次
 世代AI活用法」
X-WR-TIMEZONE:Asia/Tokyo
BEGIN:VTIMEZONE
TZID:Asia/Tokyo
BEGIN:STANDARD
DTSTART:19700101T000000
TZOFFSETFROM:+0900
TZOFFSETTO:+0900
TZNAME:JST
END:STANDARD
END:VTIMEZONE
BEGIN:VEVENT
UID:986978@techplay.jp
SUMMARY:「ChatGPT最新機能！エージェントを活用した次世代
 AI活用法」
DTSTART;TZID=Asia/Tokyo:20251004T200000
DTEND;TZID=Asia/Tokyo:20251004T210000
DTSTAMP:20260420T004746Z
CREATED:20250929T121602Z
DESCRIPTION:イベント詳細はこちら\nhttps://techplay.jp/event/98697
 8?utm_medium=referral&utm_source=ics&utm_campaign=ics\n\n概要\n最新
 のChatGPTに搭載された「エージェント機能」を徹底解説
 ！従来のチャット型AIを超え、特定のタスクに特化し
 たAIエージェントを自分で作成・活用できる時代が到
 来しました。本講義では、エージェントの仕組みから
 実際の作成方法、教育・医療・ビジネスなど各分野で
 の活用事例までを具体的に紹介します。「人の代わり
 に考え、行動するAI」をあなたの仕事や学びにどう活
 かせるのかを実演しながら体感いただけます。\n対象
 者\n\nChatGPTの最新機能に関心がある方\n自分専用のAIエ
 ージェントを作りたい教育者・医療従事者・ビジネス
 パーソン\nAIを活用して業務効率化や学習支援を行いた
 い方\n\n参加費\n無料\n\n講師プロフィール\nかず看護師
 国家試験対策スペシャリスト / ヘルスケアイノベータ
 ー / AI教育推進者医療現場での豊富な経験と、800人以
 上の合格実績を持つ看護教育のエキスパート。教育支
 援においてはAI技術を積極的に取り入れ、学習効率を
 最大化する独自のメソッドを確立。近年はChatGPTを活用
 した学習支援や「AIエージェント」設計の普及に取り
 組み、教育・医療・ビジネスの現場におけるAI活用の
 最前線を牽引している。\n主な実績\n\n7年連続で合格率
 ・満足度90%以上を達成\n800人以上の看護学生の国家試
 験合格をサポート\n「Nurse Path」看護学校運営による体
 系的な教育支援を展開\n全国で看護師国家試験対策セ
 ミナーを実施\n看護記録AIシステムのカスタマーサクセ
 ス事業の立ち上げ\nChatGPTを活用した教育・業務効率化
 の研修を多数開催\n\n現職\n\nNurse Path 学長\nマインヘル
 スヘルス株式会社 看護師支援事業部 サービス兼プロ
 ジェクトマネージャー\n看護記録AIシステム カスタマ
 ーサクセスマネージャー\nナースウィッシュ協会 関西
 支部長\nナースまつり実行委員\n日本生成AI推進協会 メ
 ンバー\n看護タクシー事業 プロジェクトリーダー\n\n臨
 床経験と教育実績を融合させた独自の指導法に加え、A
 Iエージェントを活用した効率的な学習・業務支援を提
 案。教育現場から医療業界、さらにはビジネス分野ま
 で、幅広いフィールドで「AIと人の共創」を推進して
 いる。\n\n主催\n日本生成AI推進協会\n\n参加方法\n\n下記
 「申し込む」ボタンよりお申込み\n自動返信メールに
 て詳細をお送りします\n開催時刻になりましたら、Zoom
 へアクセス\n\n※定員30名・先着順となります
LOCATION:
URL:https://techplay.jp/event/986978?utm_medium=referral&utm_source=ics&utm
 _campaign=ics
END:VEVENT
END:VCALENDAR
