BEGIN:VCALENDAR
VERSION:2.0
PRODID:-//https://techplay.jp//JP
CALSCALE:GREGORIAN
METHOD:PUBLISH
X-WR-CALDESC:【第2回】アクセシビリティを〝提案の武器〟
 に変える方法論　～「予算がない」「効果が見えない
 」を覆す、クライアント企業を動かす価値転換の伝え
 方～
X-WR-CALNAME:【第2回】アクセシビリティを〝提案の武器〟
 に変える方法論　～「予算がない」「効果が見えない
 」を覆す、クライアント企業を動かす価値転換の伝え
 方～
X-WR-TIMEZONE:Asia/Tokyo
BEGIN:VTIMEZONE
TZID:Asia/Tokyo
BEGIN:STANDARD
DTSTART:19700101T000000
TZOFFSETFROM:+0900
TZOFFSETTO:+0900
TZNAME:JST
END:STANDARD
END:VTIMEZONE
BEGIN:VEVENT
UID:987016@techplay.jp
SUMMARY:【第2回】アクセシビリティを〝提案の武器〟に変
 える方法論　～「予算がない」「効果が見えない」を
 覆す、クライアント企業を動かす価値転換の伝え方～
DTSTART;TZID=Asia/Tokyo:20251009T160000
DTEND;TZID=Asia/Tokyo:20251009T163000
DTSTAMP:20260420T004645Z
CREATED:20250930T044408Z
DESCRIPTION:イベント詳細はこちら\nhttps://techplay.jp/event/98701
 6?utm_medium=referral&utm_source=ics&utm_campaign=ics\n\n概要\nアク
 セシビリティの重要性を理解しても、クライアント企
 業からは「予算がない」「納期が…」といった反論が
 つきものです。本セミナーでは、それをコストの問題
 ではなく機会損失の防止や未来への投資といった、ク
 ライアント企業の事業メリットに繋がる価値として語
 るための具体的な会話術をロールプレイング形式で学
 びます。専門知識がなくても、自信を持って顧客の懸
 念を払拭し、むしろ「ぜひやりたい」と思わせるため
 の実践的なスキルを習得できます。※本セミナーは4回
 シリーズでお届けします。\n登壇者\n\nデザインスタジ
 オCULUMU / CEO室 室長\n佐藤 徹（さとう とおる）\n株式会
 社STYZにて、SDGs・CSR・パーパスを軸とした企業向けコ
 ンサルティングや新規事業開発支援を手掛ける。医療
 ・福祉、文化・芸術継承など多岐にわたる非営利団体
 の運営支援にも従事し、幅広い視点でクライアントの
 課題解決に取り組む。 インクルーシブデザインスタジ
 オCULUMUでは、調査研究・新規事業開発、コンテンツマ
 ーケティングや啓発に従事している。\n\nこんな方にお
 すすめ\n\nクライアントからのアクセシビリティ要件に
 対し、自信を持って提案・見積りしたい方\n官公庁や
 大手企業のコンペで、アクセシビリティを武器として
 受注率を高めたい方\nアクセシビリティ対応を新たな
 収益源とし、受注単価を向上させたい事業責任者の方\
 n信頼できる専門家と連携し、品質の高いサイトを安心
 してクライアントに提供したい方\n競合他社との明確
 な差別化要因となる、付加価値の高いサービスメニュ
 ーを求めている方\n\nインクルーシブデザインスタジオ
 CULUMUについて\nインクルーシブデザインスタジオCULUMU
 は、高齢者や障がい者、外国人やマタニティ、Z世代・
 α世代など多様なユーザー、当事者と共創するインク
 ルーシブデザインスタジオです。ビジネスコンサルタ
 ント、UXデザイナー、UIデザイナー 、プロダクトマネ
 ージャー、エンジニアなど多数スペシャリストが在籍
 しているので、さまざまな事業開発の支援が可能です
 。また5\,000団体以上の非営利団体との繋がりを通じた
 希少なN=1が多く集まる調査パネルを基に、これまでリ
 ーチが困難であった人々を含む多様な人々とマッチン
 グと定性的な調査が提供可能です。当サービスは公益
 財団法人日本デザイン振興会より「NPOやNGOと連携し、
 当事者との距離が近く洗練されたプロダクト開発の手
 助けになる」と評価いただき、「2024年度グッドデザイ
 ン賞」を受賞しました。これまでデザイン＆開発案件
 で大手企業からスタートアップまで過去100件以上の幅
 広い取引実績があります。また、NPO・研究機関など多
 様なユーザーを支援するD&Iパートナーや開発パートナ
 ーも豊富で、従来の事業開発のみならず、社会課題へ
 の専門性やD&Iに取り組むプロジェクトも豊富な経験が
 あります。\n参加費\n無料\n注意事項\n\n欠席される場合
 は、お手数ですが速やかにキャンセル処理をお願い致
 します。\n無断キャンセルや欠席が続く場合、次回以
 降の参加をお断りさせていただく場合がございます。\
 n
LOCATION:
URL:https://techplay.jp/event/987016?utm_medium=referral&utm_source=ics&utm
 _campaign=ics
END:VEVENT
END:VCALENDAR
