BEGIN:VCALENDAR
VERSION:2.0
PRODID:-//https://techplay.jp//JP
CALSCALE:GREGORIAN
METHOD:PUBLISH
X-WR-CALDESC:AWSセキュリティ内製化の最適解とは？運用体
 制構築のために責任者が抑えるべきポイント
X-WR-CALNAME:AWSセキュリティ内製化の最適解とは？運用体
 制構築のために責任者が抑えるべきポイント
X-WR-TIMEZONE:Asia/Tokyo
BEGIN:VTIMEZONE
TZID:Asia/Tokyo
BEGIN:STANDARD
DTSTART:19700101T000000
TZOFFSETFROM:+0900
TZOFFSETTO:+0900
TZNAME:JST
END:STANDARD
END:VTIMEZONE
BEGIN:VEVENT
UID:987045@techplay.jp
SUMMARY:AWSセキュリティ内製化の最適解とは？運用体制構
 築のために責任者が抑えるべきポイント
DTSTART;TZID=Asia/Tokyo:20251020T130000
DTEND;TZID=Asia/Tokyo:20251020T134500
DTSTAMP:20260422T145907Z
CREATED:20250930T071543Z
DESCRIPTION:イベント詳細はこちら\nhttps://techplay.jp/event/98704
 5?utm_medium=referral&utm_source=ics&utm_campaign=ics\n\nAWSセキュリ
 ティ内製化の最適解とは？運用体制構築のために責任
 者が抑えるべきポイント\n概要\nAWSをはじめとするクラ
 ウドを活用したWebサービスやクラウドサービスの提供
 が拡大する中、セキュリティの重要性は日々高まって
 います。一方で、「セキュリティ体制を自社で整備・
 内製化したい」と考える企業は多いものの、ノウハウ
 や人材の不足、24時間体制の難しさなどから、完全な
 内製化の実現には大きなハードルがあるのが実情です
 。\n本セミナーでは、クラウドセキュリティ内製化の
 メリットと限界を整理し、内製化を進める上での重要
 なポイントやつまずきやすい落とし穴とその回避策に
 ついて解説いたします。さらに、AWS環境に精通した専
 門家がオンライン常駐して伴走し日々の運用や改善を
 支援する「CloudFastener（クラウドファスナー）」 をご
 紹介。ノウハウや人材不足といった課題を解消し、安
 心してクラウド活用を進められる実践的な解決策をお
 伝えします。\nAWS環境の管理や運用に携わる責任者や
 セキュリティ担当者の方におすすめの内容です。ぜひ
 ご参加ください。\n※本セミナーの定員は100名です。10
 0名を超えた場合は、申込を締め切りますので、予めご
 了承ください。\n---------------------------------------------主
 催：株式会社サイバーセキュリティクラウド日時：2025
 年10月20日（月）13:00～13:45場所：オンライン費用：無
 料セミナーへの申込、詳細：https://go.cloud-fastener.com/2025
 1020/techplay-------------------------------------------\nこんな方に
 おすすめです！\n\nAWS環境のセキュリティ体制を整えた
 いが、自社でどこまで内製すべきか判断に迷っている
 方\nCISO、情報システム部門長、開発部門長としてクラ
 ウドセキュリティ体制の構築を検討している方\nAWS環
 境の運用責任者やセキュリティ担当者として、日々の
 運用に課題を感じている方\nセキュリティ運用を標準
 化・効率化したいが方法が分からない方\n\n注意事項\n\
 nリクルーティング、勧誘など、採用目的でのイベント
 参加はお断りしております。\nキャンセル待ち・補欠
 ・落選の方はご参加いただくことが出来ませんのでご
 了承ください。\n欠席される場合は、お手数ですが速
 やかにキャンセル処理をお願い致します。\n無断キャ
 ンセルや欠席が続く場合、次回以降の参加をお断りさ
 せていただく場合がございます。\n
LOCATION:
URL:https://techplay.jp/event/987045?utm_medium=referral&utm_source=ics&utm
 _campaign=ics
END:VEVENT
END:VCALENDAR
