BEGIN:VCALENDAR
VERSION:2.0
PRODID:-//https://techplay.jp//JP
CALSCALE:GREGORIAN
METHOD:PUBLISH
X-WR-CALDESC:Ｓｋｙ株式会社 職種別説明会(組込みエンジニ
 ア)  ～身近な製品を支える組込み技術　魅力あるＳｋ
 ｙ株式会社の取り組みについて
X-WR-CALNAME:Ｓｋｙ株式会社 職種別説明会(組込みエンジニ
 ア)  ～身近な製品を支える組込み技術　魅力あるＳｋ
 ｙ株式会社の取り組みについて
X-WR-TIMEZONE:Asia/Tokyo
BEGIN:VTIMEZONE
TZID:Asia/Tokyo
BEGIN:STANDARD
DTSTART:19700101T000000
TZOFFSETFROM:+0900
TZOFFSETTO:+0900
TZNAME:JST
END:STANDARD
END:VTIMEZONE
BEGIN:VEVENT
UID:987419@techplay.jp
SUMMARY:Ｓｋｙ株式会社 職種別説明会(組込みエンジニア) 
  ～身近な製品を支える組込み技術　魅力あるＳｋｙ株
 式会社の取り組みについて
DTSTART;TZID=Asia/Tokyo:20251021T190000
DTEND;TZID=Asia/Tokyo:20251021T193000
DTSTAMP:20260425T150425Z
CREATED:20251008T040150Z
DESCRIPTION:イベント詳細はこちら\nhttps://techplay.jp/event/98741
 9?utm_medium=referral&utm_source=ics&utm_campaign=ics\n\nＳｋｙ株式
 会社 職種別説明会(組込みエンジニア)～身近な製品を
 支える組込み技術　魅力あるＳｋｙ株式会社の取り組
 みについて～\n📣セミナー紹介\n今回のテーマは『Ｓ
 ｋｙ株式会社 職種別説明会(組込みエンジニア)～身近
 な製品を支える組込み技術　魅力あるＳｋｙ株式会社
 の取り組みについて～』です。\n当セミナーではＳｋ
 ｙ株式会社の組込み開発エンジニアに興味を持ってい
 ただいた方に向けて、その業務内容やキャリアプラン
 についてより詳細にご理解いただき、解像度を上げて
 いただくことを目的としております。この動画を通し
 て興味を持ち、Ｓｋｙ株式会社に応募いただけますと
 幸いです！\n📚登壇内容(一部抜粋)\n■Ｓｋｙ株式会社
 の組織概要・弊社の事業内容や組織概要について・福
 利厚生・評価制度など社内での取り組みについてお話
 させていただきます。\n■開発実績と社員インタビュ
 ー実際にＳｋｙ株式会社で組込みエンジニアとして働
 く現場社員にご登壇いただき案件内容やキャリアパス
 についてインタビュー形式で深掘ります！\n■採用情
 報Ｓｋｙ株式会社のキャリア採用において、求める人
 物像や選考フローについてご紹介いたします。\n✨こ
 んな方に見てほしい！\n・組込み開発エンジニアの業
 務内容に興味のある方・組込み開発エンジニアとして
 のキャリアパスを参考にしたい方・組込み領域にチャ
 レンジしたい方・Ｓｋｙ株式会社に興味があるエンジ
 ニアの方・組込み開発の業務イメージがあまりついて
 いない方（職種理解にも繋がります）\n⏰日程\n10月21
 日（火）19:00～19:30≪動画配信≫\n【配信方法】 オンラ
 イン配信\n👫登壇者\n現役で活躍する組込みエンジニ
 アが登壇します！◎普段はなかなか聞けない、最前線
 で活躍する生の声を聞いてみてください！\n小室\nキャ
 リア採用 2001年入社クライアント・システム開発事業
 本部 戦略技術部\n前職では通信モジュール・交換機の
 開発を経験。\nＳｋｙ株式会社に入社後、デジタル複
 合機の開発に十数年携わり、\n管理職になった以降は
 医療機器、FA機器などのユーザーを担当し、\n現在は事
 業部戦略の検討と、組込み領域全般の統括マネージャ
 を担当。\n半導体領域の拡大に注力しています。\n\n中
 山\nキャリア採用 2023年入社クライアント・システム開
 発事業本部 技術部\n前職ではWebアプリケーションエン
 ジニアとして、\n婚礼業界様向けの基幹システムの開
 発をしておりました。\nＳｋｙ株式会社に入社してか
 らは、\n複合機に搭載・連携するアプリケーションの
 開発を担当しています。\n現在は、アプリケーション
 開発以外にも複合機本体の\n組込み開発にチャレンジ
 させていただいています。\n\n唐鎌\nキャリア採用 2024
 年入社クライアント・システム開発事業本部 技術部\n
 前職から開発職に就いており、主に無線 / ネットワー
 ク関連の製品開発を担当しておりました。\nＳｋｙ株
 式会社に入社してからは、\n複合機に関するネットワ
 ーク/セキュリティ関連の開発を受け持っておりました
 。\n現在は今期開始の新規ユーザー業務にチームリー
 ダーとして参画し、\n移動体に関する通信制御の開発
 に従事しています。\n\n\n\n予約方法\n「イベントに申し
 込む」ボタンを押下いただき、必要事項をご入力くだ
 さい。ご入力後、ご案内メールを送付いたします。\n
 参加費\n無料\n注意事項\n・何らかのトラブルにより配
 信が出来ない際は、翌日以降に再配信のご案内をさせ
 ていただきます。・説明会当日は、カメラオフにて参
 加いただきます。・説明会開催中は、一切の録音、録
 画、画面キャプチャー、SNSへの投稿をお断りしており
 ます。・本説明会では、個別の質問にはお答えが出来
 かねますので、ご了承ください。・システムトラブル
 により映像・音声に乱れが生じた場合も対応できかね
 ますので、　ご自身で調整をお願いいたします。また
 、視聴にかかる通信費などは、視聴される方のご負担
 となります。・プログラムは、予告なく変更になる場
 合がございます。
LOCATION:
URL:https://techplay.jp/event/987419?utm_medium=referral&utm_source=ics&utm
 _campaign=ics
END:VEVENT
END:VCALENDAR
